Workbook

Sheet T1.23
A1: BÁO CÁO THU CHI QUỸ NỒI CHÁO HÀ NỘI
A2: THÁNG 01/ 2023
A4: NGÀY | B4: DIỄN GIẢI | C4: HÌNH THỨC CM | E4: ỦNG HỘ TIỀN | I4: ỦNG HỘ HIỆN VẬT
E5: THU | F5: CHI | G5: TỒN | H5: Khoản mục | I5: GẠO (Kg) | J5: Dầu ăn (Can) | K5: Bột canh (Thùng) | L5: Bí đỏ (Kg) | M5: Cà rốt (Kg) | N5: Mì tôm (Thùng) | O5: Nước rửa bát (Can)
C6: KTX | D6: TX
B7: TỒN ĐẦU KỲ | G7: 73981451
A8: 01/01 | B8: Ha Thai Thanh ban Loan u/h | C8: x | E8: 500000 | G8: =G7+E8-F8 -> 74481451 | H8: CMKTX
A9: 02/01 | B9: Phí QLTK | F9: 2200 | G9: =G8+E9-F9 -> 74479251 | H9: Chi khác
A10: 08/01 | B10: Nhom thien nguyen cua Thu Phuong va dong doi u/h | C10: x | E10: 3000000 | G10: =G9+E10-F10 -> 77479251 | H10: CMKTX
A11: 08/01 | B11: Cac con ong Pham Dinh Duc A4 tap the 128C Dai La u/h | C11: x | E11: 500000 | G11: =G10+E11-F11 -> 77979251 | H11: CMKTX
A12: 08/01 | B12: Grp Fam Nam Dinh 2020 va chi Ngoc u/h | C12: x | E12: 500000 | G12: =G11+E12-F12 -> 78479251 | H12: CMKTX
A13: 08/01 | B13: Gia dinh ba Hue, ba Ngoc, ba Yen, ba Huyen va MTQ u/h | C13: x | E13: 1000000 | G13: =G12+E13-F13 -> 79479251 | H13: CMKTX
A14: 08/01 | B14: MTQ u/h | C14: x | E14: 500000 | G14: =G13+E14-F14 -> 79979251 | H14: CMKTX
A15: 10/01 | B15: Mua thịt | F15: 720000 | G15: =G14+E15-F15 -> 79259251 | H15: Thịt, rau
A16: 10/01 | B16: Mua rau | F16: 300000 | G16: =G15+E16-F16 -> 78959251 | H16: Thịt, rau
A17: 10/01 | B17: Chi em nha Tu Nguyen Linh u/h | C17: x | E17: 1000000 | G17: =G16+E17-F17 -> 79959251 | H17: CMKTX
A18: 15/01 | B18: Bin10 U/h | C18: x | E18: 400000 | G18: =G17+E18-F18 -> 80359251 | H18: CMKTX
A19: 25/01 | B19: Lãi | E19: 5366 | G19: =G18+E19-F19 -> 80364617 | H19: Lãi
A20: 29/01 | B20: Pham Ngoc u/h | C20: x | E20: 300000 | G20: =G19+E20-F20 -> 80664617 | H20: CMKTX
A21: 30/01 | B21: Lãi tiền gửi | E21: 1027562 | G21: =G20+E21-F21 -> 81692179 | H21: Lãi
B22: TỒN CUỐI KỲ | E22: =SUM(E8:E21) -> 8732928 | F22: =SUM(F8:F21) -> 1022200 | G22: =SUM(G7+E22-F22) -> 81692179 | I22: =SUM(I7:I21) -> 0 | J22: =SUM(J7:J21) -> 0 | K22: =SUM(K7:K21) -> 0 | L22: =SUM(L7:L21) -> 0 | M22: =SUM(M7:M21) -> 0 | N22: =SUM(N7:N21) -> 0
A24: Note: Đại đức Thích Thanh Huy - Trụ trì chùa Phụng Lộc ủng hộ mì tôm và trứng gà cho mọi người ăn trưa ở mỗi buổi nấu

Sheet T2.23
A1: BÁO CÁO THU CHI QUỸ NỒI CHÁO HÀ NỘI
A2: THÁNG 02/2023
A4: NGÀY | B4: DIỄN GIẢI | C4: HÌNH THỨC CM | E4: ỦNG HỘ TIỀN | I4: ỦNG HỘ HIỆN VẬT
E5: THU | F5: CHI | G5: TỒN | H5: Khoản mục | I5: GẠO (Kg) | J5: Dầu ăn (Can) | K5: Bột canh (Thùng) | L5: Giấy ăn (Hộp) | M5: Cốc nhựa (Chiếc) | N5: Bí đỏ (Kg) | O5: Cà rốt (Kg) | P5: Mì tôm (Thùng) | Q5: Nước rửa bát (Can)
C6: KTX | D6: TX
B7: TỒN ĐẦU KỲ | G7: =T1.23!G22 -> 81692179
A8: 01/02 | B8: Phí QLTK | F8: 2200 | G8: =G7+E8-F8 -> 81689979 | H8: Chi khác
A9: 05/02 | B9: Vu Thi Thu Ha U/h | C9: x | E9: 500000 | G9: =G8+E9-F9 -> 82189979 | H9: CMKTX
A10: 12/02 | B10: Gia đình Đắc Nguyên U/h | C10: x | E10: 1000000 | G10: =G9+E10-F10 -> 83189979 | H10: CMKTX
A11: 12/02 | B11: Chị Ngọc (Gia đình cháu Minh Thao Manh Hung) U/h | C11: x | E11: 3000000 | G11: =G10+E11-F11 -> 86189979 | H11: CMKTX
A12: 12/02 | B12: Em Hanh U/h | C12: x | E12: 100000 | G12: =G11+E12-F12 -> 86289979 | H12: CMKTX
A13: 12/02 | B13: Gia đình chị Thu, anh Bách u/h | G13: =G12+E13-F13 -> 86289979 | H13: Hiện vật | I13: 100
A14: 12/02 | B14: Bạn chị Dương Thị Thu Hương u/h | G14: =G13+E14-F14 -> 86289979 | H14: Hiện vật | I14: 10
A15: 12/02 | B15: Chị Loan Phạm Bích u/h | G15: =G14+E15-F15 -> 86289979 | H15: Hiện vật | I15: 20 | L15: 2
A16: 12/02 | B16: Chị Nguyen Thuy Hoa u/h | G16: =G15+E16-F16 -> 86289979 | H16: Hiện vật | M16: 1000
A17: 19/02 | B17: Chị Thu bạn của chị Hương U/h | C17: x | E17: 2000000 | G17: =G16+E17-F17 -> 88289979 | H17: CMKTX
A18: 19/02 | B18: Chị Sơn U/h | C18: x | E18: 300000 | G18: =G17+E18-F18 -> 88589979 | H18: CMKTX
A19: 19/02 | B19: Cô Mít (200k); GĐ cô Huệ (100k); Lê Thị Thanh (100k); Lê Việt Long (100k); Lê Bảo Hân (100k); Phạm Minh Quang (100k); Nguyễn Hồng Minh (100k); Nguyễn Đình Lương Ngọc (100k); Nguyễn Đình Châu Ngát (100k); Nguyễn Công Nghiệp (100k); Nguyễn Công Nguyên (100k); Nguyễn Thu Huyền (100k); Chị Đinh Thị Sung (500k) | C19: x | E19: =200000+100000+100000+100000+100000+100000+100000+100000+100000+100000+100000+100000+500000 -> 1800000 | G19: =G18+E19-F19 -> 90389979 | H19: CMKTX
A20: 20/02 | B20: Hà U/h | C20: x | E20: 300000 | G20: =G19+E20-F20 -> 90689979 | H20: CMKTX
A21: 22/02 | B21: MTQ U/h | C21: x | E21: 500000 | G21: =G20+E21-F21 -> 91189979 | H21: CMKTX
A22: 25/02 | B22: Lãi | E22: 6841 | G22: =G21+E22-F22 -> 91196820 | H22: Lãi
A23: 26/02 | B23: Gia đình Hòa u/h | G23: =G22+E23-F23 -> 91196820 | H23: Hiện vật | I23: 50
A24: 26/02 | B24: Cô Thuận U/h | G24: =G23+E24-F24 -> 91196820 | H24: Hiện vật | I24: 10
A25: 26/02 | B25: MTQ U/h | G25: =G24+E25-F25 -> 91196820 | H25: Hiện vật | I25: 20 | J25: 1
A26: 26/02 | B26: MTQ U/h | G26: =G25+E26-F26 -> 91196820 | H26: Hiện vật | Q26: 1
A27: 26/02 | B27: Chị Ngọc Phạm (Quỹ Chia sẻ Mỹ Đình Pearl) U/h | C27: x | E27: 2000000 | G27: =G26+E27-F27 -> 93196820 | H27: CMKTX
A28: 27/02 | B28: Lãi tiền gửi | E28: 2991780 | G28: =G27+E28-F28 -> 96188600 | H28: Lãi
A29: 27/02 | B29: Nộp thêm vào TK tiền gửi tiết kiệm số 0025000972908 | F29: 60000000 | G29: =G28+E29-F29 -> 36188600
B30: TỒN CUỐI KỲ | E30: =SUM(E8:E29) -> 14498621 | F30: =SUM(F8:F29) -> 60002200 | G30: =SUM(G7+E30-F30) -> 36188600 | I30: =SUM(I7:I29) -> 210 | J30: =SUM(J7:J29) -> 1 | K30: =SUM(K7:K29) -> 0 | L30: =SUM(L7:L29) -> 2 | M30: =SUM(M7:M29) -> 1000 | N30: =SUM(N7:N29) -> 0 | O30: =SUM(O7:O29) -> 0 | P30: =SUM(P7:P29) -> 0 | Q30: =SUM(Q7:Q29) -> 1
A32: Note: Đại đức Thích Thanh Huy - Trụ trì chùa Phụng Lộc ủng hộ mì tôm và trứng gà cho mọi người ăn trưa ở mỗi buổi nấu

Sheet T3.23
A1: BÁO CÁO THU CHI QUỸ NỒI CHÁO HÀ NỘI
A2: THÁNG 03/2023
A4: NGÀY | B4: DIỄN GIẢI | C4: HÌNH THỨC CM | E4: ỦNG HỘ TIỀN | I4: ỦNG HỘ HIỆN VẬT
E5: THU | F5: CHI | G5: TỒN | H5: Khoản mục | I5: GẠO (Kg) | J5: Dầu ăn (Can) | K5: Bột canh (Thùng) | L5: Cốc nhựa (Chiếc) | M5: Bí đỏ (Kg) | N5: Cà rốt (Kg) | O5: Mì tôm (Thùng) | P5: Trứng (quả) | Q5: Nước rửa bát (Can)
C6: KTX | D6: TX
B7: TỒN ĐẦU KỲ | G7: =T2.23!G30 -> 36188600
A8: 02/03 | B8: Mua nến và hoa cúng chùa | F8: 400000 | G8: =G7+E8-F8 -> 35788600 | H8: Chi khác
A9: 05/03 | B9: Đổi 2 bình ga | F9: 800000 | G9: =G8+E9-F9 -> 34988600 | H9: Gas
A10: 05/03 | B10: Nguyen Thi Thoa U/h | C10: x | E10: 500000 | G10: =G9+E10-F10 -> 35488600 | H10: CMKTX
A11: 05/03 | B11: Thầy Thích Thanh Huy - Chùa Phụng Lộc CMTX T4-T12/2023 | D11: x | E11: 13500000 | G11: =G10+E11-F11 -> 48988600 | H11: CMTX
A12: 06/03 | B12: Người nhà BN U/h | C12: x | G12: =G11+E12-F12 -> 48988600 | H12: CMKTX | I12: 10
A13: 07/03 | B13: Me 3 con U/h | C13: x | E13: 300000 | G13: =G12+E13-F13 -> 49288600 | H13: CMKTX
A14: 10/03 | B14: Ba Chế (20k); Chị Bình (200k); bác Lê Thị Kim Dung (200k); | C14: x | E14: =20000+200000+200000 -> 420000 | G14: =G13+E14-F14 -> 49708600 | H14: CMKTX
A15: 10/03 | B15: Chị Nguyen Thuy Hoa u/h | C15: x | G15: =G14+E15-F15 -> 49708600 | H15: CMKTX | L15: 2000
A16: 10/03 | B16: Chị Sơn U/h | C16: x | G16: =G15+E16-F16 -> 49708600 | H16: CMKTX | P16: 30
A17: 13/03 | B17: Nguyen Thi Hang đại diện nhóm tình thương 2023 u/h | C17: x | E17: 1300000 | G17: =G16+E17-F17 -> 51008600 | H17: CMKTX
A18: 18/03 | B18: Bin10 u/h | D18: x | E18: 300000 | G18: =G17+E18-F18 -> 51308600 | H18: CMTX
A19: 18/03 | B19: Nguyen Thanh Tra ban Duong Thi Thu Huong u/h | C19: x | E19: 100000 | G19: =G18+E19-F19 -> 51408600 | H19: CMKTX
A20: 19/03 | B20: Người nhà BN U/h | C20: x | E20: 300000 | G20: =G19+E20-F20 -> 51708600 | H20: CMKTX
A21: 23/03 | B21: MTQ u/h | C21: x | E21: 500000 | G21: =G20+E21-F21 -> 52208600 | H21: CMKTX
A22: 24/03 | B22: MTQ u/h | C22: x | E22: 500000 | G22: =G21+E22-F22 -> 52708600 | H22: CMKTX
A23: 25/03 | B23: Lãi | E23: 3679 | G23: =G22+E23-F23 -> 52712279 | H23: Lãi
A24: 26/03 | B24: Nguyen Hai Yen u/h | C24: x | E24: 200000 | G24: =G23+E24-F24 -> 52912279 | H24: CMKTX
A25: 26/03 | B25: Dinh Thi Vi U/h | C25: x | E25: 500000 | G25: =G24+E25-F25 -> 53412279 | H25: CMKTX
A26: 26/03 | B26: Bà Hương (100k); bà Mai (100k); bà Diệu Hỷ (100k); Nguyễn Hương Giang (500k) | C26: x | E26: =100000+100000+100000+500000 -> 800000 | G26: =G25+E26-F26 -> 54212279 | H26: CMKTX
A27: 27/03 | B27: Thu Hien ban Duong Thi Thu Huong u/h | C27: x | E27: 300000 | G27: =G26+E27-F27 -> 54512279 | H27: CMKTX
A28: 27/03 | B28: Bich Ngoc ban Duong Thi Thu Huong u/h | C28: x | E28: 200000 | G28: =G27+E28-F28 -> 54712279 | H28: CMKTX
A29: 27/03 | B29: Lam Nguyen ban Duong Thi Thu Huong u/h | C29: x | E29: 300000 | G29: =G28+E29-F29 -> 55012279 | H29: CMKTX
A30: 29/03 | B30: TT tiền rau T2+3 | F30: 1950000 | G30: =G29+E30-F30 -> 53062279 | H30: Thịt. Rau
A31: 29/03 | B31: TT tiền thịt T2+3 | F31: 4530000 | G31: =G30+E31-F31 -> 48532279 | H31: Thịt. Rau
B32: TỒN CUỐI KỲ | E32: =SUM(E8:E31) -> 20023679 | F32: =SUM(F8:F31) -> 7680000 | G32: =SUM(G7+E32-F32) -> 48532279 | I32: =SUM(I7:I31) -> 10 | J32: =SUM(J7:J31) -> 0 | K32: =SUM(K7:K31) -> 0 | L32: =SUM(L7:L31) -> 2000 | M32: =SUM(M7:M31) -> 0 | N32: =SUM(N7:N31) -> 0 | O32: =SUM(O7:O31) -> 0 | P32: =SUM(P7:P31) -> 30 | Q32: =SUM(Q7:Q31) -> 0
A34: Note: Đại đức Thích Thanh Huy - Trụ trì chùa Phụng Lộc ủng hộ tiền đổi ga, ủng hộ mì tôm và trứng gà cho mọi người ăn trưa ở mỗi buổi nấu

Sheet T4.23
A1: BÁO CÁO THU CHI QUỸ NỒI CHÁO HÀ NỘI
A2: THÁNG 04/2023
A4: NGÀY | B4: DIỄN GIẢI | C4: HÌNH THỨC CM | E4: ỦNG HỘ TIỀN | I4: ỦNG HỘ HIỆN VẬT
E5: THU | F5: CHI | G5: TỒN | H5: Khoản mục | I5: GẠO (Kg) | J5: Dầu ăn (Can) | K5: Bột canh (Thùng) | L5: Bí đỏ (Kg) | M5: Cà rốt (Kg) | N5: Mì tôm (Thùng) | O5: Găng tay (Hộp) | P5: Dây buộc nồi (Cái) | Q5: Giấy ăn (Bịch) | R5: Nước rửa bát (Can)
C6: KTX | D6: TX
B7: TỒN ĐẦU KỲ | G7: =T3.23!G32 -> 48532279
A8: 01/04 | B8: Tran Van U/h | C8: x | E8: 1000654 | G8: =G7+E8-F8 -> 49532933 | H8: CMKTX
A9: 02/04 | B9: Huong Phan (500k); Hồng Nhung (300k); Kim Chi (300k); Nguyễn Nguyệt Anh (200k) | C9: x | E9: =500000+300000+300000+200000 -> 1300000 | G9: =G8+E9-F9 -> 50832933 | H9: CMKTX
A10: 09/04 | B10: Bui Thi Thu Thuy bạn Duong Thi Thu Huong U/h | C10: x | E10: 100000 | G10: =G9+E10-F10 -> 50932933 | H10: CMKTX
A11: 09/04 | B11: Tran Thi Khanh Van bạn Duong Thi Thu Huong U/h | C11: x | E11: 100000 | G11: =G10+E11-F11 -> 51032933 | H11: CMKTX
A12: 09/04 | B12: Lucky Flower u/h | H12: Hiện vật | O12: 1 | P12: 3 | Q12: 1
A13: 12/04 | B13: Chị Nga, anh Dũng U/h | C13: x | E13: 2000000 | G13: =G11+E13-F13 -> 53032933 | H13: CMKTX
A14: 13/04 | B14: Minh Minh U/h | C14: x | E14: 200000 | G14: =G13+E14-F14 -> 53232933 | H14: CMKTX
A15: 13/04 | B15: Hoàng Thị Loan U/h | C15: x | E15: 200000 | G15: =G14+E15-F15 -> 53432933 | H15: CMKTX
A16: 13/04 | B16: Nhóm từ thiện 2023 u/h | C16: x | E16: 1000000 | G16: =G15+E16-F16 -> 54432933 | H16: CMKTX
A17: 16/04 | B17: Bác Nguyen Thi Thanh Tan U/h | C17: x | E17: 500000 | G17: =G16+E17-F17 -> 54932933 | H17: CMKTX
A18: 18/04 | B18: Con rể phật tử chùa Phụng Lộc u/h | C18: x | E18: 200000 | G18: =G17+E18-F18 -> 55132933 | H18: CMKTX
A19: 20/04 | B19: MTQ U/h | C19: x | E19: 500000 | G19: =G18+E19-F19 -> 55632933 | H19: CMKTX
A20: 23/04 | B20: MTQ U/h | C20: x | E20: 100000 | G20: =G19+E20-F20 -> 55732933 | H20: CMKTX
A21: 23/04 | B21: Anh Vu Hong Tuan u/h | C21: x | E21: 1000000 | G21: =G20+E21-F21 -> 56732933 | H21: CMKTX
A22: 25/04 | B22: Lãi | E22: 4487 | G22: =G21+E22-F22 -> 56737420 | H22: Lãi
A23: 27/04 | B23: TT tiền thịt | F23: 2530000 | G23: =G22+E23-F23 -> 54207420 | H23: Thịt. Rau
A24: 27/04 | B24: TT tiền rau | F24: 1240000 | G24: =G23+E24-F24 -> 52967420 | H24: Thịt. Rau
A25: 28/04 | B25: Lãi tiền gửi | E25: 1012603 | G25: =G24+E25-F25 -> 53980023 | H25: Lãi
A26: 28/04 | B26: Nộp thêm vào TK tiền gửi tiết kiệm số 0001020652382 | F26: 30000000 | G26: =G25+E26-F26 -> 23980023
A27: 28/04 | B27: Bin10 u/h | D27: x | E27: 300000 | G27: =G26+E27-F27 -> 24280023 | H27: CMTX
B28: TỒN CUỐI KỲ | E28: =SUM(E8:E27) -> 9517744 | F28: =SUM(F8:F27) -> 33770000 | G28: =SUM(G7+E28-F28) -> 24280023 | I28: =SUM(I7:I27) -> 0 | J28: =SUM(J7:J27) -> 0 | K28: =SUM(K7:K27) -> 0 | L28: =SUM(L7:L27) -> 0 | M28: =SUM(M7:M27) -> 0 | N28: =SUM(N7:N27) -> 0 | O28: =SUM(O8:O27) -> 1 | P28: =SUM(P8:P27) -> 3 | Q28: =SUM(Q8:Q27) -> 1
A30: Note: Đại đức Thích Thanh Huy - Trụ trì chùa Phụng Lộc ủng hộ mì tôm và trứng gà cho mọi người ăn trưa ở mỗi buổi nấu

Sheet T5.23
A1: BÁO CÁO THU CHI QUỸ NỒI CHÁO HÀ NỘI
A2: THÁNG 05/2023
A4: NGÀY | B4: DIỄN GIẢI | C4: HÌNH THỨC CM | E4: ỦNG HỘ TIỀN | I4: ỦNG HỘ HIỆN VẬT
E5: THU | F5: CHI | G5: TỒN | H5: Khoản mục | I5: GẠO (Kg) | J5: Cốc nhựa (Chiếc) | K5: Dầu ăn (Can) | L5: Bột canh (Thùng) | M5: Bí đỏ (Kg) | N5: Cà rốt (Kg) | O5: Mì tôm (Thùng) | P5: Nước rửa bát (Can)
C6: KTX | D6: TX
B7: TỒN ĐẦU KỲ | G7: =T4.23!G28 -> 24280023
A8: 05/05 | B8: Nguyen Viet Oanh U/h | C8: x | E8: 2000000 | G8: =G7+E8-F8 -> 26280023 | H8: CMKTX
A9: 07/05 | B9: Cô Vũ Thị Giang phật tử chùa Phụng Lộc u/h | H9: Hiện vật | I9: 100
A10: 08/05 | B10: Hoai Nam bạn Duong Thi Thu Huong u/h | C10: x | E10: 100000 | G10: =G8+E10-F10 -> 26380023 | H10: CMKTX
A11: 08/05 | B11: Anh Nguyen Thuoc ban Duong Thi Thu Huong u/h | C11: x | E11: 500000 | G11: =G10+E11-F11 -> 26880023 | H11: CMKTX
A12: 08/05 | B12: Chi Thuy ban Duong Thi Thu Huong u/h | C12: x | E12: 100000 | G12: =G11+E12-F12 -> 26980023 | H12: CMKTX
A13: 08/05 | B13: Co Loan ban Duong Thi Thu Huong u/h | C13: x | E13: 200000 | G13: =G12+E13-F13 -> 27180023 | H13: CMKTX
A14: 08/05 | B14: Mua hạt nêm và giấy ăn | F14: 277000 | G14: =G13+E14-F14 -> 26903023 | H14: Gia vị
A15: 13/05 | B15: Nhom tu thien 2023 u/h | C15: x | E15: 1000000 | G15: =G14+E15-F15 -> 27903023 | H15: CMKTX
A16: 16/05 | B16: Quỹ NTCM chuyển tiền MTQ u/h NCHN | C16: x | E16: 1900000 | G16: =G15+E16-F16 -> 29803023 | H16: CMKTX
A17: 21/05 | B17: Lop 11A3 trường PTTH chuyên Ngoại ngữ ĐH Quốc Gia HN u/h | C17: x | E17: 4000000 | G17: =G16+E17-F17 -> 33803023 | H17: CMKTX
A18: 21/05 | B18: Người nhà BN u/h | C18: x | E18: 200000 | G18: =G17+E18-F18 -> 34003023 | H18: CMKTX
A19: 25/05 | B19: Lãi | E19: 2516 | G19: =G18+E19-F19 -> 34005539 | H19: Lãi
A20: 26/05 | B20: Fb Le Dang Thi u/h | C20: x | E20: 500000 | G20: =G19+E20-F20 -> 34505539 | H20: CMKTX
A21: 28/05 | B21: Người nhà BN u/h | C21: x | E21: 1000000 | G21: =G20+E21-F21 -> 35505539 | H21: CMKTX
A22: 28/05 | B22: Phụ huynh nhóm Gà u/h | G22: =G21+E22-F22 -> 35505539 | H22: Hiện vật | J22: 2150
A23: 29/05 | B23: TT tiền thịt tháng 5 | F23: 2310000 | G23: =G22+E23-F23 -> 33195539 | H23: Thịt
A24: 29/05 | B24: TT tiền rau tháng 5 | F24: 930000 | G24: =G23+E24-F24 -> 32265539 | H24: Rau
B25: TỒN CUỐI KỲ | E25: =SUM(E8:E24) -> 11502516 | F25: =SUM(F8:F24) -> 3517000 | G25: =SUM(G7+E25-F25) -> 32265539 | I25: =SUM(I7:I24) -> 100 | J25: =SUM(J7:J24) -> 2150 | K25: =SUM(K7:K24) -> 0 | L25: =SUM(L7:L24) -> 0 | M25: =SUM(M7:M24) -> 0 | N25: =SUM(N7:N24) -> 0 | O25: =SUM(O7:O24) -> 0
A27: Note: Đại đức Thích Thanh Huy - Trụ trì chùa Phụng Lộc ủng hộ gas, mì tôm và trứng gà cho mọi người ăn trưa ở mỗi buổi nấu

Sheet T6.23
A1: BÁO CÁO THU CHI QUỸ NỒI CHÁO HÀ NỘI
A2: THÁNG 06/2023
A4: NGÀY | B4: DIỄN GIẢI | C4: HÌNH THỨC CM | E4: ỦNG HỘ TIỀN | I4: ỦNG HỘ HIỆN VẬT
E5: THU | F5: CHI | G5: TỒN | H5: Khoản mục | I5: GẠO (Kg) | J5: Dầu ăn (Can) | K5: Bột canh (Thùng) | L5: Bí đỏ (Kg) | M5: Cà rốt (Kg) | N5: Mì tôm (Thùng) | O5: Nước rửa bát (Can)
C6: KTX | D6: TX
B7: TỒN ĐẦU KỲ | G7: =T5.23!G25 -> 32265539
A8: 04/06 | B8: MTQ u/h | C8: x | E8: 1000000 | G8: =G7+E8-F8 -> 33265539 | H8: CMKTX
A9: 04/06 | B9: Giang Manh Cam ban Duong Thi Thu Huong u/h | C9: x | E9: 100000 | G9: =G8+E9-F9 -> 33365539 | H9: CMKTX
A10: 04/06 | B10: Girl xinh ban Duong Thi Thu Huong u/h | C10: x | E10: 200000 | G10: =G9+E10-F10 -> 33565539 | H10: CMKTX
A11: 11/06 | B11: CLB Phuc Tam An u/h | C11: x | E11: 200000 | G11: =G10+E11-F11 -> 33765539 | H11: CMKTX
A12: 11/06 | B12: Mua cốc lấy mẫu | F12: 38000 | G12: =G11+E12-F12 -> 33727539 | H12: Chi khác
A13: 11/06 | B13: TT tiền thịt, rau | F13: 600000 | G13: =G12+E13-F13 -> 33127539 | H13: Thịt, rau
A14: 11/06 | B14: Nhom tu thien 2023 u/h | C14: x | E14: 1000000 | G14: =G13+E14-F14 -> 34127539 | H14: CMKTX
A15: 12/06 | B15: Vinh Ai ban Thu Huong u/h | C15: x | E15: 200000 | G15: =G14+E15-F15 -> 34327539 | H15: CMKTX
A16: 12/06 | B16: Tuyet Lan chi Duong Thi Thu Huong u/h | C16: x | E16: 200000 | G16: =G15+E16-F16 -> 34527539 | H16: CMKTX
A17: 16/06 | B17: Bin10 u/h | C17: x | E17: 500000 | G17: =G16+E17-F17 -> 35027539 | H17: CMKTX
A18: 17/06 | B18: MTQ u/h | C18: x | E18: 500000 | G18: =G17+E18-F18 -> 35527539 | H18: CMKTX
A19: 18/06 | B19: TT tiền thịt, rau | F19: 750000 | G19: =G18+E19-F19 -> 34777539 | H19: Thịt, rau
A20: 18/06 | B20: Gia dinh Minh Nguyet u/h | C20: x | E20: 1000000 | G20: =G19+E20-F20 -> 35777539 | H20: CMKTX
A21: 20/06 | B21: Ngoc Ha va Kim Thoa bao Xay Dung u/h | C21: x | E21: 1000000 | G21: =G20+E21-F21 -> 36777539 | H21: CMKTX
A22: 20/06 | B22: Bui Thuy u/h | C22: x | E22: 5000000 | G22: =G21+E22-F22 -> 41777539 | H22: CMKTX
A23: 25/06 | B23: TT tiền thịt, rau | F23: 750000 | G23: =G22+E23-F23 -> 41027539 | H23: Thịt, rau
A24: 25/06 | B24: Lãi | E24: 2989 | G24: =G23+E24-F24 -> 41030528 | H24: Lãi
A25: 27/06 | B25: Bui Gia Bao chau Thu Huong u/h | C25: x | E25: 50000 | G25: =G24+E25-F25 -> 41080528 | H25: CMKTX
B26: TỒN CUỐI KỲ | E26: =SUM(E8:E25) -> 10952989 | F26: =SUM(F8:F25) -> 2138000 | G26: =SUM(G7+E26-F26) -> 41080528 | I26: =SUM(I7:I25) -> 0 | J26: =SUM(J7:J25) -> 0 | K26: =SUM(K7:K25) -> 0 | L26: =SUM(L7:L25) -> 0 | M26: =SUM(M7:M25) -> 0 | N26: =SUM(N7:N25) -> 0

Sheet T7.23
A1: BÁO CÁO THU CHI QUỸ NỒI CHÁO HÀ NỘI
A2: THÁNG 07/2023
A4: NGÀY | B4: DIỄN GIẢI | C4: HÌNH THỨC CM | E4: ỦNG HỘ TIỀN | I4: ỦNG HỘ HIỆN VẬT
E5: THU | F5: CHI | G5: TỒN | H5: Khoản mục | I5: GẠO (Kg) | J5: Dầu ăn (Can) | K5: Bột canh (Gói) | L5: Bí đỏ (Kg) | M5: Cà rốt (Kg) | N5: Mì tôm (Thùng) | O5: Nước rửa bát (Can) | P5: Giấy ăn (Bịch) | Q5: Cốc đựng cháo (chiếc) | R5: Găng tay (Hộp) | S5: Khác
B6: TỒN ĐẦU KỲ | G6: =T6.23!G26 -> 41080528
A7: 02/07 | B7: GĐ Ha Phuong U/h | C7: x | E7: 500000 | G7: =G6+E7-F7 -> 41580528 | H7: CMKTX
A8: 02/07 | B8: Tiền thịt, rau | F8: 780000 | G8: =G7+E8-F8 -> 40800528 | H8: Thịt, rau
A9: 02/07 | B9: Truong Anh Phuong u/h | C9: x | E9: 200000 | G9: =G8+E9-F9 -> 41000528 | H9: CMKTX
A10: 02/07 | B10: Ban Linh den nau chao le Phat u/h | C10: x | E10: 300000 | G10: =G9+E10-F10 -> 41300528 | H10: CMKTX
A11: 09/07 | B11: Nguoi nha benh nhan u/h | C11: x | E11: 100000 | G11: =G10+E11-F11 -> 41400528 | H11: CMKTX
A12: 09/07 | B12: Tiền thịt, rau | F12: 750000 | G12: =G11+E12-F12 -> 40650528 | H12: Thịt, rau
A13: 09/07 | B13: Bác Lê Thị Bích Hợp ( mẹ anh Xuân Vũ Lê) u/h | G13: =G12+E13-F13 -> 40650528 | H13: Hiện vật | I13: 10
A14: 10/07 | B14: Ban cua Nguyen Thi Xuan Son u/h | C14: x | E14: 100000 | G14: =G13+E14-F14 -> 40750528 | H14: CMKTX
A15: 14/07 | B15: Nhom thien nguyen 2023 u/h | C15: x | E15: 1000000 | G15: =G14+E15-F15 -> 41750528 | H15: CMKTX
A16: 15/07 | B16: Bin10 u/h | D16: x | E16: 300000 | G16: =G15+E16-F16 -> 42050528 | H16: CMTX
A17: 16/07 | B17: Tran Thi Thu Phuong u/h | C17: x | E17: 2000000 | G17: =G16+E17-F17 -> 44050528 | H17: CMKTX
A18: 16/07 | B18: Chi Vu Thi Dong (300k); chi Nhung - Quyet (300k); Thu Giang (1tr) | C18: x | E18: 1600000 | G18: =G17+E18-F18 -> 45650528 | H18: CMKTX
A19: 16/07 | B19: Chi Bui Thi Huong u/h | C19: x | E19: 100000 | G19: =G18+E19-F19 -> 45750528 | H19: CMKTX
A20: 16/07 | B20: Tiền thịt, rau | F20: 900000 | G20: =G19+E20-F20 -> 44850528 | H20: Thịt, rau
A21: 22/07 | B21: Chi Ha u/h | C21: x | E21: 500000 | G21: =G20+E21-F21 -> 45350528 | H21: CMKTX
A22: 23/07 | B22: Tiền thịt, rau | F22: 900000 | G22: =G21+E22-F22 -> 44450528 | H22: Thịt, rau
A23: 23/07 | B23: Chi Pham Thi Lien - con gai Ngo Minh Thu (300k); chau Ngoc Ha (340k); chau Quang Minh (200k) | C23: x | E23: 840000 | G23: =G22+E23-F23 -> 45290528 | H23: CMKTX
A24: 23/07 | B24: Tiền taxi chở cháo (2 chiều) | F24: 1000000 | G24: =G23+E24-F24 -> 44290528 | H24: Taxi
A25: 23/07 | B25: Chị Van Thi Bich Hang uh | G25: =G24+E25-F25 -> 44290528 | H25: Hiện vật | P25: 2 | Q25: 2000
A26: 24/07 | B26: MTQ u/h | C26: x | E26: 500000 | G26: =G25+E26-F26 -> 44790528 | H26: CMKTX
A27: 25/07 | B27: Lãi | E27: 3473 | G27: =G26+E27-F27 -> 44794001 | H27: Lãi
A28: 28/07 | B28: Lãi | E28: 1371232 | G28: =G27+E28-F28 -> 46165233 | H28: Lãi
A29: 28/07 | B29: Nộp thêm vào tk tiết kiệm số 0025000972908 | F29: 20000000 | G29: =G28+E29-F29 -> 26165233 | H29: Gửi tiết kiệm
A30: 29/07 | B30: Dat ban Duong Thi Thu Huong u/h | C30: x | E30: 100000 | G30: =G29+E30-F30 -> 26265233 | H30: CMKTX
A31: 29/07 | B31: Minh Anh ban Duong Thi Thu Huong u/h | C31: x | E31: 100000 | G31: =G30+E31-F31 -> 26365233 | H31: CMKTX
A32: 30/07 | B32: Tiền thịt, rau | F32: 900000 | G32: =G31+E32-F32 -> 25465233 | H32: Thịt, rau
A33: 30/07 | B33: Bac Hong u/h | C33: x | E33: 700000 | G33: =G32+E33-F33 -> 26165233 | H33: CMKTX
A34: 30/07 | B34: MTQ u/h | C34: x | E34: 100000 | G34: =G33+E34-F34 -> 26265233 | H34: CMKTX
B35: TỒN CUỐI KỲ | E35: =SUM(E7:E34) -> 10414705 | F35: =SUM(F7:F34) -> 25230000 | G35: =SUM(G6+E35-F35) -> 26265233 | I35: =SUM(I6:I34) -> 10 | J35: =SUM(J6:J34) -> 0 | K35: =SUM(K6:K34) -> 0 | L35: =SUM(L6:L34) -> 0 | M35: =SUM(M6:M34) -> 0 | N35: =SUM(N6:N34) -> 0 | O35: =SUM(O6:O34) -> 0 | P35: =SUM(P6:P34) -> 2 | ... R35: =SUM(R6:R34) -> 0

Sheet T8.23
A1: BÁO CÁO THU CHI QUỸ NỒI CHÁO HÀ NỘI
A2: THÁNG 08/2023
A4: NGÀY | B4: DIỄN GIẢI | C4: HÌNH THỨC CM | E4: ỦNG HỘ TIỀN | I4: ỦNG HỘ HIỆN VẬT
E5: THU | F5: CHI | G5: TỒN | H5: Khoản mục | I5: GẠO (Kg) | J5: Dầu ăn (Can) | K5: Bột canh (Thùng) | L5: Bí đỏ (Kg) | M5: Cà rốt (Kg) | N5: Mì tôm (Thùng) | O5: Nước rửa bát (Can)
C6: KTX | D6: TX
B7: TỒN ĐẦU KỲ | G7: =T7.23!G35 -> 26265233
G8: =G7+E8-F8 -> 26265233
G9: =G8+E9-F9 -> 26265233
G10: =G9+E10-F10 -> 26265233
G11: =G10+E11-F11 -> 26265233
G12: =G11+E12-F12 -> 26265233
G13: =G12+E13-F13 -> 26265233
G14: =G13+E14-F14 -> 26265233
G15: =G14+E15-F15 -> 26265233
G16: =G15+E16-F16 -> 26265233
G17: =G16+E17-F17 -> 26265233
G18: =G17+E18-F18 -> 26265233
G19: =G18+E19-F19 -> 26265233
... G32: =G31+E32-F32 -> 26265233
B33: TỒN CUỐI KỲ | E33: =SUM(E8:E32) -> 0 | F33: =SUM(F8:F32) -> 0 | G33: =SUM(G7+E33-F33) -> 26265233 | I33: =SUM(I7:I32) -> 0 | J33: =SUM(J7:J32) -> 0 | K33: =SUM(K7:K32) -> 0 | L33: =SUM(L7:L32) -> 0 | M33: =SUM(M7:M32) -> 0 | N33: =SUM(N7:N32) -> 0

Sheet T9.23
A1: BÁO CÁO THU CHI QUỸ NỒI CHÁO HÀ NỘI
A2: THÁNG 09/2023
A4: NGÀY | B4: DIỄN GIẢI | C4: HÌNH THỨC CM | E4: ỦNG HỘ TIỀN | I4: ỦNG HỘ HIỆN VẬT
E5: THU | F5: CHI | G5: TỒN | H5: Khoản mục | I5: GẠO (Kg) | J5: Dầu ăn (Can) | K5: Gas (Bình) | L5: Bột canh (Thùng) | M5: Bí đỏ (Kg) | N5: Cà rốt (Kg) | O5: Mì tôm (Thùng) | P5: Nước rửa bát (Can)
C6: KTX | D6: TX
B7: TỒN ĐẦU KỲ | G7: =T8.23!G33 -> 26265233
G8: =G7+E8-F8 -> 26265233
G9: =G8+E9-F9 -> 26265233
G10: =G9+E10-F10 -> 26265233
G11: =G10+E11-F11 -> 26265233
G12: =G11+E12-F12 -> 26265233
G13: =G12+E13-F13 -> 26265233
G14: =G13+E14-F14 -> 26265233
G15: =G14+E15-F15 -> 26265233
G16: =G15+E16-F16 -> 26265233
G17: =G16+E17-F17 -> 26265233
B18: TỒN CUỐI KỲ | E18: =SUM(E8:E17) -> 0 | F18: =SUM(F8:F17) -> 0 | G18: =SUM(G7+E18-F18) -> 26265233 | I18: =SUM(I7:I17) -> 0 | J18: =SUM(J7:J17) -> 0 | K18: =SUM(K7:K17) -> 0 | L18: =SUM(L7:L17) -> 0 | M18: =SUM(M7:M17) -> 0 | N18: =SUM(N7:N17) -> 0 | O18: =SUM(O7:O17) -> 0

Sheet T10.23
A1: BÁO CÁO THU CHI QUỸ NỒI CHÁO HÀ NỘI
A2: THÁNG 10/2023
A4: NGÀY | B4: DIỄN GIẢI | C4: HÌNH THỨC CM | E4: ỦNG HỘ TIỀN | I4: ỦNG HỘ HIỆN VẬT
E5: THU | F5: CHI | G5: TỒN | H5: Khoản mục | I5: GẠO (Kg) | J5: Dầu ăn (Can) | K5: Gas (Bình) | L5: Bột canh (Thùng) | M5: Bí đỏ (Kg) | N5: Cà rốt (Kg) | O5: Mì tôm (Thùng) | P5: Nước rửa bát (Can)
C6: KTX | D6: TX
B7: TỒN ĐẦU KỲ | G7: =T9.23!G18 -> 26265233
G8: =G7+E8-F8 -> 26265233
G9: =G8+E9-F9 -> 26265233
G10: =G9+E10-F10 -> 26265233
G11: =G10+E11-F11 -> 26265233
G12: =G11+E12-F12 -> 26265233
G13: =G12+E13-F13 -> 26265233
G14: =G13+E14-F14 -> 26265233
G15: =G14+E15-F15 -> 26265233
G16: =G15+E16-F16 -> 26265233
G17: =G16+E17-F17 -> 26265233
G18: =G17+E18-F18 -> 26265233
G19: =G18+E19-F19 -> 26265233
... G24: =G23+E24-F24 -> 26265233
B25: TỒN CUỐI KỲ | E25: =SUM(E8:E24) -> 0 | F25: =SUM(F8:F24) -> 0 | G25: =SUM(G7+E25-F25) -> 26265233 | I25: =SUM(I7:I24) -> 0 | J25: =SUM(J7:J24) -> 0 | K25: =SUM(K7:K24) -> 0 | L25: =SUM(L7:L24) -> 0 | M25: =SUM(M7:M24) -> 0 | N25: =SUM(N7:N24) -> 0 | O25: =SUM(O7:O24) -> 0 | P25: =SUM(P7:P24) -> 0
B27: Note: Đại đức Thích Thanh Huy - Trụ trì chùa Phụng Lộc ủng hộ mì tôm và trứng gà cho mọi người ăn trưa ở mỗi buổi nấu

Sheet T11.23
A1: BÁO CÁO THU CHI QUỸ NỒI CHÁO HÀ NỘI
A2: THÁNG 11/2023
A4: NGÀY | B4: DIỄN GIẢI | C4: HÌNH THỨC CM | E4: ỦNG HỘ TIỀN | I4: ỦNG HỘ HIỆN VẬT
E5: THU | F5: CHI | G5: TỒN | H5: Khoản mục | I5: GẠO (Kg) | J5: Dầu ăn (Can) | K5: Bột canh (Thùng) | L5: Bí đỏ (Kg) | M5: Cà rốt (Kg) | N5: Mì tôm (Thùng) | O5: Nước rửa bát (Can)
C6: KTX | D6: TX
B7: TỒN ĐẦU KỲ | G7: =T10.23!G25 -> 26265233
G8: =G7+E8-F8 -> 26265233
G9: =G8+E9-F9 -> 26265233
G10: =G9+E10-F10 -> 26265233
G11: =G10+E11-F11 -> 26265233
G12: =G11+E12-F12 -> 26265233
G13: =G12+E13-F13 -> 26265233
G14: =G13+E14-F14 -> 26265233
G15: =G14+E15-F15 -> 26265233
G16: =G15+E16-F16 -> 26265233
G17: =G16+E17-F17 -> 26265233
G18: =G17+E18-F18 -> 26265233
G19: =G18+E19-F19 -> 26265233
G20: =G19+E20-F20 -> 26265233
B21: TỒN CUỐI KỲ | E21: =SUM(E8:E20) -> 0 | F21: =SUM(F8:F20) -> 0 | G21: =SUM(G7+E21-F21) -> 26265233 | I21: =SUM(I7:I20) -> 0 | J21: =SUM(J7:J20) -> 0 | K21: =SUM(K7:K20) -> 0 | L21: =SUM(L7:L20) -> 0 | M21: =SUM(M7:M20) -> 0 | N21: =SUM(N7:N20) -> 0 | O21: =SUM(O7:O20) -> 0
A23: Note: Đại đức Thích Thanh Huy - Trụ trì chùa Phụng Lộc ủng hộ mì tôm và trứng gà cho mọi người ăn trưa ở mỗi buổi nấu

Sheet T12.23
A1: BÁO CÁO THU CHI QUỸ NỒI CHÁO HÀ NỘI
A2: THÁNG 12/2023
A4: NGÀY | B4: DIỄN GIẢI | C4: HÌNH THỨC CM | E4: ỦNG HỘ TIỀN | I4: ỦNG HỘ HIỆN VẬT
E5: THU | F5: CHI | G5: TỒN | H5: Khoản mục | I5: GẠO (Kg) | J5: Dầu ăn (Can) | K5: Bột canh (Thùng) | L5: Bí đỏ (Kg) | M5: Cà rốt (Kg) | N5: Mì tôm (Thùng) | O5: Nước rửa bát (Can)
C6: KTX | D6: TX
B7: TỒN ĐẦU KỲ | G7: =T11.23!G21 -> 26265233
G8: =G7+E8-F8 -> 26265233
G9: =G8+E9-F9 -> 26265233
G10: =G9+E10-F10 -> 26265233
G11: =G10+E11-F11 -> 26265233
G12: =G11+E12-F12 -> 26265233
G13: =G12+E13-F13 -> 26265233
G14: =G13+E14-F14 -> 26265233
G15: =G14+E15-F15 -> 26265233
G16: =G15+E16-F16 -> 26265233
G17: =G16+E17-F17 -> 26265233 | N17: 3
B18: TỒN CUỐI KỲ | E18: =SUM(E8:E17) -> 0 | F18: =SUM(F8:F17) -> 0 | G18: =SUM(G7+E18-F18) -> 26265233 | I18: =SUM(I7:I17) -> 0 | J18: =SUM(J7:J17) -> 0 | K18: =SUM(K7:K17) -> 0 | L18: =SUM(L7:L17) -> 0 | M18: =SUM(M7:M17) -> 0 | N18: =SUM(N7:N17) -> 3 | O18: =SUM(O7:O17) -> 0
A20: Note: Đại đức Thích Thanh Huy - Trụ trì chùa Phụng Lộc ủng hộ mì tôm và trứng gà cho mọi người ăn trưa ở mỗi buổi nấu

Sheet Tổng tài khoản
A1: TỔNG HỢP SỐ DƯ TÀI KHOẢN CỦA NỒI CHÁO HN
A2: Tại ngày 31/07/2023
A4: Số tài khoản | B4: Ngày gửi | C4: Diễn giải | D4: Số dư | E4: Ghi chú
A5: 0021008669998 | C5: Tài khoản thu chi | D5: =T12.23!G18 -> 26265233
A6: 0025000972908 | B6: 27/02/2019 | C6: Tài khoản tiền gửi tiết kiệm | D6: ='TGTK 210tr(27.02.2019, 2702202)'!D11 -> 210000000 | E6: Trả lãi định kỳ 6 tháng 1 lần vào TK thu chi.
A7: 0001020652382 | B7: 28/04/2021 | C7: Tài khoản tiền gửi tiết kiệm | D7: ='TGTK 70tr(28.04.2021)'!D11 -> 120000000 | E7: Trả lãi định kỳ 3 tháng 1 lần vào TK thu chi.
A8: TỔNG CỘNG | D8: =SUM(D5:D7) -> 356265233

Sheet Tổng thu - chi
A1: TỔNG HỢP THU CHI QUỸ NỒI CHÁO NĂM 2023
A2: THÁNG | B2: Số suất cháo | C2: THU | G2: CHI | O2: Gửi tiết kiệm | P2: TỒN CUỐI KỲ
C3: CMTX | D3: CMKTX | E3: Tiền lãi | F3: TỔNG THU | G3: Thịt, Rau | H3: Gạo | I3: GAS | J3: Dầu ăn, gia vị | K3: Giấy, Cốc | L3: Taxi chở cháo | M3: Chi khác | N3: TỔNG CHI
A4: DƯ ĐẦU KỲ | P4: 73981451
A5: Tháng 1 | D5: 7700000 | E5: 1032928 | F5: =SUM(C5:E5) -> 8732928 | G5: 1020000 | M5: 2200 | N5: =SUM(G5:M5) -> 1022200 | P5: =P4+F5-N5-O5 -> 81692179
A6: Tháng 2 | D6: 11500000 | E6: 2998621 | F6: =SUM(C6:E6) -> 14498621 | M6: 2200 | N6: =SUM(G6:M6) -> 2200 | O6: 60000000 | P6: =P5+F6-N6-O6 -> 36188600
A7: Tháng 3 | C7: 13800000 | D7: 6220000 | E7: 3679 | F7: =SUM(C7:E7) -> 20023679 | G7: 6480000 | I7: 800000 | M7: 400000 | N7: =SUM(G7:M7) -> 7680000 | P7: =P6+F7-N7-O7 -> 48532279
A8: Tháng 4 | C8: 300000 | D8: 8200654 | E8: 1017090 | F8: =SUM(C8:E8) -> 9517744 | G8: 3770000 | N8: =SUM(G8:M8) -> 3770000 | O8: 30000000 | P8: =P7+F8-N8-O8 -> 24280023
A9: Tháng 5 | D9: 11500000 | E9: 2516 | F9: =SUM(C9:E9) -> 11502516 | G9: 3240000 | J9: 277000 | N9: =SUM(G9:M9) -> 3517000 | P9: =P8+F9-N9-O9 -> 32265539
A10: Tháng 6 | D10: 10950000 | E10: 2989 | F10: =SUM(C10:E10) -> 10952989 | G10: 2100000 | M10: 38000 | N10: =SUM(G10:M10) -> 2138000 | P10: =P9+F10-N10-O10 -> 41080528
A11: Tháng 7 | C11: 300000 | D11: 8740000 | E11: 1374705 | F11: =SUM(C11:E11) -> 10414705 | G11: 4230000 | L11: 1000000 | N11: =SUM(G11:M11) -> 5230000 | O11: 20000000 | P11: =P10+F11-N11-O11 -> 26265233
A12: Tháng 8 | F12: =SUM(C12:E12) -> 0 | N12: =SUM(G12:M12) -> 0 | P12: =P11+F12-N12-O12 -> 26265233
A13: Tháng 9 | F13: =SUM(C13:E13) -> 0 | N13: =SUM(G13:M13) -> 0 | P13: =P12+F13-N13-O13 -> 26265233
A14: Tháng 10 | F14: =SUM(C14:E14) -> 0 | N14: =SUM(G14:M14) -> 0 | P14: =P13+F14-N14-O14 -> 26265233
A15: Tháng 11 | F15: =SUM(C15:E15) -> 0 | N15: =SUM(G15:M15) -> 0 | P15: =P14+F15-N15-O15 -> 26265233
A16: Tháng 12 | F16: =SUM(C16:E16) -> 0 | N16: =SUM(G16:M16) -> 0 | P16: =P15+F16-N16-O16 -> 26265233
A17: TỔNG | B17: =SUM(B5:B16) -> 0 | C17: =SUM(C5:C16) -> 14400000 | D17: =SUM(D5:D16) -> 64810654 | E17: =SUM(E5:E16) -> 6432528 | F17: =SUM(C17:E17) -> 85643182 | G17: =SUM(G5:G16) -> 20840000 | H17: =SUM(H5:H16) -> 0 | I17: =SUM(I5:I16) -> 800000 | J17: =SUM(J5:J16) -> 277000 | K17: =SUM(K5:K16) -> 0 | L17: =SUM(L5:L16) -> 1000000 | M17: =SUM(M5:M16) -> 442400 | N17: =SUM(G17:M17) -> 23359400 | O17: =SUM(O5:O16) -> 110000000 | P17: =P4+F17-N17-O17 -> 26265233
A18: Trung bình tháng | F18: =ROUND(F17/12,0) -> 7136932 | H18: =ROUND(H17/12,0) -> 0 | I18: =ROUND(I17/12,0) -> 66667 | J18: =ROUND(J17/12,0) -> 23083 | K18: =ROUND(K17/12,0) -> 0 | M18: =ROUND(M17/12,0) -> 36867 | N18: =ROUND(N17/12,0) -> 1946617
A20: Tổng hợp: | B20: Chi phí trung bình 1 suất cháo 4 tháng đầu năm 2021 | F20: =ROUND((N17-10000000)/B17,0) -> #DIV/0! | P20: =P17-P16 -> 0

Sheet Tổng hiện vật
A1: TỔNG HỢP SL HIỆN VẬT ĐƯỢC U/H NĂM 2023
A2: THÁNG | B2: GẠO (Kg) | C2: Dầu ăn (Can) | D2: Gas (Bình) | E2: Bột canh (Gói) | F2: Bí đỏ (Kg) | G2: Cà rốt (Kg) | H2: Mì tôm (Thùng) | I2: Nước rửa bát (Can) | J2: Giấy ăn (Bịch) | K2: Cốc đựng cháo (chiếc) | L2: Găng tay (Hộp) | M2: Dây buộc nồi (Cái)
A3: Tháng 1
A4: Tháng 2 | B4: 210 | C4: 1 | I4: 1 | J4: 2 | K4: 1000
A5: Tháng 3 | B5: 10 | K5: 2000
A6: Tháng 4 | J6: 1 | L6: 1 | M6: 3
A7: Tháng 5
A8: Tháng 6
A9: Tháng 7
A10: Tháng 8
A11: Tháng 9
A12: Tháng 10
A13: Tháng 11
A14: Tháng 12
A15: Tháng 5 | B15: 100 | K15: 2150
A16: Tháng 6
A17: Tháng 7 | B17: 10 | J17: 2 | K17: 2000
A18: Tháng 8
A19: Tháng 9
A20: Tháng 10
A21: Tháng 11
A22: Tháng 12
A23: TỔNG | B23: =SUM(B3:B22) -> 330 | C23: =SUM(C3:C22) -> 1 | D23: =SUM(D3:D22) -> 0 | E23: =SUM(E3:E22) -> 0 | F23: =SUM(F3:F22) -> 0 | G23: =SUM(G3:G22) -> 0 | H23: =SUM(H3:H22) -> 0 | I23: =SUM(I3:I22) -> 1 | ... M23: =SUM(M3:M22) -> 3
A25: Note: Đại đức Thích Thanh Huy - Trụ trì chùa Phụng Lộc ủng hộ gas, mì tôm và trứng gà cho mọi người ăn trưa ở mỗi buổi nấu

Sheet TGTK 70tr(28.04.2021)
A1: TRÍCH QUỸ NỒI CHÁO GỬI TIẾT KIỆM
A3: Số tài khoản | B3: 0001020652382
A5: Ngày giao dịch | B5: Số tiền ghi nợ | C5: Số tiền ghi có | D5: Số dư | E5: Nội dung
A6: 28/04/2021 | C6: 40000000 | D6: =C6 -> 40000000
A7: 28/04/2022 | C7: 30000000 | D7: =D6+C7-B7 -> 70000000
A8: 28/04/2023 | C8: 30000000 | D8: =D7+C8-B8 -> 100000000
A9: 28/07/2023 | C9: 20000000 | D9: =D8+C9-B9 -> 120000000
A10: Tổng số | C10: =SUM(C6:C9) -> 120000000
A11: Số dư cuối kỳ | D11: =C10-B10 -> 120000000

Sheet TGTK 210tr(27.02.2019, 2702202)
A1: TRÍCH QUỸ NỒI CHÁO GỬI TIẾT KIỆM
A3: Số tài khoản | B3: 0025000972908
A5: Ngày giao dịch | B5: Số tiền ghi nợ | C5: Số tiền ghi có | D5: Số dư | E5: Nội dung
A6: 27/02/2019 | C6: 150000000 | D6: 150000000
A7: 27/02/2023 | C7: 60000000 | D7: =D6+C7-B7 -> 210000000
A9: Tổng số | B9: =B6+B7 -> 0 | C9: =C6+C7 -> 210000000
A11: Số dư cuối kỳ | D11: =D7 -> 210000000

Sheet TGTK 40tr(11.03.2019)
A1: TRÍCH QUỸ NỒI CHÁO GỬI TIẾT KIỆM
A3: Số tài khoản | B3: 0025000974112
A5: Ngày giao dịch | B5: Số tiền ghi nợ | C5: Số tiền ghi có | D5: Số dư | E5: Nội dung
A6: 43353 | C6: 40000000 | D6: =C6 -> 40000000 | E6: Trả lãi định kỳ 3 tháng 1 lần vào TK thu chi. Bắt đầu trả lãi từ 11/03/2020
A8: Tổng số | C8: =SUM(C6:C7) -> 40000000 | D8: =SUM(D6:D7) -> 40000000
A9: Số dư cuối kỳ | D9: =D8 -> 40000000 | E9: Tất toán ngày 02/01/2021

Sheet Sheet1
A1: Nguyên liệu | B1: Số tiền
A2: Thịt (6kg*120k) | B2: =6*120000 -> 720000
A3: Cà rốt, bí đỏ | B3: 300000
A4: Gạo (12kg*20.000đ) | B4: =12*20000 -> 240000
A5: Gia vị,dầu ăn, giấy ăn, găng tay (tính tương đối) | B5: 50000
A6: Ga (400k/1 bình) (tính tương đối) | B6: 400000
A7: Chi phí trung bình cho mỗi suất cháo ( Mỗi buổi nấu 350 suất) Khi chưa tính cốc | B7: =SUM(B2:B6)/350 -> 4885.7143
A8: Cốc nhựa
A9: Bát giấy
A20: Cho 5 nồi (~350 suất) | B20: Cho 4 nồi (~300 suất)
