Workbook

Sheet T1.23
A1: BÁO CÁO THU CHI QUỸ NỒI XÔI - BV THẬN HÀ NỘI
A2: THÁNG 01/ 2023
A4: NGÀY | B4: DIỄN GIẢI | C4: HÌNH THỨC CM | E4: ỦNG HỘ TIỀN
E5: THU | F5: CHI | G5: TỒN | H5: Khoản mục
C6: KTX | D6: TX
B7: TỒN ĐẦU KỲ | G7: 0
G8: =G7+E8-F8 -> 0
G9: =G8+E9-F9 -> 0
G10: =G9+E10-F10 -> 0
G11: =G10+E11-F11 -> 0
G12: =G11+E12-F12 -> 0
G13: =G12+E13-F13 -> 0
G14: =G13+E14-F14 -> 0
G15: =G14+E15-F15 -> 0
G16: =G15+E16-F16 -> 0
G17: =G16+E17-F17 -> 0
G18: =G17+E18-F18 -> 0
G19: =G18+E19-F19 -> 0
... G21: =G20+E21-F21 -> 0
B22: TỒN CUỐI KỲ | E22: =SUM(E8:E21) -> 0 | F22: =SUM(F8:F21) -> 0 | G22: =SUM(G7+E22-F22) -> 0

Sheet T2.23
A1: BÁO CÁO THU CHI QUỸ NỒI XÔI - BV THẬN HÀ NỘI
A2: THÁNG 02/2023
A4: NGÀY | B4: DIỄN GIẢI | C4: HÌNH THỨC CM | E4: ỦNG HỘ TIỀN
E5: THU | F5: CHI
C6: KTX | D6: TX
B7: DƯ ĐẦU KỲ | E7: 0
A8: 16/02 | B8: NGUYEN NGOC QUYNH u/h | E8: 1000000
A9: 16/02 | B9: Le Yen ban mai tan u/h | E9: 1000000
A10: 16/02 | B10: E To Thanh Thuy u/h | E10: 1000000
A11: 16/02 | B11: A Nguyen Minh Hien CA u/h | E11: 1000000
A12: 16/02 | B12: TRAN LAN ANH u/h | E12: 500000
A13: 17/02 | B13: MTQ u/h | E13: 200000
A14: 17/02 | B14: Ngoan vu thi u/h | E14: 300000
A15: 17/02 | B15: TU NGUYEN LINH u/h | E15: 500000
A16: 17/02 | B16: Ha Le u/h | E16: 500000
A17: 17/02 | B17: Lucky Flower u/h | E17: 200000
A18: 17/02 | B18: MTQ u/h | E18: 200000
A19: 17/02 | B19: THAI HA du hs Halan u/h | E19: 500000
... A42: 19/02 | B42: Dang Thi Le Le Dang thi u/h | E42: 500000
A43: 21/02 | B43: NTCM chuyen tien mua hang nau xoi | F43: 3040000
A44: 21/02 | B44: NGUYEN THI THU HIEN chuyen tien mua gao cha khan | F44: 1650000
A45: 21/02 | B45: NGUYEN THI THU HIEN chuyen tien gao cha khan | F45: 200000
A46: 22/02 | B46: Den bien u/h | E46: 300000
A47: 22/02 | B47: Xuan Son ban Huyen Pham u/h | E47: 500000
A48: 23/02 | B48: Nhi Phong u/h | E48: 200000
A49: 24/02 | B49: Quyen Hoang u/h | E49: 500000
A50: 24/02 | B50: DAO THI HANH u/h | E50: 200000
A51: 24/02 | B51: HOANG ANH u/h | E51: 500000
A52: 24/02 | B52: Do Ngoc Anh u/h | E52: 200000
A53: 25/02 | B53: Bac Nguyen Thi Bich nguoi nha Duong Thi Thu Huong u/h | E53: 4000000
A54: 26/02 | B54: DO THI THANH u/h | E54: 1300000
A55: 26/02 | B55: Quy Chia se My Dinh Pearl u/h | E55: 500000
A56: 28/02 | B56: Hoa Hanoi u/h | E56: 2000000
A57: 28/02 | B57: Lion nguyen u/h | E57: 500000
B58: TỔNG CỘNG | E58: =SUM(E8:E57) -> 35017071 | F58: =SUM(F8:F57) -> 4890000
B59: DƯ CUỐI KỲ | E59: =E7+E58-F58 -> 30127071

Sheet T3.23
A1: BÁO CÁO THU CHI QUỸ NỒI XÔI - BV THẬN HÀ NỘI
A2: THÁNG 03/2023
A4: NGÀY | B4: DIỄN GIẢI | C4: HÌNH THỨC CM | E4: ỦNG HỘ TIỀN
E5: THU | F5: CHI
C6: KTX | D6: TX
B7: DƯ ĐẦU KỲ | E7: =T2.23!E59 -> 30127071
A8: 01/03 | B8: twins mareo u/h | E8: 500000
A9: 01/03 | B9: NGUYEN THI THANH HA u/h | E9: 1000000
A10: 02/03 | B10: Facebook Nguyen Nga u/h | E10: 1000000
A11: 03/03 | B11: Uyen Lee u/h | E11: 200000
A12: 03/03 | B12: NTCM chuyen tien mua bat giay thit 25 2 | F12: 1410000
A13: 03/03 | B13: TRAN THANH MAI u/h | E13: 200000
A14: 04/03 | B14: Nguyen Vinh Ai ban Duong Thi Thu Huong u/h | E14: 1000000
A15: 04/03 | B15: Chau Minh va Hoan nguoi nha Duong Thi Thu Huong u/h | E15: 500000
A16: 04/03 | B16: NTCM chuyen tien bat giay | F16: 1047000
A17: 04/03 | B17: NTCM chuyen tien cha | F17: 420000
A18: 06/03 | B18: Hong Ntt u/h | E18: 2000000
A19: 10/03 | B19: Ntcm ct thay thich thanh huy cmtx t4-12 2023 | E19: 18000000
A20: 11/03 | B20: Tan Duc Hoang u/h | E20: 200000
A21: 14/03 | B21: NTCM chuyen tien thit lon | F21: 1000000
A22: 17/03 | B22: Ngocltt u/h | E22: 500000
A23: 17/03 | B23: Trinh Hai Duy u/h | E23: 200000
A24: 18/03 | B24: Nguyen Vinh Ai ban Duong Thi Thu Huong u/h | E24: 200000
A25: 18/03 | B25: Tran Thu Hien ban Duong Thi Thu Huong u/h | E25: 200000
A26: 18/03 | B26: Hoa Hong Gai ban chi Duong T Thu Huong u/h | E26: 200000
A27: 18/03 | B27: Nguyen Thanh Tra ban Duong Thi Thu Huong u/h | E27: 100000
A28: 19/03 | B28: Tra lai tien gui | E28: 13620
A29: 22/03 | B29: TRAN THI MAI HUONG u/h | E29: 500000
A30: 22/03 | B30: MINH NGUYET va minh phuong u/h | E30: 600000
A31: 22/03 | B31: twins mareo u/h | E31: 500000
A32: 22/03 | B32: E To Thanh Thuy u/h | E32: 1000000
A33: 25/03 | B33: Duong Thi Thu Huong u/h | E33: 200000
... A36: 27/03 | B36: Nguyen Lam ban Duong Thi Thu Huong u/h | E36: 300000
A37: 27/03 | B37: NTCM chuyen khoan tien thit 2 buoi cha | F37: 2300000
A38: 29/03 | B38: Phuc u/h | E38: 300000
A39: 29/03 | B39: NTCM chuyen tien 46kg gao nep Nhung | F39: 1104000
A40: 30/03 | B40: Pham Gia Bach u/h | E40: 500000
B41: TỔNG CỘNG | E41: =SUM(E8:E40) -> 30313620 | F41: =SUM(F8:F39) -> 7281000
B42: DƯ CUỐI KỲ | E42: =E7+E41-F41 -> 53159691

Sheet T4.23
A1: BÁO CÁO THU CHI QUỸ NỒI XÔI - BV THẬN HÀ NỘI
A2: THÁNG 04/2023
A4: NGÀY | B4: DIỄN GIẢI | C4: HÌNH THỨC CM | E4: ỦNG HỘ TIỀN
E5: THU | F5: CHI
C6: KTX | D6: TX
B7: DƯ ĐẦU KỲ | E7: =T3.23!E42 -> 53159691
A8: 01/04 | B8: MH Ken Ti ban Duong Thi Thu Huong u/h | E8: 300000
A9: 01/04 | B9: Chi Hong Nhung ban Duong Thi Thu Huong u/h | E9: 200000
A10: 01/04 | B10: Tran Huong ban Duong Thi Thu Huong u/h | E10: 100000
A11: 01/04 | B11: Tran Huong ban Duong Thi Thu Huong u/h | E11: 900000
A12: 01/04 | B12: Duong Ngoc Cuong bac Duong Thi Thu Huong u/h | E12: 100000
A13: 02/04 | B13: Luu Thanh Tu ban Duong Thi Thu Huong u/h | E13: 300000
A14: 02/04 | B14: Tran Trung Hieu ban Duong Thi Thu Huong u/h | E14: 300000
A15: 02/04 | B15: NTCM chuyen khoan mua thung gao thit cha | F15: 1660000
A16: 04/04 | B16: Hue Tran u/h | E16: 500000
A17: 04/04 | B17: TRAN THI THUY HANG u/h | E17: 500000
A18: 04/04 | B18: NGO XUAN TRUONG u/h | E18: 500000
A19: 04/04 | B19: TRINH THANH THU u/h | E19: 500000
A20: 04/04 | B20: thuy o nhom ly son u/h | E20: 500000
A21: 04/04 | B21: MB 5064 NGO XUAN TRUONG gop tien mua tu lanh Truong sa | E21: 500000
A22: 04/04 | B22: Tran thi nhu quynh u/h | E22: 200000
A23: 05/04 | B23: Hien Minh u/h | E23: 245000
A24: 07/04 | B24: DUONG BICH THAO u/h | E24: 500000
A25: 08/04 | B25: Tran Que Anh ba Duong Thi Thu Huong u/h | E25: 100000
A26: 08/04 | B26: Tran Thi Khanh Van ban Duong Thi Thu Huong u/h | E26: 100000
A27: 08/04 | B27: Tran Thi Hong Van bac Duong Thi Thu Huong u/h | E27: 200000
... A31: 10/04 | B31: TRAN DANG XUAN u/h | E31: 500000
A32: 11/04 | B32: NTCM chuyen tien thit ngay 8 4 | F32: 1000000
A33: 12/04 | B33: MTQ u/h | E33: 500000
A34: 13/04 | B34: NTCM dieu phoi lai tien chuyen cho Ctr Truong Sa nham sang noi xoi | F34: 500000
A35: 15/04 | B35: Nhom ban C Dung Viet Kieu Duc u/h | E35: 3000000
A36: 15/04 | B36: Nguyen Hoai Nam ban Duong Thi Thu Huong u/h | E36: 200000
A37: 15/04 | B37: Dinh Ngan ban Duong Thi Thu Huong u/h | E37: 100000
A38: 15/04 | B38: Anh Nguyen Lam ban Duong Thi Thu Huong u/h | E38: 100000
A39: 16/04 | B39: Tra lai tien gui | E39: 21365
A40: 16/04 | B40: NTCM tra tien 40kg gao nep | F40: 960000
A41: 18/04 | B41: Doan Ly Son u/h | E41: 3465259
A42: 18/04 | B42: NTCM chuyen khoan tien mua 10kg thit ngay 154 | F42: 1000000
A43: 21/04 | B43: Hang Linh u/h | E43: 1000000
A44: 22/04 | B44: Chi Nhan CLB Tu thien Chao HN u/h | E44: 100000
...

Sheet T5.23
A1: BÁO CÁO THU CHI QUỸ NỒI XÔI - BV THẬN HÀ NỘI
A2: THÁNG 05/2023
A4: NGÀY | B4: DIỄN GIẢI | C4: HÌNH THỨC CM | E4: ỦNG HỘ TIỀN
E5: THU | F5: CHI
C6: KTX | D6: TX
B7: DƯ ĐẦU KỲ | E7: =T4.23!E53 -> 72096315
A8: 04/05 | B8: Hien Minh CK 10kg gạo nếp | E8: 245000
A9: 06/05 | B9: Tran Nhat Le u/h | E9: 200000
A10: 06/05 | B10: Nghiem Thanh Loan ban Duong Thi Thu Huong u/h | E10: 200000
A11: 06/05 | B11: Giang Manh Cam ban Duong Thi Thu Huong u/h | E11: 200000
A12: 06/05 | B12: Chi Nguyen Thuy ban Duong Thi Thu Huong u/h | E12: 100000
A13: 09/05 | B13: NTCM chuyen tien thit cha ngay 65 | F13: 1600000
A14: 21/05 | B14: Tra lai tien gui | E14: 21063
A15: 31/05 | B15: Le Phuong Mai u/h | E15: 400000
A16: 31/05 | B16: Cty CP Dau tu TM Van Phuc u/h | E16: 1000000
B17: TỔNG CỘNG | E17: =SUM(E8:E16) -> 2366063 | F17: =SUM(F8:F16) -> 1600000
B18: DƯ CUỐI KỲ | E18: =E7+E17-F17 -> 72862378

Sheet T6.23
A1: BÁO CÁO THU CHI QUỸ NỒI XÔI - BV THẬN HÀ NỘI
A2: THÁNG 06/2023
A4: NGÀY | B4: DIỄN GIẢI | C4: ỦNG HỘ TIỀN
C5: THU | D5: CHI
B7: DƯ ĐẦU KỲ | C7: =T5.23!E18 -> 72862378
A8: 03/06 | B8: Thuy 500 Giang 500 Son 200 | C8: 1200000
A9: 03/06 | B9: UH Xoi vien than Trace 235578 NG CHUYEN:CUSTOMER 5064 | C9: 200000
A10: 03/06 | B10: Hoai Nam ban DUONG THI THU HUONG u/h | C10: 200000
A11: 03/06 | B11: Bich Ngoc ban DUONG THI THU HUONG u/h | C11: 100000
A12: 03/06 | B12: Vinh Ai ban DUONG THI THU HUONG u/h | C12: 100000
A13: 03/06 | B13: Chi Tuyet Lan ban DUONG THI THU HUONG u/h | C13: 100000
A14: 03/06 | B14: Ngo Hong Van ban DUONG THI THU HUONG u/h | C14: 100000
A15: 03/06 | B15: Hang Lam ban DUONG THI THU HUONG u/h | C15: 100000
A16: 04/06 | B16: Giang Manh Cam ban DUONG THI THU HUONG u/h | C16: 100000
A17: 05/06 | B17: EM QUE BAN DUONG THI THU HUONG u/h | C17: 100000
A18: 05/06 | B18: NTCM chuyen tien thit va cha ngay 262023 | D18: 1500000
A19: 09/06 | B19: NGUYEN THI THANH HA u/h | C19: 500000
A20: 10/06 | B20: Em QA ban Thu Huong u/h | C20: 100000
A21: 10/06 | B21: Thu Huyen em Thu Huong u/h | C21: 200000
A22: 10/06 | B22: Girl xinh ban Thu Huong u/h | C22: 200000
A23: 10/06 | B23: Hoai Nam ban Thu Huong u/h | C23: 100000
A24: 10/06 | B24: To Huong u/h | C24: 500000
A25: 11/06 | B25: Bsi Luong u/h | C25: 2000000
A26: 13/06 | B26: NTCM thanh toan tien thit cha ngay 106 | D26: 1550000
A27: 14/06 | B27: CMX chuyen tien UH du cho Thu 7 yeu thuong | C27: 18957000
A28: 16/06 | B28: hien minh ck tien 10kg gao u/h | C28: 245000
A29: 16/06 | B29: e Hoai Btt u/h | C29: 500000
A30: 16/06 | B30: NTCM ck tien 44kg gao nep | D30: 1056000
A31: 16/06 | B31: NTCM chuyen tien mua cho do xoi | D31: 1200000
A32: 17/06 | B32: Tra lai tien gui | C32: 5833
A33: 17/06 | B33: Duong Ngoc Cuong bac Duong Thi Thu Huong u/h | C33: 100000
A34: 17/06 | B34: Xuyen ban Duong Thi Thu Huong u/h | C34: 100000
A35: 17/06 | B35: Kien anh cua Duong Thi Thu Huong u/h | C35: 100000
A36: 17/06 | B36: TO THI THU HUONG u/h | C36: 500000
A37: 18/06 | B37: TU NGUYEN LINH u/h | C37: 500000
A38: 18/06 | B38: Nguyen Son va em gai ban cua Duong Thi Thu Huong UH noi sup | C38: 300000
A39: 19/06 | B39: chuyen tra noi sup | D39: 300000
A40: 20/06 | B40: NTCM tra tien thit cha ngay 176 | D40: 1700000
A41: 22/06 | B41: Trinh Hai Duy u/h | C41: 200000
A42: 25/06 | B42: NTCM tra tien 100kg gao nep | D42: 2200000
...

Sheet T7.23
A1: BÁO CÁO THU CHI QUỸ NỒI XÔI - BV THẬN HÀ NỘI
A2: THÁNG 07/2023
A4: NGÀY | B4: DIỄN GIẢI | C4: HÌNH THỨC CM | E4: ỦNG HỘ TIỀN
E5: THU | F5: CHI
B6: DƯ ĐẦU KỲ | E6: =T6.23!C46 -> 88914211
A7: 01/07 | B7: Yen ban Mai Tan u/h | E7: 1600000
A8: 01/07 | B8: Mai Tan u/h | E8: 1000000
A9: 01/07 | B9: Vu Quoc Trang u/h | E9: 1000000
A10: 01/07 | B10: Girl xinh ban Thu Huong u/h | E10: 200000
A11: 01/07 | B11: Xmai Qnghia u/h | E11: 500000
A12: 01/07 | B12: NTCM mua thia tui | F12: 220000
A13: 03/07 | B13: NTCM chuyen tien thit cha ngay 172023 | F13: 1800000
A14: 06/07 | B14: Trinh Hai Duy u/h | E14: 200000
A15: 08/07 | B15: A Tan - Người nhà BN u/h | E15: 200000
A16: 08/07 | B16: Phuong Mai ban Mai Tan u/h | E16: 500000
A17: 09/07 | B17: Nguyen Dinh Thang u/h | E17: 2000000
A18: 10/07 | B18: NTCM chuyen tien mua cho do xoi | F18: 500000
A19: 10/07 | B19: Thuy Duong u/h | E19: 200000
A20: 11/07 | B20: NTCM chuyen tien thit 8 kg cha 8kg ngay 8723 | F20: 1840000
A21: 13/07 | B21: NGUYEN THI THE THANH UHX vien Than | E21: 300000
A22: 15/07 | B22: PHAM BACH ung ho thu 7 yeu thuong | E22: 200000
A23: 15/07 | B23: Tra lai tien gui | E23: 7043
A24: 16/07 | B24: NTCM tra tien thit cha ngay 157 | F24: 1840000
A25: 18/07 | B25: TO THANH THUY chuyen tien | E25: 500000
A26: 20/07 | B26: QN va XMai ung ho be xoi | E26: 500000
A27: 21/07 | B27: Gd Ba Nga Huy Ngoc Nhi Phong UH Xoi HN | E27: 1000000
A28: 23/07 | B28: Loan ban Duong Thi Thu Huong UH noi xoi | E28: 200000
A29: 23/07 | B29: Nguoi dau ten ban Duong Thi Thu Huong | E29: 200000
A30: 23/07 | B30: NTCM chuyen tien thit cha ngay 227 | F30: 1840000
A31: 28/07 | B31: Em Hieu Dao ung ho noi xoi | E31: 500000
A32: 28/07 | B32: Ong Pham Quang Hao ck 10kg nep nhung UH BVTHN | E32: 245000
A33: 29/07 | B33: Minh Anh ban Duong Thi Thu Huong UH noi xoi | E33: 100000
A34: 30/07 | B34: LE KIM CHUNG UH be xoi | E34: 1000000
A35: 31/07 | B35: DOAN THE PHUONG u/h | E35: 1000000
A36: 31/07 | B36: Chi Ngoc nho Duong Thi Thi Huong chuyen UH noi xoi | E36: 500000
B37: TỔNG CỘNG | E37: =SUM(E7:E36) -> 13652043 | F37: =SUM(F7:F36) -> 8040000
B38: DƯ CUỐI KỲ | E38: =E6+E37-F37 -> 94526254

Sheet T8.23
A1: BÁO CÁO THU CHI QUỸ NỒI XÔI - BV THẬN HÀ NỘI
A2: THÁNG 08/2023
A4: NGÀY | B4: DIỄN GIẢI | C4: HÌNH THỨC CM | E4: ỦNG HỘ TIỀN
E5: THU | F5: CHI
C6: KTX | D6: TX
B7: TỒN ĐẦU KỲ | E7: =T7.23!E38 -> 94526254
A8: 03/08 | B8: NTCM tra tien mua thit cha ngay 297 | F8: 1840000
A9: 04/08 | B9: Xmai Qnghia u/h | E9: 500000
A10: 04/08 | B10: NTCM chuyen tien mua 100kg gao nep | F10: 2400000
A11: 05/08 | B11: HTL ban Duong Thi Thu Huong | E11: 500000
A12: 06/08 | B12: Hoa Van Tap u/h | E12: 1000000
A13: 07/08 | B13: Hoa Van Toan u/h | E13: 500000
A14: 07/08 | B14: NTCM tra tien mua thit cha ngay 5823 | F14: 1840000
A15: 11/08 | B15: Hang u/h | E15: 200000
A16: 11/08 | B16: Em Nhung PEPFAR u/h | E16: 500000
A17: 12/08 | B17: BN vien than gui tang | E17: 100000
A18: 12/08 | B18: C Loan TranTrang An UH | E18: 500000
A19: 12/08 | B19: Ngo Thai Duy uh | E19: 200000
A20: 12/08 | B20: NTCM chuyen tien mua do | F20: 275000
A21: 12/08 | B21: NTCM chuyen tien mua thit cha ngay 12823 | F21: 1840000
A22: 13/08 | B22: Em gai cung con UH be Xoi | E22: 500000
A23: 13/08 | B23: Co Binh 19 Tong Dan ung ho be xoi | E23: 100000
A24: 13/08 | B24: TQA ban Duong Thi Thu Huong UH noi xoi | E24: 100000
A25: 16/08 | B25: To Thanh Thuy u/h | E25: 500000
A26: 16/08 | B26: Ngo Hong Van ban Duong Thi Thu Huong UH noi xoi | E26: 100000
A27: 17/08 | B27: Nguyen Hoai Nam ban Duong Thi Thu Huong UH noi xoi | E27: 100000
A28: 17/08 | B28: Tran Kieu Huong UH xoi Vien Than | E28: 200000
A29: 19/08 | B29: Tra lai tien gui | E29: 8807
A30: 22/08 | B30: NTCM tra tien thit cha ngay 198 | F30: 1840000
A31: 26/08 | B31: Gia dinh bac o Tay Ho UH noi xoi | E31: 2180000
A32: 30/08 | B32: NTCM chuyen tien thit cha | F32: 1900000
A33: 30/08 | B33: NTCM chuyen tien mam gia vi chat dot thang 8 | F33: 500000
A34: 30/08 | B34: NTCM chuyen tien 01 thung dung thit | F34: 320000
A35: 30/08 | B35: To Thanh Thuy u/h | E35: 500000
B36: TỔNG CỘNG | E36: =SUM(E8:E35) -> 8288807 | F36: =SUM(F8:F35) -> 12755000
B37: TỒN CUỐI KỲ | E37: =E7+E36-F36 -> 90060061

Sheet T9.23
A1: BÁO CÁO THU CHI QUỸ NỒI XÔI - BV THẬN HÀ NỘI
A2: THÁNG 09/2023
A4: NGÀY | B4: DIỄN GIẢI | C4: HÌNH THỨC CM | E4: ỦNG HỘ TIỀN
E5: THU | F5: CHI
C6: KTX | D6: TX
B7: TỒN ĐẦU KỲ | E7: =T8.23!E37 -> 90060061
A8: 01/09 | B8: QNghia XMai gop xoi cho benh nhan than | E8: 500000
A9: 06/09 | B9: Ba Mac va cac chau HienMinh UH 10kg gao nep cho BN BVT ha noi | E9: 250000
A10: 07/09 | B10: Hoa van Tap ung ho noi Xoi | E10: 1000000
A11: 07/09 | B11: NTCM chuyen tien 75kg gao nep nhung | F11: 1650000
A12: 09/09 | B12: Anh Thuoc ban Duong Thi Thu Huong UH noi xoi | E12: 200000
A13: 15/09 | B13: TO THANH THUY UH be xoi | E13: 500000
A14: 16/09 | B14: Ba Dung nho Duong Thu Huong | E14: 100000
A15: 16/09 | B15: NTCM chuyen tien cha thit ngay 9923 | F15: 1900000
A16: 16/09 | B16: NTCM tra tien thit cha ngay 16923 | F16: 1900000
A17: 17/09 | B17: Tra lai tien gui | E17: 6962
A18: 22/09 | B18: Minh Nhat UH xoi vien than | E18: 300000
A19: 22/09 | B19: Ban Mai Tan UH xoi vien than | E19: 1000000
A20: 23/09 | B20: AC Toan Lan ban Duong Thi Thu Huong UH noi xoi | E20: 500000
A21: 23/09 | B21: NTCM thanh toan tien mua them cha ngay 23923 | F21: 180000
A22: 23/09 | B22: NTCM tra tien thit cha ngay 23923 | F22: 1900000
A23: 26/09 | B23: HOANG ANH UH xoi vien than | E23: 500000
A24: 28/09 | B24: Sen Trang ung ho xoi vien than | E24: 500000
A25: 30/09 | B25: NTCM chuyen tien thit cha | F25: 1900000
A26: 30/09 | B26: NTCM tra tien mam muoi gia vi gas thang 923 | F26: 500000
A27: 30/09 | B27: NTCM tra tien thia gang tay giay an ngay 30923 | F27: 345000
A28: 30/09 | B28: NTCM chuyen tien them 1kg cha 1 kg thit ngay 30923 | F28: 240000
A29: 30/09 | B29: Me ruot cua Son UH noi Xoi | E29: 100000
B30: TỔNG CỘNG | E30: =SUM(E8:E29) -> 5456962 | F30: =SUM(F8:F29) -> 10515000
B31: TỒN CUỐI KỲ | E31: =E7+E30-F30 -> 85002023

Sheet T10.23
A1: BÁO CÁO THU CHI QUỸ NỒI XÔI - BV THẬN HÀ NỘI
A2: THÁNG 10/2023
A4: NGÀY | B4: DIỄN GIẢI | C4: HÌNH THỨC CM | E4: ỦNG HỘ TIỀN
E5: THU | F5: CHI
C6: KTX | D6: TX
B7: TỒN ĐẦU KỲ | E7: =T9.23!E31 -> 85002023
B25: TỔNG CỘNG | E25: =SUM(E8:E24) -> 0 | F25: =SUM(F8:F24) -> 0
B26: TỒN CUỐI KỲ | E26: =E7+E25-F25 -> 85002023

Sheet T11.23
A1: BÁO CÁO THU CHI QUỸ NỒI XÔI - BV THẬN HÀ NỘI
A2: THÁNG 11/2023
A4: NGÀY | B4: DIỄN GIẢI | C4: HÌNH THỨC CM | E4: ỦNG HỘ TIỀN
E5: THU | F5: CHI
C6: KTX | D6: TX
B7: TỒN ĐẦU KỲ | E7: =T10.23!E26 -> 85002023
B21: TỔNG CỘNG | E21: =SUM(E8:E20) -> 0 | F21: =SUM(F8:F20) -> 0
B22: TỒN CUỐI KỲ | E22: =E7+E21-F21 -> 85002023

Sheet T12.23
A1: BÁO CÁO THU CHI QUỸ NỒI XÔI - BV THẬN HÀ NỘI
A2: THÁNG 12/2023
A4: NGÀY | B4: DIỄN GIẢI | C4: HÌNH THỨC CM | E4: ỦNG HỘ TIỀN
E5: THU | F5: CHI
C6: KTX | D6: TX
B7: TỒN ĐẦU KỲ | E7: =T11.23!E22 -> 85002023
B18: TỔNG CỘNG | E18: =SUM(E8:E17) -> 0 | F18: =SUM(F8:F17) -> 0
B19: TỒN CUỐI KỲ | E19: =E7+E18-F18 -> 85002023

Sheet Tổng thu - chi
A1: TỔNG HỢP THU CHI QUỸ NỒI XÔI - BV THẬN HÀ NỘI NĂM 2023
A2: THÁNG | B2: THU | E2: CHI | M2: Gửi tiết kiệm | N2: TỒN CUỐI KỲ
B3: Tiền u/h | C3: Tiền lãi | D3: TỔNG THU | E3: Thịt, Chả | F3: Gạo nếp | G3: Gia vị | H3: Bát giấy, thìa, túi | I3: Chõ đồ xôi | J3: Thùng nhựa | K3: Chi khác | L3: TỔNG CHI
A4: DƯ ĐẦU KỲ | N4: 0
A5: Tháng 1 | D5: =SUM(B5:C5) -> 0 | L5: =SUM(E5:K5) -> 0 | N5: =N4+D5-L5-M5 -> 0
A6: Tháng 2 | B6: 35016666 | C6: 405 | D6: =SUM(B6:C6) -> 35017071 | E6: =1850000+1690000 -> 3540000 | J6: 1350000 | L6: =SUM(E6:K6) -> 4890000 | N6: =N5+D6-L6-M6 -> 30127071
A7: Tháng 3 | B7: 30300000 | C7: 13620 | D7: =SUM(B7:C7) -> 30313620 | E7: 5130000 | F7: 1104000 | H7: 1047000 | L7: =SUM(E7:K7) -> 7281000 | N7: =N6+D7-L7-M7 -> 53159691
A8: Tháng 4 | B8: 25710259 | C8: 21365 | D8: =SUM(B8:C8) -> 25731624 | E8: =4660000+400000 -> 5060000 | F8: 960000 | G8: 275000 | K8: 500000 | L8: =SUM(E8:K8) -> 6795000 | N8: =N7+D8-L8-M8 -> 72096315
A9: Tháng 5 | B9: 2345000 | C9: 21063 | D9: =SUM(B9:C9) -> 2366063 | E9: 1600000 | L9: =SUM(E9:K9) -> 1600000 | N9: =N8+D9-L9-M9 -> 72862378
A10: Tháng 6 | B10: 27452000 | C10: 5833 | D10: =SUM(B10:C10) -> 27457833 | E10: 6650000 | F10: 3256000 | I10: 1200000 | K10: 300000 | L10: =SUM(E10:K10) -> 11406000 | N10: =N9+D10-L10-M10 -> 88914211
A11: Tháng 7 | B11: 13645000 | C11: 7043 | D11: =SUM(B11:C11) -> 13652043 | E11: 7320000 | H11: 220000 | I11: 500000 | L11: =SUM(E11:K11) -> 8040000 | N11: =N10+D11-L11-M11 -> 94526254
A12: Tháng 8 | B12: 8280000 | C12: 8807 | D12: =SUM(B12:C12) -> 8288807 | E12: 9260000 | F12: 2400000 | G12: 500000 | H12: 275000 | J12: 320000 | L12: =SUM(E12:K12) -> 12755000 | N12: =N11+D12-L12-M12 -> 90060061
A13: Tháng 9 | B13: 5450000 | C13: 6962 | D13: =SUM(B13:C13) -> 5456962 | E13: 8020000 | F13: 1650000 | G13: 500000 | H13: 345000 | L13: =SUM(E13:K13) -> 10515000 | N13: =N12+D13-L13-M13 -> 85002023
A14: Tháng 10 | D14: =SUM(B14:C14) -> 0 | L14: =SUM(E14:K14) -> 0 | N14: =N13+D14-L14-M14 -> 85002023
A15: Tháng 11 | D15: =SUM(B15:C15) -> 0 | L15: =SUM(E15:K15) -> 0 | N15: =N14+D15-L15-M15 -> 85002023
A16: Tháng 12 | D16: =SUM(B16:C16) -> 0 | L16: =SUM(E16:K16) -> 0 | N16: =N15+D16-L16-M16 -> 85002023
A17: TỔNG | B17: =SUM(B5:B16) -> 148198925 | C17: =SUM(C5:C16) -> 85098 | D17: =SUM(B17:C17) -> 148284023 | E17: =SUM(E5:E16) -> 46580000 | F17: =SUM(F5:F16) -> 9370000 | G17: =SUM(G5:G16) -> 1275000 | H17: =SUM(H5:H16) -> 1887000 | I17: =SUM(I5:I16) -> 1700000 | J17: =SUM(J5:J16) -> 1670000 | K17: =SUM(K5:K16) -> 800000 | L17: =SUM(E17:K17) -> 63282000 | M17: =SUM(M5:M16) -> 0 | N17: =N4+D17-L17-M17 -> 85002023
A18: Trung bình tháng | D18: =ROUND(D17/12,0) -> 12357002 | F18: =ROUND(F17/12,0) -> 780833 | G18: =ROUND(G17/12,0) -> 106250 | H18: =ROUND(H17/12,0) -> 157250 | I18: =ROUND(I17/12,0) -> 141667 | K18: =ROUND(K17/12,0) -> 66667 | L18: =ROUND(L17/12,0) -> 5273500

Sheet Sheet1
A1: Nguyên liệu | B1: Số tiền
A2: Thịt (6kg*120k) | B2: =6*120000 -> 720000
A3: Cà rốt, bí đỏ | B3: 300000
A4: Gạo (12kg*20.000đ) | B4: =12*20000 -> 240000
A5: Gia vị,dầu ăn, giấy ăn, găng tay (tính tương đối) | B5: 50000
A6: Ga (400k/1 bình) (tính tương đối) | B6: 400000
A7: Chi phí trung bình cho mỗi suất cháo ( Mỗi buổi nấu 350 suất) Khi chưa tính cốc | B7: =SUM(B2:B6)/350 -> 4885.7143
A8: Cốc nhựa
A9: Bát giấy
A20: Cho 5 nồi (~350 suất) | B20: Cho 4 nồi (~300 suất)
