Workbook

Sheet thang1.2023
A1: Thu - chi nấu soup tháng 1 - 2023
A3: TT | B3: Ngày | C3: Nội dung | D3: Ủng hộ hiện vật | E3: Thu | F3: Chi | G3: Tồn quỹ | H3: Ghi chú
B4: Tồn quỹ năm 2022 chuyển sang | G4: ='[1]tháng11-2022'!G45 -> 238346413
A5: 1 | B5: 44930 | C5: Minh Thao Do uh | E5: 500000
A6: 2 | B6: 44930 | C6: Ba bố con Vu Quang (bạn chị Kim Oanh Do) uh | E6: 2000000
A7: 3 | B7: 44930 | C7: Nhóm Ng: Viet Hoa và các bạn uh | E7: 2400000
A8: 4 | B8: 44934 | C8: Nam Trang (Minh Châu) uh | E8: 500000
A9: 5 | B9: 44934 | C9: Thu Yến Hà An uh | E9: 500000
A10: 6 | B10: 44934 | C10: Phương Toàn Thế uh | E10: 2000000
A11: 7 | B11: 44934 | C11: Nguyễn Linh uh | E11: 1000000
A12: 8 | B12: 44934 | C12: Nguyễn Hạnh uh | E12: 1000000
A13: 9 | B13: 44934 | C13: Mai Anh & mẹ uh | E13: 500000
A14: 10 | B14: 44934 | C14: Hiền Linh uh | E14: 500000
A15: 11 | B15: 44934 | C15: Ngô Minh Châu uh | E15: 500000
A16: 12 | B16: 44934 | C16: Mua thịt | F16: 770000
A17: 13 | B17: 44934 | C17: Mua xương | F17: 280000
A18: 14 | B18: 44934 | C18: Mua bánh mỳ | F18: 616000
A19: 15 | B19: 44934 | C19: Mua rau | F19: 850000
A20: 16 | B20: 44934 | C20: Mua gaz 2 bình | F20: 760000
C21: Cộng | E21: =SUM(E5:E20) -> 11400000 | F21: =SUM(F5:F20) -> 3276000 | G21: =G4+E21-F21 -> 246470413

Sheet thang2.2023
A1: Thu - chi nấu soup tháng 2 - 2023
A3: TT | B3: Ngày | C3: Nội dung | D3: Ủng hộ hiện vật | E3: Thu | F3: Chi | G3: Tồn quỹ | H3: Ghi chú
B4: Tồn quỹ tháng 1 chuyển sang | G4: =thang1.2023!G21 -> 246470413
A5: 1 | B5: 44960 | C5: Ba bố con Vu Quang (bạn chị Kim Oanh Do) uh | E5: 2000000
A6: 2 | B6: 44953 | C6: Không tên uh | E6: 500000
A7: 3 | B7: 44962 | C7: Thanh Thủy Hương Giang uh | E7: 500000
A8: 4 | B8: 44962 | C8: Phạm Huyền uh | E8: 550000
A9: 5 | B9: 44962 | C9: Hạnh Lại uh | E9: 1000000
A10: 6 | B10: 44962 | C10: Tín Yến Hà An uh | E10: 500000
A11: 7 | B11: 44962 | C11: Kim Anh uh | E11: 500000
A12: 8 | B12: 44962 | C12: Tuyến say uh | E12: 500000
A13: 9 | B13: 44962 | C13: Thu Hương uh | E13: 500000
A14: 10 | B14: 44962 | C14: Tuyết Hoa uh | E14: 500000
A15: 11 | B15: 44962 | C15: Bà Thuận uh | D15: bí đỏ
A16: 12 | B16: 44962 | C16: Mua dầu hào nấu soup chay | F16: 50000
A17: 13 | B17: 44962 | C17: Mua nước mắm | F17: 40000
A18: 14 | B18: 44962 | C18: Mua hạt nêm | F18: 40000
A19: 15 | B19: 44962 | C19: Mua nấm hương khô | F19: 60000
A20: 16 | B20: 44962 | C20: Mua mộc nhĩ | F20: 50000
A21: 17 | B21: 44962 | C21: Mua váng đậu | F21: 50000
A22: 18 | B22: 44962 | C22: Mua hạt sen | F22: 130000
A23: 19 | B23: 44962 | C23: Mua nấm đông cô | F23: 90000
A24: 20 | B24: 44962 | C24: Mua nấm đùi gà | F24: 180000
A25: 21 | B25: 44962 | C25: Mua nấm kim châm | F25: 60000
A26: 22 | B26: 44962 | C26: Mua cà rốt | F26: 30000
A27: 23 | B27: 44962 | C27: Mua khoai tây | F27: 60000
... A29: 25 | B29: 44962 | C29: Mua hành tây, rau mùi | F29: 20000
A30: 26 | C30: Trứng gà | F30: 60000
A31: 27 | B31: 44962 | C31: Mua bánh mỳ | F31: 440000
A32: 28 | C32: Công đức Chùa | F32: 1400000
A33: 29 | B33: 44976 | C33: Duyên Tường uh | E33: 2000000
A34: 30 | B34: 44976 | C34: Chị Thu (bạn Thu Hương) uh | E34: 2000000
A35: 31 | B35: 44976 | C35: Hiệu Đào uh | E35: 500000
A36: 32 | B36: 44976 | C36: Kim Ngân uh | E36: 500000
A37: 33 | B37: 44976 | C37: Huong Nguyen Thi Thu uh | E37: 1000000
A38: 34 | B38: 44976 | C38: Chị Hà uh | E38: 500000
A39: 35 | B39: 44976 | C39: Chị Anh Nguyet Phung uh | E39: 500000
A40: 36 | B40: 44976 | C40: Chị Ng: Thị Mùi 163 Khâm Thiên uh | E40: 200000
A41: 37 | B41: 44976 | C41: Anh Long uh | E41: 1000000
A42: 38 | B42: 44976 | C42: Duyen Tuong mua thịt | F42: 770000
A43: 39 | B43: 44976 | C43: Mua xương | F43: 280000
A44: 40 | B44: 44976 | C44: Mua trứng gà | F44: 90000
A45: 41 | B45: 44976 | C45: Mua bánh mỳ | F45: 538000
A46: 42 | B46: 44976 | C46: Mua bánh mỳ | F46: 97000
A47: 43 | B47: 44976 | C47: Mua ngô ngọt | F47: 300000
A48: 44 | B48: 44976 | C48: Mua khoai tây | F48: 110000
A49: 45 | B49: 44976 | C49: Mua cà rốt | F49: 65000
A50: 46 | B50: 44976 | C50: Mua củ cải | F50: 60000
A51: 47 | B51: 44976 | C51: Mua bí đỏ | F51: 75000
A52: 48 | B52: 44976 | C52: Mua nấm tươi | F52: 200000
A53: 49 | B53: 44976 | C53: Mua nấm khô | F53: 90000
A54: 50 | B54: 44976 | C54: Mua túi đựng bánh | F54: 80000
A55: 51 | B55: 44969 | C55: Phạm Huyền uh | E55: 1000000
A56: 52 | B56: 44969 | C56: Bình Bùi (bạn Phạm Huyền | E56: 1000000
A57: 53 | B57: 44969 | C57: Hoàng Hường | E57: 500000
A58: 54 | B58: 44969 | C58: Thái Hà uh | E58: 300000
A59: 55 | B59: 44969 | C59: Phạm Huyền mua thịt | F59: 770000
A60: 56 | B60: 44969 | C60: Mua xương | F60: 280000
A61: 57 | B61: 44969 | C61: Mua bánh mỳ: | F61: 616000
A62: 58 | B62: 44969 | C62: Mua Rau: 880k | F62: 850000
A63: 59 | B63: 44969 | C63: Mua Ga(2 bình) | F63: 800000
A64: 60 | B64: 44983 | C64: Người nhà BN Viện HH uh | E64: 1000000
A65: 61 | B65: 44983 | C65: Cô Thuận uh | D65: Bí đỏ
A66: 62 | B66: 44983 | C66: Mua thịt nạc xay | F66: 770000
A67: 63 | B67: 44983 | C67: Mua xương | F67: 280000
A68: 64 | B68: 44983 | C68: Mua rau các loại | F68: 800000
A69: 65 | B69: 44983 | C69: Mua bánh mỳ | F69: 644000
A70: 66 | B70: 44983 | C70: Mua Ga(2 bình) | F70: 800000
A71: 67 | B71: 44983 | C71: Mua 1.5kg nấm hương khô | F71: 390000
A72: 68 | B72: 44983 | C72: Mua 25kg bột | F72: 1100000
A73: 69 | C73: Lãi tiền gửi tiết kiệm | E73: 2400000
C74: Cộng | E74: =SUM(E5:E73) -> 21450000 | F74: =SUM(F5:F73) -> 13645000 | G74: =G4+E74-F74 -> 254275413

Sheet tháng3.2023
A1: Thu - chi nấu soup tháng 3 - 2023
A3: TT | B3: Ngày | C3: Nội dung | D3: Ủng hộ hiện vật | E3: Thu | F3: Chi | G3: Tồn quỹ | H3: Ghi chú
B4: Tồn quỹ tháng 2 chuyển sang | G4: =thang2.2023!G74 -> 254275413
A5: 1 | B5: 44990 | C5: Twins mareo uh | E5: 500000
A6: 2 | B6: 44990 | C6: Hoàng Thanh Trung uh | E6: 500000
A7: 3 | B7: 44990 | C7: Hoàng Thị Thu Hà uh | E7: 200000
A8: 4 | B8: 44990 | C8: Hùng Râu uh | E8: 1000000
A9: 5 | B9: 44990 | C9: 3 bố con Vũ Quang | E9: 2000000
A10: 6 | B10: 44990 | C10: Cô Thuận uh | D10: Bí đỏ
A11: 7 | B11: 44990 | C11: Mua thịt | F11: 770000
A12: 8 | B12: 44990 | C12: Mua xương | F12: 280000
A13: 9 | B13: 44990 | C13: Mua bánh mỳ | F13: 616000
A14: 10 | B14: 44990 | C14: Mua rau | F14: 800000
A15: 11 | B15: 44997 | C15: Phạm Bích Hường uh | E15: 2000000
A16: 12 | B16: 44997 | C16: Trần Thảo Quyên uh | E16: 800000
A17: 13 | B17: 44997 | C17: Thầy Thích Thanh Huy uh | E17: 13500000
A18: 14 | B18: 44997 | C18: Vu Xuan Le uh | E18: 616000
A19: 15 | B19: 44997 | C19: Mua thịt gà | F19: 520000
A20: 16 | B20: 44997 | C20: Mua Xương | F20: 160000
A21: 17 | B21: 44997 | C21: Mua xương gà | F21: 100000
A22: 18 | B22: 44997 | C22: Mua bánh mỳ | F22: 616000
A23: 19 | B23: 44997 | C23: Mua ngô | F23: 500000
A24: 20 | B24: 44997 | C24: Mua khoai tây | F24: 88000
A25: 21 | B25: 44997 | C25: Mua cà rốt | F25: 60000
A26: 22 | B26: 44997 | C26: Mua hành tây | F26: 30000
A27: 23 | B27: 44997 | C27: Mua nấm tươi | F27: 150000
A28: 24 | B28: 44997 | C28: Mua trứng gà | F28: 80000
A29: 25 | B29: 44997 | C29: Mua nước mắm | F29: 150000
A30: 26 | B30: 45004 | C30: Mẹ Mai Anh uh | E30: 200000
A31: 27 | B31: 45004 | C31: Thanh Trà bạn Hương uh | E31: 100000
A32: 28 | B32: 45004 | C32: Gia đình bác Nhi uh | E32: 4000000
A33: 29 | B33: 45004 | C33: Ng: Thị Ngững uh | E33: 602000
A34: 30 | B34: 45004 | C34: Mua thịt | F34: 770000
A35: 31 | B35: 45004 | C35: Mua xương | F35: 280000
A36: 32 | B36: 45004 | C36: Mua bánh mỳ | F36: 616000
A37: 33 | B37: 45004 | C37: Rau củ quả | F37: 800000
A38: 34 | B38: 45011 | C38: Phạm Thị Ngọc Huyền uh | E38: 500000
A39: 35 | B39: 45011 | C39: Dương Thị Thu Hương | E39: 200000
A40: 36 | B40: 45011 | C40: Tín Yến Hà An uh | E40: 500000
A41: 37 | B41: 45011 | C41: Bùi Bình bạn Phạm Huyền | E41: 1000000
A42: 38 | B42: 45011 | C42: Hạnh uh | E42: 1000000
A43: 39 | B43: 45011 | C43: Vĩnh Ái (bạn Hương) uh | E43: 300000
A44: 40 | B44: 45011 | C44: Đinh Ngân uh | E44: 200000
A45: 41 | B45: 45011 | C45: Lâm Nguyễn uh | E45: 300000
A46: 42 | B46: 45011 | C46: Mua thịt | F46: 770000
A47: 43 | B47: 45011 | C47: Mua xương | F47: 280000
A48: 44 | B48: 45011 | C48: Mua bánh mỳ | F48: 616000
A49: 45 | B49: 45011 | C49: Mua rau của quả | F49: 850000
E50: =SUM(E5:E49) -> 30018000 | F50: =SUM(F5:F49) -> 9902000 | G50: =G4+E50-F50 -> 274391413

Sheet tháng4.2023
A1: Thu - chi nấu soup tháng 4 - 2023
A3: TT | B3: Ngày | C3: Nội dung | D3: Ủng hộ hiện vật | E3: Thu | F3: Chi | G3: Tồn quỹ | H3: Ghi chú
B4: Tồn quỹ tháng 4 chuyển sang | G4: =tháng3.2023!G50 -> 274391413
A5: 1 | B5: 45018 | C5: 3 bố con Vũ Quang uh | E5: 2000000
A6: 2 | B6: 45018 | C6: Ngọc Huy uh | E6: 500000
A7: 3 | B7: 45018 | C7: Như Phong uh | E7: 200000
A8: 4 | B8: 45018 | C8: Trần Thị Nga uh | E8: 500000
A9: 5 | B9: 45018 | C9: Sơn rau uh | E9: 50000
A10: 6 | B10: 45018 | C10: Cô Thuận uh | D10: Bí đỏ
A11: 7 | B11: 45018 | C11: Mua thịt | F11: 770000
A12: 8 | B12: 45018 | C12: Mua xương | F12: 280000
A13: 9 | B13: 45018 | C13: Mua bánh mỳ | F13: 616000
A14: 10 | B14: 45018 | C14: Mua rau | F14: 850000
A15: 11 | B15: 45018 | C15: Mua nấm khô | F15: 300000
A16: 13 | B16: 9/4/2023 | C16: Khánh Vân, Thu Thủy, Manh Cam bạn Dương Thị Thu Hương uh | E16: 300000
A17: 14 | B17: 9/4/2023 | C17: Hằng uh | E17: 500000
A18: 15 | B18: 9/4/2023 | C18: Phạm Huyền mua thịt | F18: 770000
A19: 16 | B19: 9/4/2023 | C19: Mua xương | F19: 280000
A20: 17 | B20: 9/4/2023 | C20: Mua bánh mỳ | F20: 616000
A21: 18 | B21: 9/4/2023 | C21: Mua rau | F21: 850000
A22: 19 | B22: 9/4/2023 | C22: Mua gaz (2 bình)
A23: 27 | B23: 16/4/2023 | C23: Hoàng Thanh Trung uh | E23: 500000
B24: 16/4/2023 | C24: Anh Vũ uh | E24: 620000
A25: 28 | B25: 16/4/2023 | C25: Mua thịt gà (10kg) | F25: 650000
A26: 29 | B26: 16/4/2023 | C26: Mua xương (4kg) | F26: 160000
A27: 30 | B27: 16/4/2023 | C27: Mua xương gà (5kg) | F27: 100000
A28: 31 | B28: 16/4/2023 | C28: Mua bánh mỳ (110c) | F28: 616000
A29: 32 | B29: 16/4/2023 | C29: Mua ngô (40b) | F29: 400000
A30: 33 | B30: 16/4/2023 | C30: Mua khoai tây (10kg) | F30: 220000
A31: 34 | B31: 16/4/2023 | C31: Mua carot (7kg) | F31: 90000
A32: 35 | B32: 16/4/2023 | C32: Mua hành tây (1kg) | F32: 15000
A33: 36 | B33: 16/4/2023 | C33: Mua nấm tươi (4kg) | F33: 180000
A34: 37 | B34: 16/4/2023 | C34: Mua trứng gà (30 quả) | F34: 75000
A35: 38 | B35: 16/4/2023 | C35: Mua bột năng (4kg) | F35: 140000
B36: 16/4/2023 | C36: Mua nấm khô | F36: 90000
A37: 39 | B37: 23/4/2023 | C37: Trần Quý Dương uh | E37: 500000
A38: 40 | B38: 23/4/2023 | C38: Nguyễn Thanh Hằng uh | E38: 200000
A39: 41 | B39: 23/4/2023 | C39: Dương Thị Thu Hương uh | E39: 200000
A40: 42 | B40: 23/4/2023 | C40: Ngô Tuấn (bạn Huyền Phạm uh) | E40: 500000
A41: 43 | B41: 23/4/2023 | C41: Yến Tín Hà An uh | E41: 500000
A42: 44 | B42: 23/4/2023 | C42: Phạm Huyền mua thịt | F42: 770000
A43: 45 | B43: 23/4/2023 | C43: Mua xương | F43: 280000
A44: 46 | B44: 23/4/2023 | C44: Mua bánh mỳ | F44: 644000
A45: 47 | B45: 23/4/2023 | C45: Mua rau | F45: 800000
A46: 48 | B46: 23/4/2023 | C46: Mua gaz (2 bình)
C47: Cộng | E47: =SUM(E5:E46) -> 7070000 | F47: =SUM(F5:F46) -> 10562000 | G47: =G4+E47-F47 -> 270899413

Sheet tháng5.2023
A1: Thu - chi nấu soup tháng 5 - 2023
A3: TT | B3: Ngày | C3: Nội dung | D3: Ủng hộ hiện vật | E3: Thu | F3: Chi | G3: Tồn quỹ | H3: Ghi chú
B4: Tồn quỹ tháng 4 chuyển sang | G4: =tháng4.2023!G47 -> 270899413
A5: 1 | B5: 6/5/2023 | C5: Ba bố con Vũ Quang uh | E5: 2000000
A6: 2 | B6: 7/5/2023 | C6: GĐ chị Phượng - Chi -Mai Ngọc uh | E6: 1000000
A7: 3 | B7: 7/5/2023 | C7: Thái Hà Thái An uh | E7: 500000
A8: 4 | B8: 7/5/2023 | C8: Bùi Thúy Bình, Lương Hiền Giang uh | E8: 2000000
A9: 5 | B9: 7/5/2023 | C9: A. Nguyên bạn Dương Thị Thu Hương uh | E9: 500000
A10: 6 | B10: 7/5/2023 | C10: Thùy Chi bạn Hương uh | E10: 100000
A11: 7 | B11: 7/5/2023 | C11: cô Loan bạn Hương uh | E11: 100000
A12: 8 | B12: 7/5/2023 | C12: Hoài Nam bạn Hương uh | E12: 100000
B13: 7/5/2023 | C13: Bà Thuận uh | D13: Bí đỏ
B14: 7/5/2023 | C14: Phạm Huyền mua thịt | F14: 770000
B15: 7/5/2023 | C15: Mua xương | F15: 280000
B16: 7/5/2023 | C16: Mua bánh mỳ | F16: 616000
B17: 7/5/2023 | C17: Mua rau | F17: 800000
B18: 7/5/2023 | C18: Mua túi đựng bánh | F18: 100000
A19: 9 | B19: 7/5/2023 | C19: Mua bột, nấm | F19: 1515000
A20: 10 | B20: 7/5/2023 | C20: Bột canh (15 gói) | F20: 60000
A21: 11 | B21: 7/5/2023 | C21: Dầu ăn (2 lit) | F21: 118000
A22: 12
B24: 14/5/2023 | C24: Mai Tan mua thịt (7kg) | F24: 770000
B25: 14/5/2023 | C25: Mua Xương (8kg) | F25: 320000
B26: 14/5/2023 | C26: Mua bánh mỳ (110c) | F26: 616000
B27: 14/5/2023 | C27: Mua rau | F27: 800000
B28: 14/5/2023 | C28: Mua bột canh | F28: 190000
B29: 14/5/2023 | C29: Mua gaz tháng 4 | F29: 3040000
B30: 19/5/2023 | C30: 2 bạn cùng cq chị Minh Hòa Phạm uh | E30: 700000
B31: 21/5/2023 | C31: Trinh Thi Hong uh | E31: 100000
B32: 21/5/2023 | C32: Hoi CTD p. Khuong Dinh uh | E32: 3000000
B33: 21/5/2023 | C33: Lop 11A3 truong DDH chuyen NN DHQG uh | E33: 4000000
B34: 21/5/2023 | C34: Mua thit | F34: 770000
A35: 13 | B35: 21/5/2023 | C35: Xương | F35: 320000
A36: 14 | B36: 21/5/2023 | C36: Rau | F36: 800000
A37: 15 | B37: 21/5/2023 | C37: Mua bánh mỳ | F37: 616000
C38: Nấm kho | F38: 270000
C39: Dầu ăn | F39: 118000
C40: Gaz 2 bình | F40: 740000
A41: 16 | B41: 25/5/2023 | C41: Bà ngoại Khánh Hương Ninh uh | E41: 200000 | H41: Soup chay uh Lễ Phật Đản chùa Khương Hạ
A42: 17 | B42: 25/5/2023 | C42: Chị Ngọc bạn Thu Hương uh | E42: 200000
A43: 18 | B43: 25/5/2023 | C43: Mẹ Mai Anh uh | E43: 200000
A44: 19 | B44: 25/5/2023 | C44: Hoàng Hương (PH trường ĐTĐ) | E44: 500000
A45: 20 | B45: 25/5/2023 | C45: Lucky Flower | E45: 200000
A46: 21 | B46: 25/5/2023 | C46: Tín Yến Hà An | E46: 500000
A47: 22 | B47: 25/5/2023 | C47: Phạm Thị Ngọc Huyền uh | E47: 1450000
A48: 23 | B48: 25/5/2023 | C48: Thủy Hoàng Lê uh | E48: 200000
A49: 24 | B49: 25/5/2023 | C49: Duyên Tường uh | E49: 300000
A50: 25 | B50: 25/5/2023 | C50: Phạm Huyền chi nấu soup chay | F50: 2833000
A51: 26 | B51: 25/5/2023 | C51: Hoa cúng chùa | F51: 500000
A52: 27 | B52: 25/5/2023 | C52: Tiền cúng chùa | F52: 1000000
A53: 28 | B53: 28/5/2023 | C53: Anh Nguyet Phung uh | E53: 500000
A54: 29 | B54: 28/5/2023 | C54: Phạm Ngọc Huyền uh | E54: 1000000
A55: 30 | B55: 28/5/2023 | C55: Xuan Vu Le uh | E55: 616000
A56: 31 | B56: 28/5/2023 | C56: Viet Nga uh | E56: 1000000
A57: 32 | B57: 28/5/2023 | C57: Duyen Tuong mua thịt gà (10kg) | F57: 700000
A58: 33 | B58: 28/5/2023 | C58: Mua xương gà (5kg) | F58: 100000
A59: 34 | B59: 28/5/2023 | C59: Mua xương lợn (4kg) | F59: 120000
A60: 35 | B60: 28/5/2023 | C60: Mua bánh mỳ (115 c) | F60: 644000
A61: 36 | B61: 28/5/2023 | C61: Mua khoai tây (5kg) | F61: 110000
A62: 37 | B62: 28/5/2023 | C62: Mua cà rốt (5kg) | F62: 75000
A63: 38 | B63: 28/5/2023 | C63: Mua ngô (40b) | F63: 360000
A64: 39 | B64: 28/5/2023 | C64: Mua củ cải (5kg) | F64: 60000
A65: 40 | B65: 28/5/2023 | C65: Mua bí đỏ (5kg) | F65: 50000
A66: 41 | B66: 28/5/2023 | C66: Mua hành tây (2kg) | F66: 30000
A67: 42 | B67: 28/5/2023 | C67: Mua nấm tươi (4kg) | F67: 180000
A68: 43 | B68: 28/5/2023 | C68: Mua gaz (3 bình) | F68: 1080000
C69: Cộng | E69: =SUM(E5:E68) -> 20966000 | F69: =SUM(F5:F68) -> 21471000 | G69: =G4+E69-F69 -> 270394413

Sheet tháng6.2023
A1: Thu - chi nấu soup tháng 6 - 2023
A3: TT | B3: Ngày | C3: Nội dung | D3: Ủng hộ hiện vật | E3: Thu | F3: Chi | G3: Tồn quỹ | H3: Ghi chú
B4: Tồn quỹ tháng 5 chuyển sang | G4: =tháng5.2023!G69 -> 270394413
A5: 1 | B5: 4/6/2023 | C5: 3 bố con Vũ Quang uh | E5: 4000000
A6: 2 | B6: 4/6/2023 | C6: Hoàng Đức Phương uh | E6: 500000
A7: 3 | B7: 4/6/2023 | C7: Tín Yến Hà An uh | E7: 500000
A8: 4 | B8: 4/6/2023 | C8: Tuyến say bạn Huyền uh | E8: 500000
A9: 5 | B9: 4/6/2023 | C9: Tuyết bạn Thu Hương uh | E9: 100000
A10: 6 | B10: 4/6/2023 | C10: Vĩnh Ái bạn Hương uh | E10: 100000
A11: 7 | B11: 4/6/2023 | C11: Xuân bạn Hương uh | E11: 200000
A12: 8 | B12: 4/6/2023 | C12: Hoài Nam bạn Hương uh | E12: 100000
A13: 9 | B13: 4/6/2023 | C13: Phạm Huyền mua thịt | F13: 770000
A14: 10 | B14: 4/6/2023 | C14: Mua xương | F14: 320000
A15: 11 | B15: 4/6/2023 | C15: Mua bánh mỳ | F15: 616000
A16: 12 | B16: 4/6/2023 | C16: Mua rau | F16: 800000
A17: 13 | B17: 4/6/2023 | C17: Mua hạt nêm | F17: 110000
A18: 14 | B18: 4/6/2023 | C18: Mua dầu ăn | F18: 120000
B19: 4/6/2023 | C19: Nấm khô | F19: 300000
A20: 15 | B20: 11/6/2023 | C20: Bùi Thúy Bình uh | E20: 1000000
A21: 16 | B21: 11/6/2023 | C21: Trần Thị Thảo Quyên uh | E21: 500000
A22: 17 | B22: 11/6/2023 | C22: Bạn Thu Hương uh | E22: 200000
A23: 18 | B23: 11/6/2023 | C23: Thanh Thủy uh | E23: 500000
A24: 19 | B24: 11/6/2023 | C24: Minh Hòa Phạm uh | E24: 200000
A25: 20 | B25: 11/6/2023 | C25: Bạn Tâm lớp 10B uh | E25: 200000
A26: 21 | B26: 11/6/2023 | C26: 1 bạn hs uh | E26: 100000
A27: 22 | B27: 11/6/2023 | C27: Phạm Huyền mua thịt | F27: 770000
A28: 23 | B28: 11/6/2023 | C28: Mua xương | F28: 320000
A29: 24 | B29: 11/6/2023 | C29: Mua bánh mỳ | F29: 616000
A30: 25 | B30: 11/6/2023 | C30: Mua rau | F30: 800000
A31: 26 | B31: 11/6/2023 | C31: Mua dầu ăn | F31: 120000
A32: 27 | B32: 11/6/2023 | C32: Gaz | F32: 1080000
A33: 28 | B33: 18/6/2023 | C33: Dương Bích bạn Thu Hương uh | E33: 225000
A34: 29 | B34: 18/6/2023 | C34: Xuyến bạn Thu Hương uh | E34: 100000
A35: 30 | B35: 18/6/2023 | C35: Minh Thảo Đỗ uh | E35: 500000
A36: 31 | B36: 18/6/2023 | C36: Hoàng Hải bạn Chinh uh | E36: 1000000
A37: 32 | B37: 18/6/2023 | C37: Đỗ Thị Hồng uh | E37: 200000
A38: 33 | B38: 18/6/2023 | C38: Ngọc bạn Thu Hương uh | E38: 500000
A39: 34 | B39: 18/6/2023 | C39: Kiên Anh bạn Thu Hương uh | E39: 100000
A40: 35 | B40: 18/6/2023 | C40: Chuyên nồi soup uh | E40: 300000
A41: 36 | B41: 18/6/2023 | C41: Mua thịt | F41: 840000
A42: 37 | B42: 18/6/2023 | C42: Mua xương | F42: 200000
A43: 38 | B43: 18/6/2023 | C43: Mua bánh mỳ | F43: 672000
A44: 39 | B44: 18/6/2023 | C44: Mua rau | F44: 750000
A45: 40 | B45: 18/6/2023 | C45: Mua dầu ăn | F45: 1100000
A46: 41 | B46: 18/6/2023 | C46: Mua nấm, bột | F46: 415000
A47: 42 | B47: 25/6/2023 | C47: Trần Quý Dương uh | E47: 500000
A48: 43 | B48: 25/6/2023 | C48: Tuyến say bạn Huyền uh | E48: 500000
A49: 44 | B49: 25/6/2023 | C49: Phạm Huyền mua thịt | F49: 840000
A50: 45 | B50: 25/6/2023 | C50: Mua xương | F50: 160000
A51: 46 | B51: 25/6/2023 | C51: Chi taxi chở bánh mì | F51: 70000
A52: 47 | B52: 25/6/2023 | C52: Mua rau | F52: 750000
A53: 48 | B53: 25/6/2023 | C53: Mua dầu ăn | F53: 1100000
A54: 49 | B54: 25/6/2023 | C54: Mua bột canh (1 thùng) | F54: 180000
A55: 50 | B55: 25/6/2023 | C55: Mua 25kg bột | F55: 1125000
A56: 51 | B56: 25/6/2023 | C56: Mua 1.5kg nấm khô | F56: 375000
A57: 52 | B57: 25/6/2023 | C57: Mua 5 bình gaz | F57: 1750000
A58: 53 | B58: 25/6/2023 | C58: Mua bột (Hoa) | F58: 108000
A59: 54 | B59: 25/6/2023 | C59: Bánh mỳ | F59: 644000
A60: 55 | B60: 25/6/2023 | C60: Lãi tiền gửi 3 tháng | E60: 60000
C61: Cộng | E61: =SUM(E5:E60) -> 12685000 | F61: =SUM(F5:F60) -> 17821000 | G61: =G4+E61-F61 -> 265258413

Sheet tháng7.2023
A1: Thu - chi nấu soup tháng 7 - 2023
A3: TT | B3: Ngày | C3: Nội dung | D3: Ủng hộ hiện vật | E3: Thu | F3: Chi | G3: Tồn quỹ | H3: Ghi chú
B4: Tồn quỹ tháng 6 chuyển sang | G4: =tháng6.2023!G61 -> 265258413
A5: 1 | B5: 2/7/2023 | C5: Bùi Gia Bảo cháu Thu Hương uh | E5: 350000
A6: 2 | B6: 2/7/2023 | C6: Tín Yến Hà An uh | E6: 500000
A7: 3 | B7: 2/7/2023 | C7: Thái Hà, Thái An uh | E7: 500000
A8: 4 | B8: 2/7/2023 | C8: Bạn Chinh uh | E8: 1000000
A9: 5 | B9: 2/7/2023 | C9: Đặng Kim Ngân uh | E9: 1000000
A10: 6 | B10: 2/7/2023 | C10: Phạm Huyền mua thịt | F10: 840000
A11: 7 | B11: 2/7/2023 | C11: Mua xương | F11: 320000
A12: 8 | B12: 2/7/2023 | C12: Mua bánh mỳ | F12: 672000
A13: 9 | B13: 2/7/2023 | C13: Mua rau | F13: 750000
A14: 14 | B14: 9/7/2023 | C14: Bạn Hương uh | E14: 200000
A15: 15 | B15: 9/7/2023 | C15: Lê Kim Oanh uh | E15: 500000
A16: 16 | B16: 9/7/2023 | C16: Gđ Đào Hương uh | E16: 2000000
A17: 17 | B17: 9/7/2023 | C17: Lê Vy uh | E17: 1000000
A18: 18 | B18: 9/7/2023 | C18: Tuyên uh | E18: 500000
A19: 19 | B19: 9/7/2023 | C19: Thanh Tú uh | E19: 500000
A20: 20 | B20: 9/7/2023 | C20: Sơn uh | E20: 100000
A21: 21 | B21: 9/7/2023 | C21: Ng: Thị Chinh mua thịt | F21: 840000
A22: 22 | B22: 9/7/2023 | C22: Mua xương | F22: 320000
A23: 23 | B23: 9/7/2023 | C23: Mua bánh mỳ | F23: 672000
A24: 24 | B24: 9/7/2023 | C24: Mua rau | F24: 750000
A25: 25 | B25: 9/7/2023 | C25: Mua 2 bình gaz | F25: 660000
A26: 26 | B26: 14/7/2023 | C26: Tín Yến Hà An uh | E26: 500000 | H26: Giỗ tổ chùa Phụng Lộc)
A27: 27 | B27: 14/7/2023 | C27: Phạm Thị Ngọc Huyền uh | E27: 1000000
A28: 28 | B28: 14/7/2023 | C28: Thủy uh | E28: 500000
A29: 29 | B29: 14/7/2023 | C29: Ba bạn giấu tên uh (200+300+500) | E29: 1000000
A30: 30 | B30: 14/7/2023 | C30: Mua Hoa cúng dường | F30: 500000
A31: 31 | B31: 14/7/2023 | C31: Mua Nấm đùi gà: 4x50 | F31: 200000
A32: 32 | B32: 14/7/2023 | C32: Mua Nấm kim châm: 7x8 | F32: 56000
A33: 33 | B33: 14/7/2023 | C33: Mua Nấm đông cô | F33: 154000
A34: 34 | B34: 14/7/2023 | C34: Mua Nấm khô: 0.5x300 | F34: 150000
A35: 35 | B35: 14/7/2023 | C35: Mua Mộc nhĩ: 0.5x200 | F35: 100000
A36: 36 | B36: 14/7/2023 | C36: Mua Sen hạt: 1kgx200=200k | F36: 200000
A37: 37 | B37: 14/7/2023 | C37: Mua Váng đậu (1kg) | F37: 70000
A38: 38 | B38: 14/7/2023 | C38: Mua Mắm chay: 2chai x 40 | F38: 80000
A39: 39 | B39: 14/7/2023 | C39: Mua Hạt nêm | F39: 86000
A40: 40 | B40: 14/7/2023 | C40: Mua Dầu hào(1chai) | F40: 50000
A41: 41 | B41: 14/7/2023 | C41: Mua Ngô bắp: 30x9 | F41: 270000
... A47: 47 | B47: 14/7/2023 | C47: Mua Trứng gà | F47: 90000
A48: 48 | B48: 16/7/2023 | C48: Bảo Việt Hà Nội uh | E48: 2640000
A49: 49 | B49: 16/7/2023 | C49: Bạn Trần Mai Hương uh | E49: 100000
A50: 50 | B50: 16/7/2023 | C50: Quế bạn DT Hương uh | E50: 100000
A51: 51 | B51: 16/7/2023 | C51: Đạt bạn DT Hương uh | E51: 100000
A52: 52 | B52: 16/7/2023 | C52: Mua Thịt (7x12) | F52: 840000
A53: 53 | B53: 16/7/2023 | C53: Mua Xương | F53: 320000
A54: 54 | B54: 16/7/2023 | C54: Mua Bánh mỳ | F54: 667000
A55: 55 | B55: 16/7/2023 | C55: Mua Rau: 750k | F55: 750000
A56: 56 | B56: 16/7/2023 | C56: Mua Đổi 3 Bình ga | F56: 990000
A57: 57 | B57: 23/7/2023 | C57: Phật tử tại chùa uh | E57: 200000
A58: 58 | B58: 23/7/2023 | C58: Tâm 10b PĐP uh | E58: 200000
A59: 59 | B59: 23/7/2023 | C59: Xuan Vu Le uh | E59: 650000
A60: 60 | B60: 23/7/2023 | C60: Minh Hải Cẩm Tú uh | E60: 1000000
A61: 61 | B61: 23/7/2023 | C61: Bà Thuận uh | D61: bí đỏ
A62: 62 | B62: 23/7/2023 | C62: Mua Thịt gà: 10 kg*70 | F62: 700000
A63: 63 | B63: 23/7/2023 | C63: Mua Xương gà: 5kg*20 | F63: 100000
A64: 64 | B64: 23/7/2023 | C64: Mua Xương lợn: 5kg * 40 | F64: 200000
A65: 65 | B65: 23/7/2023 | C65: Mua Bánh mì:110 cái *5,6 | F65: 616000
A66: 66 | B66: 23/7/2023 | C66: Mua Khoai tây:5kg *20 | F66: 100000
A67: 67 | B67: 23/7/2023 | C67: Mua Cà rốt :5kg*15 | F67: 75000
A68: 68 | B68: 23/7/2023 | C68: Mua Ngô: 40b*10 | F68: 400000
A69: 69 | B69: 23/7/2023 | C69: Mua Củ cải:5kg*10 | F69: 50000
A70: 70 | B70: 23/7/2023 | C70: Mua Bí đỏ:5kg*15 | F70: 75000
A71: 71 | B71: 23/7/2023 | C71: Mua Hành tây:2kg*15 | F71: 30000
A72: 72 | B72: 23/7/2023 | C72: Mua Nấm tươi:4kg*50 | F72: 200000
A73: 73 | B73: 30/7/2023 | C73: Bạn Nga Việt BV uh | E73: 1000000
A74: 74 | B74: 30/7/2023 | C74: Bạn Hiệu Hiệu Đào uh | E74: 500000
A75: 75 | B75: 30/7/2023 | C75: Bạn Thái An uh | E75: 500000
A76: 76 | B76: 30/7/2023 | C76: Bạn Minh Anh uh | E76: 100000
A77: 77 | B77: 30/7/2023 | C77: Lê Kim Chung uh | E77: 1000000
A78: 78 | B78: 30/7/2023 | C78: Phương Toàn Thế uh | E78: 1000000
A79: 79 | B79: 30/7/2023 | C79: Tín Yến - Hà An uh | E79: 500000
A80: 80 | B80: 30/7/2023 | C80: Mua Thịt (7x12) | F80: 840000
A81: 81 | B81: 30/7/2023 | C81: Mua Xương | F81: 320000
A82: 82 | B82: 30/7/2023 | C82: Mua Bánh mỳ | F82: 616000
A83: 83 | B83: 30/7/2023 | C83: Mua Rau | F83: 750000
A84: 84 | B84: 30/7/2023 | C84: Đổi 3 Bình ga | F84: 990000
C85: Cộng | E85: =SUM(E5:E84) -> 20740000 | F85: =SUM(F5:F84) -> 17794000 | G85: =G4+E85-F85 -> 268204413

Sheet tháng8.2023
A1: Thu - chi nấu soup tháng 8 - 2023
A3: TT | B3: Ngày | C3: Nội dung | D3: Ủng hộ hiện vật | E3: Thu | F3: Chi | G3: Tồn quỹ | H3: Ghi chú
B4: Tồn quỹ tháng 7 chuyển sang | G4: =tháng7.2023!G85 -> 268204413
A5: 1 | B5: 6/8/2023 | C5: Bạn Hoa Vân uh | E5: 1000000
A6: 2 | B6: 6/8/2023 | C6: Mua Thịt (7x12) | F6: 840000
A7: 3 | B7: 6/8/2023 | C7: Mua Xương | F7: 320000
A8: 4 | B8: 6/8/2023 | C8: Mua Bánh mỳ | F8: 616000
A9: 5 | B9: 6/8/2023 | C9: Mua Rau | F9: 750000
A10: 6 | B10: 6/8/2023 | C10: Mua Bột canh | F10: 190000
A11: 7 | B11: 6/8/2023 | C11: Mua Bột năng | F11: 64000
A12: 8 | B12: 13/8/2023 | C12: Hoa Vân Toàn uh | E12: 500000
A13: 9 | B13: 13/8/2023 | C13: Trần Nga uh | E13: 800000
A14: 10 | B14: 13/8/2023 | C14: Bạn dấu tên uh | E14: 500000
A15: 11 | B15: 13/8/2023 | C15: Mua xương | F15: 320000
A16: 12 | B16: 13/8/2023 | C16: Mua Thịt | F16: 840000
A17: 13 | B17: 13/8/2023 | C17: Mua Rau | F17: 750000
A18: 14 | B18: 13/8/2023 | C18: Mua Bánh mỳ | F18: 616000
A19: 15 | B19: 13/8/2023 | C19: Mua Bột, nấm | F19: 1450000
A20: 16 | B20: 13/8/2023 | C20: Mua Túi bánh mỳ | F20: 1000000
A21: 17 | B21: 20/8/2023 | C21: Thùy Dương uh | E21: 100000
A22: 18 | B22: 20/8/2023 | C22: Bạn Nguyễn Thị Chinh uh | E22: 500000
A23: 19 | B23: 20/8/2023 | C23: Nguyễn Hoài Nam uh | E23: 200000
A24: 20 | B24: 20/8/2023 | C24: Tín Yến Hà An uh | E24: 500000
A25: 21 | B25: 20/8/2023 | C25: Nguyễn Hoàng Hải uh | E25: 500000
A26: 22 | B26: 20/8/2023 | C26: Nguyễn Hương Trà uh | E26: 200000
A27: 23 | B27: 20/8/2023 | C27: Chị Oanh uh | E27: 500000
A28: 24 | B28: 20/8/2023 | C28: Lê uh | E28: 500000
A29: 25 | B29: 20/8/2023 | C29: bà Thuận UH | D29: Bí đỏ
A30: 26 | B30: 20/8/2023 | C30: Mua Thịt (7x12) | F30: 840000
A31: 27 | B31: 20/8/2023 | C31: Mua Xương | F31: 320000
A32: 28 | B32: 20/8/2023 | C32: Mua Bánh mỳ | F32: 616000
A33: 29 | B33: 20/8/2023 | C33: Mua Rau | F33: 750000
A34: 30 | B34: 20/8/2023 | C34: Mua Ga 3 bình | F34: 1020000
A35: 31 | B35: 27/8/2023 | C35: Cháu Hương Giang uh | E35: 500000
A36: 32 | B36: 20/8/2024 | C36: Tín Yến Hà An uh | E36: 500000
A37: 33 | B37: 27/8/2024 | C37: Thủy Tú uh | E37: 500000
A38: 34 | B38: 20/8/2025 | C38: Bạn dấu tên uh | E38: 1000000
A39: 35 | B39: 27/8/2025 | C39: Linh Hằng uh | E39: 1000000
A40: 36 | B40: 20/8/2026 | C40: Lê Mạnh Thắng uh | E40: 1000000
A41: 37 | B41: 27/8/2026 | C41: Mẹ Xuân Sơn uh | E41: 100000
A42: 38 | B42: 27/8/2026 | C42: Phạm Huyền uh | E42: 644000
A43: 39 | B43: 27/8/2026 | C43: bà Thuận UH | D43: Bí đỏ
A44: 40 | B44: 27/8/2026 | C44: Mua Thịt (7x12) | F44: 770000
A45: 41 | B45: 27/8/2026 | C45: Mua Xương | F45: 320000
A46: 42 | B46: 27/8/2026 | C46: Mua Bánh mỳ | F46: 644000
A47: 43 | B47: 27/8/2026 | C47: Mua Rau | F47: 750000
A48: 44 | B48: 29/8/2023 | C48: Tín Yến Hà An uh | E48: 500000 | H48: Súp chay Vulan
A49: 45 | B49: 29/8/2023 | C49: Mẹ Gia Linh uh | E49: 500000
A50: 46 | B50: 29/8/2023 | C50: Phạm Thị Linh Dương uh | E50: 500000
A51: 47 | B51: 29/8/2023 | C51: Duyên Tường uh | E51: 500000
A52: 48 | B52: 29/8/2023 | C52: Phương Tùng uh | E52: 300000
A53: 49 | B53: 29/8/2023 | C53: Hoàng Hường uh | E53: 500000
A54: 50 | B54: 29/8/2023 | C54: bà Thuận UH | D54: Bí đỏ
A55: 51 | B55: 29/8/2023 | C55: Mua Nấm đùi gà: 4x50 | F55: 200000
A56: 52 | B56: 29/8/2023 | C56: Mua Nấm kim châm 5 gói | F56: 40000
A57: 53 | B57: 29/8/2023 | C57: Mua Nấm đông cô 10 gói | F57: 220000
A58: 54 | B58: 29/8/2023 | C58: Mua Nấm khô: 0.3x300 | F58: 90000
A59: 55 | B59: 29/8/2023 | C59: Mua Mộc nhĩ: 0.3x200 | F59: 60000
A60: 56 | B60: 29/8/2023 | C60: Mua Sen hạt: 1kgx220 | F60: 220000
A61: 57 | B61: 29/8/2023 | C61: Mua Váng đậu(1kg) | F61: 80000
A62: 58 | B62: 29/8/2023 | C62: Mua Dầu hào | F62: 100000
A63: 59 | B63: 29/8/2023 | C63: Mua Mắm chay: 2chai x 40 | F63: 80000
A64: 60 | B64: 29/8/2023 | C64: Mua Hạt nêm | F64: 85000
A65: 61 | B65: 29/8/2023 | C65: Mua Ngô bắp: 30x9 | F65: 270000
A66: 62 | B66: 29/8/2023 | C66: Mua Khoai: 5x20 | F66: 100000
... A71: 67 | B71: 29/8/2023 | C71: Mua Mùi lá | F71: 60000
A72: 68 | B72: 29/8/2023 | C72: Lãi tiền gửi tk | E72: 2320000
C73: Cộng | E73: =SUM(E5:E72) -> 16164000 | F73: =SUM(F5:F71) -> 15646000 | G73: =G4+E73-F73 -> 268722413

Sheet tháng9.2023
A1: Thu - chi nấu soup tháng 9 - 2023
A3: TT | B3: Ngày | C3: Nội dung | D3: Ủng hộ hiện vật | E3: Thu | F3: Chi | G3: Tồn quỹ | H3: Ghi chú
B4: Tồn quỹ tháng 8 chuyển sang | G4: =tháng8.2023!G73 -> 268722413
A5: 1 | B5: 10/9/2023 | C5: Mua Thịt gà: 10 kg*70 | F5: 700000
A6: 2 | B6: 10/9/2023 | C6: Mua Xương gà: 5kg*25 | F6: 125000
B7: 10/9/2023 | C7: Mua Xương lợn: 5kg * 40 | F7: 200000
B8: 10/9/2023 | C8: Mua Bánh mì:115 cái *5,6 | F8: 644000
B9: 10/9/2023 | C9: Mua Khoai tây:5kg *20 | F9: 100000
B10: 10/9/2023 | C10: Mua Cà rốt :5kg*17 | F10: 85000
B11: 10/9/2023 | C11: Mua Ngô: 40b*10 | F11: 400000
B12: 10/9/2023 | C12: Mua Củ cải:5kg*12 | F12: 60000
B13: 10/9/2023 | C13: Mua Bí đỏ | F13: 50000
B14: 10/9/2023 | C14: Mua Hành tây:2kg*15 | F14: 30000
B15: 10/9/2023 | C15: Mua Nấm tươi: 4kg*50 | F15: 200000
B16: 10/9/2023 | C16: Bà Thuận uh | D16: thêm bí đỏ
A17: 2 | B17: 10/9/2023 | C17: Phạm thu Hương uh | E17: 300000
A18: 3 | B18: 10/9/2023 | C18: MTQ giấu tên uh | E18: 500000
A19: 4 | B19: 10/9/2023 | C19: Thái Hà uh | E19: 500000
A20: 5 | B20: 10/9/2023 | C20: Hoa văn Toan uh | E20: 1000000
A21: 6 | B21: 10/9/2023 | C21: Dương thu Hương uh | E21: 500000
A22: 7 | B22: 10/9/2023 | C22: Anh Trước bạn DTH uh | E22: 200000
A23: 8 | B23: 10/9/2023 | C23: Phương Thảo 539 Vu Tong uh | E23: 300000
A24: 9 | B24: 10/9/2023 | C24: CHâu anh Phúc Lam uh | E24: 2000000
A25: 14 | B25: 10/9/2023 | C25: Như Tâm 10b uh | E25: 200000
A26: 15 | B26: 17/9/2024 | C26: Mua Thịt (7x11) | F26: 770000
A27: 16 | B27: 17/9/2024 | C27: Mua Xương | F27: 320000
A28: 17 | B28: 17/9/2024 | C28: Mua Bánh mỳ | F28: 560000
A29: 18 | B29: 17/9/2024 | C29: Mua Rau | F29: 750000
A30: 19 | B30: 17/9/2024 | C30: Mua Nấm hương: 1,5x27 | F30: 405000
A31: 20 | B31: 17/9/2024 | C31: Mua Bột năng: 25kgx45 | F31: 1125000
A32: 21 | B32: 17/9/2024 | C32: Bà Thuận uh | D32: 5kg bí đỏ
A33: 22 | B33: 17/9/2024 | C33: Chùa Phụng Lộc uh | D33: trứng
A34: 23 | B34: 17/9/2024 | C34: GĐ Dinh Dung Thuy uh | E34: 500000
A35: 24 | B35: 17/9/2024 | C35: Đoàn TN Vinmart uh | D35: 10 bánh mỳ
A36: 25 | B36: 24//9/2023 | C36: Mua Thịt (7x11) | F36: 770000
A37: 26 | B37: 24/9/2023 | C37: Mua Xương | F37: 320000
A38: 27 | B38: 24//9/2024 | C38: Mua Bánh mỳ | F38: 588000
A39: 28 | B39: 24/9/2024 | C39: Mua Rau | F39: 750000
A40: 29 | B40: 24//9/2025 | C40: Bà Thuận uh | D40: 5kg bí đỏ
A41: 30 | B41: 24/9/2025 | C41: Chùa Phụng Lộc uh | D41: trứng
A42: 31 | B42: 24//9/2026 | C42: Tú em Hải Yến uh | E42: 500000
A43: 32 | B43: 24/9/2026 | C43: Ông bà Tín Yến Hà An uh | E43: 500000
A44: 33 | B44: 24//9/2027 | C44: Mẹ bạn Gia Linh uh | E44: 500000
A45: 34 | B45: 24/9/2027 | C45: Bạn dấu tên uh | E45: 500000
A46: 35 | B46: 24//9/2028 | C46: Kim Anh uh | E46: 500000
A47: 36 | B47: 24/9/2028 | C47: Bạn dấu tên uh | E47: 300000
A48: 37 | B48: 24//9/2029 | C48: Bình Bùi uh | E48: 1000000
A49: 38 | B49: 24/9/2029 | C49: Chị Hải(mít mật) uh | E49: 500000
A50: 39 | B50: 24//9/2030 | C50: Bạn Minh Hiếu uh | E50: 500000
A51: 40 | B51: 24/9/2030 | C51: Đoàn TN Vinmart uh | D51: 15 bánh mỳ
C52: Cộng | E52: =SUM(E5:E51) -> 10800000 | F52: =SUM(F5:F51) -> 8952000 | G52: =G4+E52-F52 -> 270570413

Sheet tháng10.2023
A1: Thu - chi nấu soup tháng 10 - 2023
A3: TT | B3: Ngày | C3: Nội dung | D3: Ủng hộ hiện vật | E3: Thu | F3: Chi | G3: Tồn quỹ | H3: Ghi chú
B4: Tồn quỹ tháng 9 chuyển sang | G4: =tháng9.2023!G52 -> 270570413
A5: 1 | B5: 1/10/2023 | C5: Mua Thịt (7x11) | F5: 770000
A6: 2 | B6: 1/10/2023 | C6: Mua Xương: | F6: 320000
A7: 3 | B7: 1/10/2023 | C7: Mua Bánh mỳ | F7: 588000
A8: 4 | B8: 1/10/2023 | C8: Mua Rau | F8: 750000
A9: 5 | B9: 1/10/2023 | C9: Ga 3 bình | F9: 1110000
A10: 6 | B10: 1/10/2023 | C10: Bật lửa | F10: 450000
A11: 7 | B11: 1/10/2023 | C11: Bà Thuận uh | D11: 5kg bí đỏ
A12: 8 | B12: 1/10/2023 | C12: Bà Tý chùa Phụng Lộc uh | D12: 20 quả trứng
A13: 9 | B13: 1/10/2023 | C13: Lê Kim chung uh | E13: 1000000
A14: 10 | B14: 1/10/2023 | C14: Ba bố con Vũ Quang uh | E14: 1000000
A15: 11 | B15: 1/10/2023 | C15: Thuc Quynh uh | E15: 250000
A16: 12 | B16: 1/10/2023 | C16: Toan loan uh | E16: 500000
A17: 13 | B17: 1/10/2023 | C17: Đoàn TN Vinmart uh | D17: 10 bánh mỳ
A18: 14 | B18: 8/10/2023 | C18: Mua Thịt (7x11) | F18: 770000
A19: 15 | B19: 8/10/2023 | C19: Mua Xương | F19: 320000
A20: 16 | B20: 8/10/2023 | C20: Mua Bánh mỳ | F20: 644000
A21: 17 | B21: 8/10/2023 | C21: Mua Rau | F21: 750000
A22: 18 | B22: 8/10/2023 | C22: Bà Thuận uh | D22: 5kg bí đỏ
A23: 19 | B23: 8/10/2023 | C23: Bà Tý chùa Phụng Lộc uh | D23: 20 quả trứng
A24: 20 | B24: 8/10/2023 | C24: Bà Lan bạn MHP uh | E24: 50000
A25: 21 | B25: 8/10/2023 | C25: Cookie uh | E25: 100000
A26: 22 | B26: 8/10/2023 | C26: Tú em Yến uh | E26: 500000
A27: 23 | B27: 8/10/2023 | C27: Hoa Van Tap uh | E27: 1000000
A28: 24 | B28: 8/10/2023 | C28: Hạnh bạn Hương uh | E28: 1000000
A29: 25 | B29: 22/10/2023 | C29: Mua Thịt (7x11) | F29: 770000
A30: 26 | B30: 22/10/2023 | C30: Mua Xương | F30: 320000
A31: 27 | B31: 22/10/2023 | C31: Mua Bánh mỳ | F31: 644000
A32: 28 | B32: 22/10/2023 | C32: Mua Rau | F32: 850000
A33: 29 | B33: 22/10/2023 | C33: Mua Dầu ăn | F33: 120000
A34: 30 | B34: 22/10/2023 | C34: Mua Nước mắm | F34: 30000
A35: 31 | B35: 22/10/2023 | C35: Mua Bột canh | F35: 20000
A36: 32 | B36: 22/10/2023 | C36: Bà Thuận uh | D36: 5kg bí đỏ
A37: 33 | B37: 22/10/2023 | C37: Bà Tý chùa Phụng Lộc uh | D37: 20 quả trứng
A38: 34 | B38: 22/10/2023 | C38: Thảo Quyên uh | E38: 500000
A39: 35 | B39: 22/10/2023 | C39: Tín Yến Hà An uh | E39: 500000
A40: 36 | B40: 22/10/2023 | C40: Thu Huyền uh | E40: 500000
A41: 37 | B41: 22/10/2023 | C41: Thùy Dung uh | E41: 100000
A42: 38 | B42: 22/10/2023 | C42: Nguyễn Thị Nhung uh | E42: 2000000
A43: 39 | B43: 22/10/2023 | C43: Bạn dấu tên uh | E43: 300000
A44: 40 | B44: 22/10/2023 | C44: Nguyễn Thị Nguyên uh | E44: 200000
A45: 41 | B45: 22/10/2023 | C45: Vũ Văn Cuong uh | E45: 200000
A46: 42 | B46: 22/10/2023 | C46: GĐ Dung Thuy Giang uh | E46: 500000
A47: 43 | B47: 22/10/2023 | C47: Nguyễn Kim Chung uh | E47: 500000
A48: 44 | B48: 22/10/2023 | C48: Trần Thi Duyên uh | E48: 100000
A49: 45 | B49: 25/10/2023 | C49: Thủy Trần (bạn chị Sen Trang) uh | E49: 1000000
A50: 46 | B50: 29/10/2023 | C50: Mua 60c bánh mỳ | F50: 336000
A51: 47 | B51: 29/10/2023 | C51: Mua 3kg nấm tươi | F51: 150000
A52: 48 | B52: 29/10/2023 | C52: Mua 3kg củ cải | F52: 30000
A53: 49 | B53: 29/10/2023 | C53: Mua 30 bắp ngô | F53: 300000
A54: 50 | B54: 29/10/2023 | C54: Mua 2kg khoai tây | F54: 45000
A55: 51 | B55: 29/10/2023 | C55: Mua 2kg hành tây | F55: 30000
A56: 52 | B56: 29/10/2023 | C56: Mua 3kg carot | F56: 39000
A57: 53 | B57: 29/10/2023 | C57: Mua 5kg thịt gà | F57: 325000
A58: 54 | B58: 29/10/2023 | C58: Mua 3kg xương lợn | F58: 120000
A59: 55 | B59: 29/10/2023 | C59: Duyen Tuong mua 3kg xương gà | F59: 60000
A60: 56 | B60: 29/10/2023 | C60: Bà Thuận uh | D60: 5kg bí đỏ
A61: 57 | B61: 29/10/2023 | C61: Bà Tý chùa Phụng Lộc uh | D61: 20 quả trứng
A62: 58 | B62: 29/10/2023 | C62: Xuan Le Vu uh | E62: 1435000
A63: 59 | B63: 29/10/2023 | C63: Trân Thị Duyên uh | E63: 100000
A64: 60 | B64: 30/10/2023 | C64: Duyên Tuong | E64: 500000
A65: 61 | B65: 30/10/2023 | C65: Xuân Lê Vũ | E65: 500000
A66: 62 | B66: 30/10/2023 | C66: Trương Thanh Vân | E66: 1000000
A67: 63 | B67: 30/10/2023 | C67: Chị emBắc Mỗ Lao | E67: 3900000
A68: 64 | B68: 30/10/2023 | C68: Chi mua nguyên liệu nấu soup | F68: 2845000
C69: Cộng | E69: =SUM(E13:E68) -> 19235000 | F69: =SUM(F5:F68) -> 13506000 | G69: =G4+E69-F69 -> 276299413

Sheet tháng11.2023
A1: Thu - chi nấu soup tháng 11 - 2023
A3: TT | B3: Ngày | C3: Nội dung | D3: Ủng hộ hiện vật | E3: Thu | F3: Chi | G3: Tồn quỹ | H3: Ghi chú
B4: Tồn quỹ tháng 10 chuyển sang | G4: =tháng10.2023!G69 -> 276299413
A5: 1 | B5: 5/11/2023 | C5: Mua rau | F5: 600000
A6: 2 | B6: 5/11/2023 | C6: Mua bánh mỳ | F6: 468000
A7: 3 | B7: 5/11/2023 | C7: Mua xương | F7: 200000
A8: 4 | B8: 5/11/2023 | C8: Mua thịt | F8: 550000
A9: 5 | B9: 5/11/2023 | C9: Bà Thuận uh | D9: 5kg bí đỏ
A10: 6 | B10: 5/11/2023 | C10: Bà Tý chùa Phụng Lộc uh | D10: 20 quả trứng
A11: 7 | B11: 5/11/2023 | C11: Pham Van Duong uh | E11: 200000
A12: 8 | B12: 5/11/2023 | C12: Vũ Thị Hạnh uh | E12: 200000
A13: 9 | B13: 5/11/2023 | C13: Thu Huyền uh | E13: 500000
A14: 10 | B14: 5/11/2023 | C14: Bùi Thúy Bình uh | E14: 1000000
A15: 11 | B15: 5/11/2023 | C15: 3 bố con Vũ Quang uh | E15: 1000000
A16: 12 | B16: 12/11/2023 | C16: Mua 25kg bột đao | F16: 1050000
A17: 13 | B17: 12/11/2023 | C17: Mua nấm hương + 1 kg bột | F17: 250000
A18: 14 | B18: 12/11/2023 | C18: Mua 1 lít dầu ăn | F18: 55000
A19: 15 | B19: 12/11/2023 | C19: Mua rau | F19: 600000
A20: 16 | B20: 12/11/2023 | C20: Mua bánh mỳ | F20: 448000
A21: 17 | B21: 12/11/2023 | C21: Mua xương gà | F21: 75000
A22: 18 | B22: 12/11/2023 | C22: Mua xương lợn | F22: 120000
A23: 19 | B23: 12/11/2023 | C23: Mua 5kg thịt gà | F23: 350000
A24: 20 | B24: 12/11/2023 | C24: Bà Thuận uh | D24: 5kg bí đỏ
A25: 21 | B25: 12/11/2023 | C25: Bà Tý chùa Phụng Lộc uh | D25: 20 quả trứng
A26: 22 | B26: 12/11/2023 | C26: Luu Thanh Tu uh | E26: 500000
A27: 23 | B27: 12/11/2023 | C27: Vu Van Cuong uh | E27: 200000
A28: 24 | B28: 12/11/2023 | C28: Hiệu Đào uh | E28: 500000
A29: 25 | B29: 12/11/2023 | C29: Hoa Van Toan uh | E29: 1000000
A30: 26 | B30: 19/11/2023 | C30: Bà Thuận uh | D30: 5kg bí đỏ
A31: 27 | B31: 19/11/2023 | C31: Bà Tý chùa Phụng Lộc uh | D31: 20 quả trứng
A32: 28 | B32: 19/11/2023 | C32: Mua 2 bình gaz | F32: 740000
A33: 29 | B33: 19/11/2023 | C33: Mua rau | F33: 600000
A34: 30 | B34: 19/11/2023 | C34: Mua bánh mỳ | F34: 476000
A35: 31 | B35: 19/11/2023 | C35: Mua 5kg xương lợn | F35: 200000
A36: 32 | B36: 19/11/2023 | C36: Mua 5kg thịt gà | F36: 550000
A37: 33 | B37: 19/11/2023 | C37: Hương (bạn Hương) uh | E37: 200000
A38: 34 | B38: 19/11/2023 | C38: Vân (bạn Chinh) uh | E38: 500000
A39: 35 | B39: 19/11/2023 | C39: GĐ Phùng Bích Thảo uh | E39: 1000000
A40: 36 | B40: 19/11/2023 | C40: Tín Yến Hà An uh | E40: 500000
A41: 37 | B41: 19/11/2023 | C41: Tuyến say uh | E41: 500000
A42: 38 | B42: 26/11/2023 | C42: Mua 2 bình gaz | F42: 740000
A43: 39 | B43: 26/11/2023 | C43: Mua bột canh | F43: 40000
A44: 40 | B44: 26/11/2023 | C44: Mua dầu ăn | F44: 57000
A45: 41 | B45: 26/11/2023 | C45: Mua rau | F45: 600000
A46: 42 | B46: 26/11/2023 | C46: Mua bánh mỳ | F46: 496000
A47: 43 | B47: 26/11/2023 | C47: Mua xương lợn | F47: 200000
A48: 44 | B48: 26/11/2023 | C48: Phạm Huyền mua 5kg thịt lợn | F48: 550000
A49: 45 | B49: 26/11/2023 | C49: Bà Thuận uh | D49: 5kg bí đỏ
A50: 46 | B50: 26/11/2023 | C50: Bà Tý chùa Phụng Lộc uh | D50: 20 quả trứng
A51: 47 | B51: 26/11/2023 | C51: HVân (bạn Hương) uh | E51: 100000
A52: 48 | B52: 26/11/2023 | C52: Thu Trang (bạn Hương) uh | E52: 100000
A53: 49 | B53: 26/11/2023 | C53: Bạn dấu tên uh | E53: 500000
E54: =SUM(E5:E53) -> 8500000 | F54: =SUM(F5:F53) -> 10015000 | G54: =E54+G4-F54 -> 274784413

Sheet tháng12.2023
A1: Thu - chi nấu soup tháng 12 - 2023
A3: TT | B3: Ngày | C3: Nội dung | D3: Ủng hộ hiện vật | E3: Thu | F3: Chi | G3: Tồn quỹ | H3: Ghi chú
B4: Tồn quỹ tháng 11 chuyển sang | G4: =tháng11.2023!G54 -> 274784413
A5: 1 | B5: 3/12/2023 | C5: Tiền taxi | F5: 500000
A6: 2 | B6: 3/12/2023 | C6: Mua dầu ăn | F6: 57000
A7: 3 | B7: 3/12/2023 | C7: Mua rau | F7: 600000
A8: 4 | B8: 3/12/2023 | C8: Mua bánh mỳ | F8: 476000
A9: 5 | B9: 3/12/2023 | C9: Mua 5kg xương lợn | F9: 200000
A10: 6 | B10: 3/12/2023 | C10: Phạm Huyền mua 5kg thịt | F10: 550000
A11: 7 | B11: 3/12/2023 | C11: GĐ Dung Thuy Giang uh | E11: 500000
A12: 8 | B12: 3/12/2023 | C12: Trần Thị Thu Trang uh | E12: 100000
A13: 9 | B13: 3/12/2023 | C13: Lưu Thanh Tú uh | E13: 500000
A14: 10 | B14: 3/12/2023 | C14: Ba bố con Vũ Quang uh | E14: 1000000
A15: 11 | B15: 10/12/2023 | C15: Mua bột canh | F15: 40000
A16: 12 | B16: 10/12/2023 | C16: Mua dầu ăn | F16: 57000
A17: 13 | B17: 10/12/2023 | C17: Mua bánh mỳ | F17: 476000
A18: 14 | B18: 10/12/2023 | C18: Mua rau | F18: 600000
A19: 15 | B19: 10/12/2023 | C19: Mua Xương (5kg x 40k) | F19: 200000
A20: 16 | B20: 10/12/2023 | C20: Mai Tan mua thịt (5kgx110k) | F20: 550000
A21: 17 | B21: 10/12/2023 | C21: Lê Kim Chung uh | E21: 1000000
A22: 18 | B22: 10/12/2023 | C22: Vũ Văn Cương uh | E22: 300000
A23: 19 | B23: 19/12/2023 | C23: Mua dầu ăn | F23: 57000
A24: 20 | B24: 19/12/2023 | C24: Mua rau | F24: 600000
A25: 21 | B25: 19/12/2023 | C25: Mua bánh mỳ | F25: 476000
A26: 22 | B26: 19/12/2023 | C26: Mua xương | F26: 200000
A27: 23 | B27: 19/12/2023 | C27: Hiệu Đào mua thịt | F27: 550000
A28: 24 | B28: 19/12/2023 | C28: C. Thuận uh | D28: 5kg bí đỏ
A29: 25 | B29: 19/12/2023 | C29: Bạn Hiệu Đào uh | D29: 30 trứng gà
A30: 26 | B30: 19/12/2023 | C30: Vũ Xuân uh | E30: 500000
A31: 27 | B31: 19/12/2023 | C31: Lê Đình Vũ uh | E31: 1000000
A32: 28 | B32: 19/12/2023 | C32: Vũ Thị Toàn uh | E32: 300000
A33: 29 | B33: 19/12/2023 | C33: C. Châu (bạn Tú) uh | E33: 500000
A34: 30 | B34: 19/12/2023 | C34: Phạm T N Huyền uh | E34: 1000000
A35: 31 | B35: 19/12/2023 | C35: Chị Thu H1 uh | E35: 500000
A36: 32 | B36: 19/12/2023 | C36: Trang (bạn DTTH uh) | E36: 100000
A37: 33 | B37: 19/12/2023 | C37: Chị Thu (bạn DTTH) uh | E37: 2000000
A38: 34 | B38: 19/12/2023 | C38: Tin Yen Ha An uh | E38: 500000
A39: 35 | B39: 19/12/2023 | C39: Tâm 10B PĐP uh | E39: 200000
A40: 36 | B40: 19/12/2023 | C40: Nguyệt VSMT uh | E40: 500000
A41: 37 | B41: 19/12/2023 | C41: Ngân Đào (bạn Chinh) uh | E41: 500000
... A43: 39 | B43: 19/12/2023 | C43: Nhóm chị em khu Bắc Hà (bạn Chinh) uh | E43: 1300000
A44: 40 | C44: Bạn dấu tên uh | E44: 500000
A45: 41 | B45: 26/12/2024 | C45: Thầy trò MIS uh | E45: 500000
A46: 42 | B46: 26/12/2024 | C46: Hoa Mua Ha uh | E46: 200000
A47: 43 | B47: 26/12/2024 | C47: Mua Thịt | F47: 550000
A48: 44 | B48: 26/12/2024 | C48: Mua Xương | F48: 200000
A49: 45 | B49: 26/12/2024 | C49: Mua Rau | F49: 600000
A50: 46 | B50: 26/12/2024 | C50: Mua Bánh mì | F50: 476000
A51: 47 | B51: 26/12/2024 | C51: Mua Dầu ăn | F51: 57000
A52: 48 | B52: 26/12/2024 | C52: Mua Nấm khô | F52: 60000
A53: 49 | B53: 26/12/2024 | C53: Mua Nước mắm | F53: 30000
A54: 50 | B54: 26/12/2024 | C54: Lãi tài khoản gửi NH | E54: 60000
A55: 51 | B55: 29/12/2023 | C55: Hoang Thi Thom uh | H55: Chuyển sang năm 2024
C56: Cộng | E56: =SUM(E8:E55) -> 14560000 | F56: =SUM(F5:F55) -> 8162000 | G56: =G4+E56-F56 -> 281182413
