Workbook

Sheet TK KHanhly dieu chinh
A2: BÁO CÁO THU CHI CHUYẾN XE NHÂN ÁI HUẾ TÀI KHOẢN CÁ NHÂN KHÁNH LY
E3: Đvt: đồng
A4: Ngày | B4: Chi Tiết | C4: Thu | D4: Chi | E4: Tồn
A6: Tồn đầu kỳ | E6: 0
A7: 45280 | B7: Michele_du ủng hộ mua xe Nhân Ái (TV Banbex6x chuyển trực tiếp cho Khánh Ly) | C7: 30000000 | E7: =+E6+C7-D7 -> 30000000 | F7: Tài khoản VCB của chị Khánh Ly là khoản ngày 1/3/2024 "Mang sang khoản anh 6x chuyển khởi động dự án"
A8: 45286 | B8: Đặt cọc tiền xe | D8: 30000000 | E8: =+E7+C8-D8 -> 0
A9: 45296 | B9: Mua sim di động | D9: 1440000 | E9: =+E8+C9-D9 -> -1440000
A10: 45296 | B10: Thành viên Slim ủng hộ KTX | C10: 5000000 | E10: =+E9+C10-D10 -> 3560000
A11: 45297 | B11: Thu tiền từ TK 1501 | C11: 80000000 | E11: =+E10+C11-D11 -> 83560000
A12: 45304 | B12: Đổ dần lần đầu đưa xe về Huế | D12: 1000000 | E12: =+E11+C12-D12 -> 82560000
A13: 45304 | B13: Mua bảo hiểm trách nhiệm xe 1 năm | D13: 800000 | E13: =+E12+C13-D13 -> 81760000
A14: 45305 | B14: Làm vỏ đèn báo | D14: 500000 | E14: =+E13+C14-D14 -> 81260000
A15: 45311 | B15: Mua tẩm cắm sạc, màn cam xe, biến thế | D15: 730000 | E15: =+E14+C15-D15 -> 80530000
A16: 45313 | B16: Mua 6 đèn báo + ship | D16: 348000 | E16: =+E15+C16-D16 -> 80182000
A17: 45316 | B17: Tạm ứng tiền sửa xe | D17: 10000000 | E17: =+E16+C17-D17 -> 70182000
A18: 45317 | B18: Mua bách inox gá đèn | D18: 70000 | E18: =+E17+C18-D18 -> 70112000
A19: 45323 | B19: Ứng tiền mua sắm sửa chữa máy lạnh | D19: 7000000 | E19: =+E18+C19-D19 -> 63112000
A20: 45324 | B20: Đánh bóng đồng pha chính | D20: 250000 | E20: =+E19+C20-D20 -> 62862000
A21: 45338 | B21: Mua ghế phụ, còi, âm ly + ship | D21: 1460000 | E21: =+E20+C21-D21 -> 61402000
A22: 45338 | B22: Mua ốc vít | D22: 150000 | E22: =+E21+C22-D22 -> 61252000
A23: 45340 | B23: Dây điện chạy trần 3 loại | D23: 85000 | E23: =+E22+C23-D23 -> 61167000
... A47: 45354 | B47: Đánh 4 chìa khóa xe | D47: 100000 | E47: =+E46+C47-D47 -> 42025225
A48: 45355 | B48: TV Slim ủng hộ kinh phí thay băng ca | C48: 1000000 | E48: =+E47+C48-D48 -> 43025225
A49: 45357 | B49: Thanh toán tiền mua xe | D49: 15000000 | E49: =+E48+C49-D49 -> 28025225
A50: 45359 | B50: Thanh toán tiền sửa xe | D50: 2000000 | E50: =+E49+C50-D50 -> 26025225
A51: 45363 | B51: Xịt kính, + tẩy keo cũ + dao cạo | D51: 82000 | E51: =+E50+C51-D51 -> 25943225
A52: 45366 | B52: Thanh toán tiền mua xe | D52: 15000000 | E52: =+E51+C52-D52 -> 10943225
A53: 45367 | B53: Temp đồng phục nhận diện 30 bộ + 20 logo tạp dề balo | D53: 1000000 | E53: =+E52+C53-D53 -> 9943225
A54: 45371 | B54: Chai tẩy rỉ ốc vít | D54: 35000 | E54: =+E53+C54-D54 -> 9908225
A55: 45371 | B55: Camera hành trình | D55: 950000 | E55: =+E54+C55-D55 -> 8958225
A56: 45372 | B56: Đổ dầu và sửa chữa sau chuyến 05 | D56: 700000 | E56: =+E55+C56-D56 -> 8258225
A57: 45373 | B57: Thanh toán tiền sửa xe | D57: 2750000 | E57: =+E56+C57-D57 -> 5508225
A58: 45382 | B58: Đổ dầu sau chuyến 07 và hạ bình dầu hàn cổ | D58: 700000 | E58: =+E57+C58-D58 -> 4808225
A59: 45382 | B59: Đèn sương + giá cốc | D59: 143900 | E59: =+E58+C59-D59 -> 4664325
A60: 45388 | B60: Nước uống cho tài xế | D60: 150000 | E60: =+E59+C60-D60 -> 4514325
... A63: 45396 | B63: Phí ĐB 2-7 | D63: 1120000 | E63: =+E62+C63-D63 -> 1644325
B64: Chuyển trả tiền tạm ứng ủng hộ mua xe của Michele_du (Anh banbex chuyển giùm ngày 20/12/2023) | D64: 30000000 | E64: =+E63+C64-D64 -> -28355675
A65: Tổng cộng | C65: =SUM(C7:C63) -> 116000000 | D65: =SUM(D7:D64) -> 144355675 | E65: =+E6+C65-D65 -> -28355675
D71: Ngày 26/12/2023: Anh Banbe6x chuyển tk cá nhân chị Khánh Ly 30tr để tạm ứng mua xe của Michele_du ủng hộ
D73: Ngày 06/01/2024: Quỹ 1501 chuyển cho TK cá nhân chị Khánh Ly 80tr trong đó có 60tr của Michele_du ủng hộ mua => Như vậy Tài khoản cá nhân chị Khánh Ly tổng ủng hộ mua xe là 90tr, thực tế Michele chỉ ủng hộ 60tr, dư 30tr của anh Banbe6x đã chuyển tạm ứng trước đó (Việc này Quỹ không biết). Việc dư 30tr này chị Khánh Ly bị nhầm phần ủng hộ được nên chi các chi phí lấn sang của 30tr bị nhầm lẫn này.
D77: Ngày 27/04/2024: Chị Khánh Ly ck trả anh Banbe6x 30tr tiền tạm ứng mua, NHƯNG từ TK 1575 là CHUA ĐÚNG về kế toán lẫn tính Minh Bạch của tài khoản 1575 vì ngay từ đầu anh Banbe6x chuyển vào TK cá nhân thì phải trả lại từ tài khoản cá nhân chị Khánh Ly.
D81: Về bản chất SỐ TỒN CỦA QUỸ NHÂN ÁI VẪN LÀ 67.764.393đ NHƯNG sai về mặt kế toán và minh bạch nên xử lý lại để đúng tài khoản và minh bạch.
D84: Xử lý:
D85: Anh Banbe6x điều phối chuyển trả các chi phí đã chi trong tài khoản cá nhân Khánh Ly là 28.355.675đ
D86: Anh Banbe6x chuyển lại TK 1575 30tr tiền tạm ứng mua xe
D87: Sau 2 bước này xong, Anh Banbe6x điều phối chuyển tiếp 11.900.000đ mới được ủng hộ từ TK 1501 về TK 1575

Sheet 1575 saukhixuly
A2: BÁO CÁO THU CHI CHUYẾN XE NHÂN ÁI HUẾ TÀI KHOẢN 1575
F3: Đvt: đồng
A4: Ngày | B4: Chi Tiết | C4: Thu | E4: Chi | F4: Tồn
C5: CMTX | D5: CMKTX
A6: Tồn đầu tháng 01/2024 | F6: 0
A7: 45306 | B7: Anh Phuclehuu ủng hộ KTX | D7: 15000 | F7: =F6+C7+D7-E7 -> 15000
A8: 45307 | B8: Gd Nhimcon ủng hộ KTX | D8: 300000 | F8: =F7+C8+D8-E8 -> 315000
A9: 45310 | B9: Chi Thao Vu Anh ủng hộ KTX | D9: 500000 | F9: =F8+C9+D9-E9 -> 815000
A10: 45310 | B10: Nguyen Thi Le ủng hộ KTX | D10: 500000 | F10: =F9+C10+D10-E10 -> 1315000
A11: 45310 | B11: Tran Hai Yen ủng hộ KTX | D11: 500000 | F11: =F10+C11+D11-E11 -> 1815000
A12: 45311 | B12: Tran Nhat Khanh ủng hộ KTX | D12: 50000 | F12: =F11+C12+D12-E12 -> 1865000
A13: 45312 | B13: Lãi TG KKH | D13: 13 | F13: =F12+C13+D13-E13 -> 1865013
A14: 45315 | B14: MTQ Ẩn Danh ủng hộ KTX | D14: 20000 | F14: =F13+C14+D14-E14 -> 1885013
A15: 45317 | B15: Michele_du CMTX tháng 01/2024 | C15: 3000000 | F15: =F14+C15+D15-E15 -> 4885013
A16: 45339 | B16: Lãi TG KKH | D16: 333 | F16: =F15+C16+D16-E16 -> 4885346
A17: 45340 | B17: MTQ Ẩn Danh ủng hộ KTX | D17: 10000 | F17: =F16+C17+D17-E17 -> 4895346
A18: 45343 | B18: Sẻ Chia ủng hộ KTX (làm mới dàn máy lạnh) | D18: 12500000 | F18: =F17+C18+D18-E18 -> 17395346
A19: 45343 | B19: Nguyen Khoi Nguyen ủng hộ KTX | D19: 100000 | F19: =F18+C19+D19-E19 -> 17495346
A20: 45343 | B20: MTQ Ẩn Danh ủng hộ KTX | D20: 50000 | F20: =F19+C20+D20-E20 -> 17545346
A21: 45343 | B21: Le Quach Nhu Ngoc ủng hộ KTX | D21: 30000 | F21: =F20+C21+D21-E21 -> 17575346
A22: 45346 | B22: To Phuong Linh ủng hộ KTX | D22: 200000 | F22: =F21+C22+D22-E22 -> 17775346
A23: 45346 | B23: Ho Thi Kim Ngan ủng hộ KTX | D23: 500000 | F23: =F22+C23+D23-E23 -> 18275346
A24: 45347 | B24: Bui Van Minh ủng hộ KTX | D24: 20000 | F24: =F23+C24+D24-E24 -> 18295346
A25: 45347 | B25: Ho Thi Linh Kha ủng hộ KTX | D25: 200000 | F25: =F24+C25+D25-E25 -> 18495346
A26: 45347 | B26: Le Thi Nga ủng hộ KTX | D26: 500000 | F26: =F25+C26+D26-E26 -> 18995346
A27: 45348 | B27: Hoang Thi My Linh ủng hộ KTX | D27: 200000 | F27: =F26+C27+D27-E27 -> 19195346
... A32: 45348 | B32: Le Xuan Long ủng hộ KTX | D32: 50000 | F32: =F31+C32+D32-E32 -> 21045346
A33: 45348 | B33: Michele_du và gia đình CMTX T2/2024 | C33: 3000000 | F33: =F32+C33+D33-E33 -> 24045346
A34: 45348 | B34: Xuong Rong Can Tho ủng hộ KTX | D34: 300000 | F34: =F33+C34+D34-E34 -> 24345346
A35: 45348 | B35: Le Thuy Duong ủng hộ KTX | D35: 300000 | F35: =F34+C35+D35-E35 -> 24645346
A36: 45348 | B36: Le Thi Thuy Trang ủng hộ KTX | D36: 200000 | F36: =F35+C36+D36-E36 -> 24845346
A37: 45348 | B37: Nguyen Thi Trinh ủng hộ KTX | D37: 200000 | F37: =F36+C37+D37-E37 -> 25045346
A38: 45348 | B38: Nguyen Van Ly Hung ủng hộ KTX | D38: 200000 | F38: =F37+C38+D38-E38 -> 25245346
A39: 45349 | B39: Le Thi Hoang Trang ủng hộ KTX | D39: 500000 | F39: =F38+C39+D39-E39 -> 25745346
A40: 45349 | B40: Huynh Le Minh Thao ủng hộ KTX | D40: 200000 | F40: =F39+C40+D40-E40 -> 25945346
A41: 45349 | B41: Tran Tuyet Mai ủng hộ KTX | D41: 500000 | F41: =F40+C41+D41-E41 -> 26445346
A42: 45349 | B42: Ta Thi Hai Yen ủng hộ KTX | D42: 200000 | F42: =F41+C42+D42-E42 -> 26645346
A43: 45349 | B43: Tran Thi Thu Phung ủng hộ KTX | D43: 300000 | F43: =F42+C43+D43-E43 -> 26945346
A44: 45349 | B44: Hoang Thi Phuong ủng hộ KTX | D44: 200000 | F44: =F43+C44+D44-E44 -> 27145346
A45: 45349 | B45: Nguyen Cong Tung ủng hộ KTX | D45: 200000 | F45: =F44+C45+D45-E45 -> 27345346
... A81: 45375 | B81: Pham Thi Diem Quynh ủng hộ KTX | D81: 100000 | F81: =F80+C81+D81-E81 -> 39827593
A82: 45377 | B82: Michele_du và gia đình CMTX T3/2024 | C82: 3000000 | F82: =F81+C82+D82-E82 -> 42827593
A83: 45377 | B83: Chị Trang CMTX T3-8/2024 | C83: 3000000 | F83: =F82+C83+D83-E83 -> 45827593
A84: 45377 | B84: Bạch Liên CMTX T3-8/2024 | C84: 3000000 | F84: =F83+C84+D84-E84 -> 48827593
A85: 45379 | B85: Trần Tuyết Mai ủng hộ KTX | D85: 2000000 | F85: =F84+C85+D85-E85 -> 50827593
A86: 45386 | B86: Le Nhat Minh ủng hộ KTX | D86: 500000 | F86: =F85+C86+D86-E86 -> 51327593
A87: 45388 | B87: Nguyen Thi Dieu Thao ủng hộ KTX | D87: 100000 | F87: =F86+C87+D87-E87 -> 51427593
A88: 45388 | B88: Tue Na ủng hộ KTX | D88: 500000 | F88: =F87+C88+D88-E88 -> 51927593
A89: 45389 | B89: Le Nhat Minh ủng hộ KTX | D89: 500000 | F89: =F88+C89+D89-E89 -> 52427593
A90: 45389 | B90: Nguyen Thi Ngoan ủng hộ KTX | D90: 50000 | F90: =F89+C90+D90-E90 -> 52477593
A91: 45390 | B91: Be Nguyen Thieu Hoa 7 tuổi ủng hộ KTX | D91: 1336000 | F91: =F90+C91+D91-E91 -> 53813593
A92: 45391 | B92: Nguyen Thi Thuy Huong ủng hộ KTX | D92: 300000 | F92: =F91+C92+D92-E92 -> 54113593
A93: 45395 | B93: Nguyen Thanh Rot ủng hộ KTX | D93: 500000 | F93: =F92+C93+D93-E93 -> 54613593
A94: 45400 | B94: NTCM kết chuyển số dư CT Xe Nhân Ái từ TK 1501 | D94: 17460000 | F94: =F93+C94+D94-E94 -> 72073593
A95: 45400 | B95: NTCM kết chuyển số dư CT Giao Thừa Ấm HCM | D95: 8809000 | F95: =F94+C95+D95-E95 -> 80882593
A96: 45403 | B96: Lãi TG KKH | D96: 4918 | F96: =F95+C96+D96-E96 -> 80887511
... A98: 45409 | B98: Tran Tuyet Mai ủng hộ KTX | D98: 1000000 | F98: =F97+C98+D98-E98 -> 82187511
A99: 45409 | B99: Chuyển trả tiền ứng mua xe cho TV Banbe6x | E99: 30000000 | F99: =F98+C99+D99-E99 -> 52187511
A100: 45409 | B100: Đổ dầu chuyến 1124 | E100: 500000 | F100: =F99+C100+D100-E100 -> 51687511
A101: 45414 | B101: Le Nhat Minh ủng hộ KTX | D101: 500000 | F101: =F100+C101+D101-E101 -> 52187511
A102: 45414 | B102: Trinh Thi Ly Na ủng hộ KTX | D102: 300000 | F102: =F101+C102+D102-E102 -> 52487511
A103: 45415 | B103: Nguyen Thi Dieu AI ủng hộ KTX | D103: 100000 | F103: =F102+C103+D103-E103 -> 52587511
A104: 45415 | B104: Chichchoe ủng hộ KTX | D104: 300000 | F104: =F103+C104+D104-E104 -> 52887511
A105: 45415 | B105: Các bé nhà Hoati ủng hộ KTX | D105: 200000 | F105: =F104+C105+D105-E105 -> 53087511
A106: 45415 | B106: Pham Thuy Hien ủng hộ KTX | D106: 500000 | F106: =F105+C106+D106-E106 -> 53587511
A107: 45415 | B107: Le Duc Anh ủng hộ KTX | D107: 100000 | F107: =F106+C107+D107-E107 -> 53687511
A108: 45415 | B108: Vu Ngoc Thuy ủng hộ KTX | D108: 300000 | F108: =F107+C108+D108-E108 -> 53987511
A109: 45415 | B109: Oxy 8l chuyến 1224 | E109: 80000 | F109: =F108+C109+D109-E109 -> 53907511
A110: 45415 | B110: Kinh phí hỗ trợ chuyến 1224 | E110: 505000 | F110: =F109+C110+D110-E110 -> 53402511
A111: 45416 | B111: Thanh toán bảo dưỡng xe Tháng 03/2024 | E111: 3400000 | F111: =F110+C111+D111-E111 -> 50002511
A112: 45417 | B112: Thanh toán tiền đổi oxy + nước uống + phí qua trạm chuyến 1224 | E112: 367000 | F112: =F111+C112+D112-E112 -> 49635511
A113: 45417 | B113: Thanh toán tiền đổ dầu chuyến 1224 | E113: 2081159 | F113: =F112+C113+D113-E113 -> 47554352
A114: 45424 | B114: Do Kim Ngan ủng hộ KTX | D114: 5000000 | F114: =F113+C114+D114-E114 -> 52554352
A115: 45430 | B115: Lãi TG KKH | D115: 4378 | F115: =F114+C115+D115-E115 -> 52558730
A116: 45442 | B116: Tran Tuyet Mai ủng hộ KTX | D116: 2000000 | F116: =F115+C116+D116-E116 -> 54558730
A117: 45449 | B117: Le Nhat Minh ủng hộ KTX | D117: 500000 | F117: =F116+C117+D117-E117 -> 55058730
A118: 45451 | B118: Kimbang ủng hộ KTX | D118: 2000000 | F118: =F117+C118+D118-E118 -> 57058730
A119: 45457 | B119: Tran Thi Da Thao ủng hộ KTX | D119: 200000 | F119: =F118+C119+D119-E119 -> 57258730
A120: 45458 | B120: Lãi TG KKH | D120: 4184 | F120: =F119+C120+D120-E120 -> 57262914
A121: 45460 | B121: Đổ dầu chuyến 1324 | E121: 381081 | F121: =F120+C121+D121-E121 -> 56881833
A122: 45460 | B122: Đổ dầu chuyến 1424 | E122: 620092 | F122: =F121+C122+D122-E122 -> 56261741
A123: 45463 | B123: Thanh toán bảo dưỡng xe Tháng 04/2024 | E123: 6500000 | F123: =F122+C123+D123-E123 -> 49761741
A124: 45468 | B124: Lano Lehung ủng hộ KTX | D124: 5000000 | F124: =F123+C124+D124-E124 -> 54761741
A125: 45469 | B125: Chi Ngoc Vinh ủng hộ KTX | D125: 200000 | F125: =F124+C125+D125-E125 -> 54961741
A126: 45471 | B126: Tran Tuyet Mai ủng hộ KTX | D126: 1000000 | F126: =F125+C126+D126-E126 -> 55961741
A127: 45471 | B127: Tran Tuyet Mai ủng hộ KTX | D127: 1000000 | F127: =F126+C127+D127-E127 -> 56961741
A128: 45475 | B128: Le Nhat Minh ủng hộ KTX | D128: 500000 | F128: =F127+C128+D128-E128 -> 57461741
A129: 45480 | B129: Đổ dầu sau chuyến 1524 | E129: 270030 | F129: =F128+C129+D129-E129 -> 57191711
A130: 45482 | B130: Tran Tuyet Mai ủng hộ KTX | D130: 2000000 | F130: =F129+C130+D130-E130 -> 59191711
A131: 45483 | B131: Chi phí chuyến 1624 | E131: 471337 | F131: =F130+C131+D131-E131 -> 58720374
A132: 45485 | B132: Thay Bình Điện xe Nhân Ái | E132: 2060000 | F132: =F131+C132+D132-E132 -> 56660374
A133: 45486 | B133: Hoang Thi Diem Chau ủng hộ KTX | D133: 100000 | F133: =F132+C133+D133-E133 -> 56760374
A134: 45487 | B134: Nguyen Ngoc Thao ủng hộ KTX | D134: 350000 | F134: =F133+C134+D134-E134 -> 57110374
A135: 45487 | B135: Le Thuy Duong ủng hộ KTX | D135: 300000 | F135: =F134+C135+D135-E135 -> 57410374
A136: 45487 | B136: Le Thi Hoang Trang ủng hộ KTX | D136: 500000 | F136: =F135+C136+D136-E136 -> 57910374
A137: 45488 | B137: Trả tiền ứng thanh toán cứu hộ 1724 | E137: 1200000 | F137: =F136+C137+D137-E137 -> 56710374
A138: 45488 | B138: Dầu nối chuyến 1624 | E138: 904069 | F138: =F137+C138+D138-E138 -> 55806305
A139: 45489 | B139: Đổ dầu chuyến 1724 | E139: 697200 | F139: =F138+C139+D139-E139 -> 55109105
A140: 45491 | B140: Chi Bui Thuy Bui Dien ủng hộ KTX | D140: 1000000 | F140: =F139+C140+D140-E140 -> 56109105
A141: 45493 | B141: Cô Vân ủng hộ KTX | D141: 300000 | F141: =F140+C141+D141-E141 -> 56409105
...

Sheet 1501-1
A2: BÁO CÁO THU CHI CHUYẾN XE NHÂN ÁI HUẾ TÀI KHOẢN 1501
D3: Tồn đầu | F3: =0 -> 0
A4: Ngày | B4: Tên | C4: Diễn giải | D4: Thu | E4: Chi | F4: TỒN
F5: 0
A6: 45292 | B6: Michele Du | C6: CT Chuyến xe Nhân Ái Huế | D6: 60000000 | F6: =+F5+D6-E6 -> 60000000
A7: 45293 | B7: Nguyen Thi Thu Huong | C7: CT Chuyến xe Nhân Ái Huế | D7: 200000 | F7: =+F6+D7-E7 -> 60200000
A8: 45293 | B8: Nguyen Thi Hong Van | C8: CT Chuyến xe Nhân Ái Huế | D8: 200000 | F8: =+F7+D8-E8 -> 60400000
A9: 45293 | B9: Huong Nguyen Vinhomes | C9: CT Chuyến xe Nhân Ái Huế | D9: 1000000 | F9: =+F8+D9-E9 -> 61400000
A10: 45293 | B10: Chau Thi Ngoc Ha | C10: CT Chuyến xe Nhân Ái Huế | D10: 1000000 | F10: =+F9+D10-E10 -> 62400000
A11: 45293 | B11: Vu Ngoc Thuy | C11: CT Chuyến xe Nhân Ái Huế | D11: 500000 | F11: =+F10+D11-E11 -> 62900000
A12: 45293 | B12: Nguyen THI Dieu Ai | C12: CT Chuyến xe Nhân Ái Huế | D12: 500000 | F12: =+F11+D12-E12 -> 63400000
A13: 45293 | B13: Le Minh Nhat | C13: CT Chuyến xe Nhân Ái Huế | D13: 1000000 | F13: =+F12+D13-E13 -> 64400000
A14: 45293 | B14: Que Tra | C14: CT Chuyến xe Nhân Ái Huế | D14: 2000000 | F14: =+F13+D14-E14 -> 66400000
A15: 45293 | B15: Hien Pham | C15: CT Chuyến xe Nhân Ái Huế | D15: 5000000 | F15: =+F14+D15-E15 -> 71400000
A16: 45293 | B16: Gia Dinh Comoi | C16: CT Chuyến xe Nhân Ái Huế | D16: 3000000 | F16: =+F15+D16-E16 -> 74400000
A17: 45293 | B17: Vo Danh | C17: CT Chuyến xe Nhân Ái Huế | D17: 2500000 | F17: =+F16+D17-E17 -> 76900000
... A24: 45444 | B24: Wind | C24: CT Chuyến xe Nhân Ái Huế | D24: 2000000 | F24: =+F23+D24-E24 -> 89300000
A25: 45505 | B25: Doankhanhly | C25: CT Chuyến xe Nhân Ái Huế | E25: 80000000 | F25: =+F24+D25-E25 -> 9300000
A26: 45505 | B26: Thai Dinh USAID | C26: CT Chuyến xe Nhân Ái Huế | D26: 1000000 | F26: =+F25+D26-E26 -> 10300000
A27: 45300 | B27: Gia dinh LE Thanh Cong | C27: CT Chuyến xe Nhân Ái Huế | D27: 1260000 | F27: =+F26+D27-E27 -> 11560000
A28: 45300 | B28: Nguyen Thi Le | C28: CT Chuyến xe Nhân Ái Huế | D28: 500000 | F28: =+F27+D28-E28 -> 12060000
A29: 45300 | B29: Chich Le | C29: CT Chuyến xe Nhân Ái Huế | D29: 500000 | F29: =+F28+D29-E29 -> 12560000
A30: 45301 | B30: Hu Truc | C30: CT Chuyến xe Nhân Ái Huế | D30: 1000000 | F30: =+F29+D30-E30 -> 13560000
A31: 45301 | B31: Vo Thi Anh | C31: CT Chuyến xe Nhân Ái Huế | D31: 1000000 | F31: =+F30+D31-E31 -> 14560000
A32: 45301 | B32: Pham My Ai | C32: CT Chuyến xe Nhân Ái Huế | D32: 200000 | F32: =+F31+D32-E32 -> 14760000
A33: 45302 | B33: Nguyen Thi Le | C33: CT Chuyến xe Nhân Ái Huế | D33: 1000000 | F33: =+F32+D33-E33 -> 15760000
A34: 45302 | B34: Pham Quynh Nhu | C34: CT Chuyến xe Nhân Ái Huế | D34: 200000 | F34: =+F33+D34-E34 -> 15960000
A35: 45302 | B35: Tu ALNY | C35: CT Chuyến xe Nhân Ái Huế | D35: 500000 | F35: =+F34+D35-E35 -> 16460000
A36: 45303 | B36: Moc Di | C36: CT Chuyến xe Nhân Ái Huế | D36: 1000000 | F36: =+F35+D36-E36 -> 17460000
A37: 45307 | B37: Le Thuy Duong | C37: CT Chuyến xe Nhân Ái Huế | D37: 200000 | F37: =+F36+D37-E37 -> 17660000
... A41: 45391 | B41: Chich Choe | C41: CT Chuyến xe Nhân Ái Huế | D41: 200000 | F41: =+F40+D41-E41 -> 28360000
A42: 45400 | B42: Doan Thi Khanh Ly | C42: CT Chuyến xe Nhân Ái Huế kết chuyển quỹ XNA | E42: 17460000 | F42: =+F41+D42-E42 -> 10900000
A43: 45400 | B43: 1501 | C43: CT Chuyến xe Nhân Ái Huế kết chuyển tiền dư GTA HCM | D43: 8809000 | F43: =+F42+D43-E43 -> 19709000
A44: 45400 | B44: Doan Thi Khanh Ly | C44: CT Chuyến xe Nhân Ái Huế kết chuyển tiền dư GTA HCM | E44: 8809000 | F44: =+F43+D44-E44 -> 10900000
A45: 45434 | B45: Lano & Lehung | C45: CT Chuyến xe Nhân Ái Huế | D45: 5000000 | F45: =+F44+D45-E45 -> 15900000
A46: 45455 | B46: GD Hang Huy | C46: CT Xe Nhân Ái | D46: 1000000 | F46: =+F45+D46-E46 -> 16900000
A47: 45468 | B47: Lano & Lehung | C47: CT Chuyến xe Nhân Ái Huế | E47: 5000000 | F47: =+F46+D47-E47 -> 11900000
B48: Tổng cộng | D48: =SUM(D6:D47) -> 123169000 | E48: =SUM(E6:E47) -> 111269000 | F48: =+D48-E48 -> 11900000

Sheet TK chị Khánh Ly
A2: BÁO CÁO THU CHI CHUYẾN XE NHÂN ÁI HUẾ TÀI KHOẢN CÁ NHÂN KHÁNH LY
E3: Đvt: đồng
A4: Ngày | B4: Chi Tiết | C4: Thu | D4: Chi | E4: Tồn
A6: Tồn đầu tháng 01/2024 | E6: 0
A7: 45280 | B7: Michele_du ủng hộ mua xe Nhân Ái (TV Banbex6x chuyển trực tiếp cho Khánh Ly) | C7: 30000000 | E7: =+E6+C7-D7 -> 30000000
A8: 45286 | B8: Đặt cọc tiền xe | D8: 30000000 | E8: =+E7+C8-D8 -> 0
A9: 45296 | B9: Mua sim di động | D9: 1440000 | E9: =+E8+C9-D9 -> -1440000
A10: 45296 | B10: Thành viên Slim ủng hộ KTX | C10: 5000000 | E10: =+E9+C10-D10 -> 3560000
A11: 45297 | B11: Thu tiền từ TK 1501 | C11: 80000000 | E11: =+E10+C11-D11 -> 83560000
A12: 45304 | B12: Đổ dần lần đầu đưa xe về Huế | D12: 1000000 | E12: =+E11+C12-D12 -> 82560000
A13: 45304 | B13: Mua bảo hiểm trách nhiệm xe 1 năm | D13: 800000 | E13: =+E12+C13-D13 -> 81760000
A14: 45305 | B14: Làm vỏ đèn báo | D14: 500000 | E14: =+E13+C14-D14 -> 81260000
A15: 45311 | B15: Mua tẩm cắm sạc, màn cam xe, biến thế | D15: 730000 | E15: =+E14+C15-D15 -> 80530000
A16: 45313 | B16: Mua 6 đèn báo + ship | D16: 348000 | E16: =+E15+C16-D16 -> 80182000
A17: 45316 | B17: Tạm ứng tiền sửa xe | D17: 10000000 | E17: =+E16+C17-D17 -> 70182000
A18: 45317 | B18: Mua bách inox gá đèn | D18: 70000 | E18: =+E17+C18-D18 -> 70112000
A19: 45323 | B19: Ứng tiền mua sắm sửa chữa máy lạnh | D19: 7000000 | E19: =+E18+C19-D19 -> 63112000
A20: 45324 | B20: Đánh bóng đồng pha chính | D20: 250000 | E20: =+E19+C20-D20 -> 62862000
A21: 45338 | B21: Mua ghế phụ, còi, âm ly + ship | D21: 1460000 | E21: =+E20+C21-D21 -> 61402000
A22: 45338 | B22: Mua ốc vít | D22: 150000 | E22: =+E21+C22-D22 -> 61252000
A23: 45340 | B23: Dây điện chạy trần 3 loại | D23: 85000 | E23: =+E22+C23-D23 -> 61167000
... A47: 45354 | B47: Đánh 4 chìa khóa xe | D47: 100000 | E47: =+E46+C47-D47 -> 42025225
A48: 45355 | B48: TV Slim ủng hộ kinh phí thay băng ca | C48: 1000000 | E48: =+E47+C48-D48 -> 43025225
A49: 45357 | B49: Thanh toán tiền mua xe | D49: 15000000 | E49: =+E48+C49-D49 -> 28025225
A50: 45359 | B50: Thanh toán tiền sửa xe | D50: 2000000 | E50: =+E49+C50-D50 -> 26025225
A51: 45363 | B51: Xịt kính, + tẩy keo cũ + dao cạo | D51: 82000 | E51: =+E50+C51-D51 -> 25943225
A52: 45366 | B52: Thanh toán tiền mua xe | D52: 15000000 | E52: =+E51+C52-D52 -> 10943225
A53: 45367 | B53: Temp đồng phục nhận diện 30 bộ + 20 logo tạp dề balo | D53: 1000000 | E53: =+E52+C53-D53 -> 9943225
A54: 45371 | B54: Chai tẩy rỉ ốc vít | D54: 35000 | E54: =+E53+C54-D54 -> 9908225
A55: 45371 | B55: Camera hành trình | D55: 950000 | E55: =+E54+C55-D55 -> 8958225
A56: 45372 | B56: Đổ dầu và sửa chữa sau chuyến 05 | D56: 700000 | E56: =+E55+C56-D56 -> 8258225
A57: 45373 | B57: Thanh toán tiền sửa xe | D57: 2750000 | E57: =+E56+C57-D57 -> 5508225
A58: 45382 | B58: Đổ dầu sau chuyến 07 và hạ bình dầu hàn cổ | D58: 700000 | E58: =+E57+C58-D58 -> 4808225
A59: 45382 | B59: Đèn sương + giá cốc | D59: 143900 | E59: =+E58+C59-D59 -> 4664325
A60: 45388 | B60: Nước uống cho tài xế | D60: 150000 | E60: =+E59+C60-D60 -> 4514325
... A63: 45396 | B63: Phí ĐB 2-7 | D63: 1120000 | E63: =+E62+C63-D63 -> 1644325
A64: Tổng cộng | C64: =SUM(C7:C63) -> 116000000 | D64: =SUM(D7:D63) -> 114355675 | E64: =+E6+C64-D64 -> 1644325 | G64: 114355675
B70: Theo cập nhật của chị Khánh Ly.

Sheet 1575
A2: BÁO CÁO THU CHI CHUYẾN XE NHÂN ÁI HUẾ TÀI KHOẢN 1575
F3: Đvt: đồng
A4: Ngày | B4: Chi Tiết | C4: Thu | E4: Chi | F4: Tồn
C5: CMTX | D5: CMKTX
A6: Tồn đầu tháng 01/2024 | F6: 0
A7: 45306 | B7: Anh Phuclehuu ủng hộ KTX | D7: 15000 | F7: =F6+C7+D7-E7 -> 15000
A8: 45307 | B8: Gd Nhimcon ủng hộ KTX | D8: 300000 | F8: =F7+C8+D8-E8 -> 315000
A9: 45310 | B9: Chi Thao Vu Anh ủng hộ KTX | D9: 500000 | F9: =F8+C9+D9-E9 -> 815000
A10: 45310 | B10: Nguyen Thi Le ủng hộ KTX | D10: 500000 | F10: =F9+C10+D10-E10 -> 1315000
A11: 45310 | B11: Tran Hai Yen ủng hộ KTX | D11: 500000 | F11: =F10+C11+D11-E11 -> 1815000
A12: 45311 | B12: Tran Nhat Khanh ủng hộ KTX | D12: 50000 | F12: =F11+C12+D12-E12 -> 1865000
A13: 45312 | B13: Lãi TG KKH | D13: 13 | F13: =F12+C13+D13-E13 -> 1865013
A14: 45315 | B14: MTQ Ẩn Danh ủng hộ KTX | D14: 20000 | F14: =F13+C14+D14-E14 -> 1885013
A15: 45317 | B15: Michele_du CMTX tháng 01/2024 | C15: 3000000 | F15: =F14+C15+D15-E15 -> 4885013
A16: 45339 | B16: Lãi TG KKH | D16: 333 | F16: =F15+C16+D16-E16 -> 4885346
A17: 45340 | B17: MTQ Ẩn Danh ủng hộ KTX | D17: 10000 | F17: =F16+C17+D17-E17 -> 4895346
A18: 45343 | B18: Sẻ Chia ủng hộ KTX (làm mới dàn máy lạnh) | D18: 12500000 | F18: =F17+C18+D18-E18 -> 17395346
A19: 45343 | B19: Nguyen Khoi Nguyen ủng hộ KTX | D19: 100000 | F19: =F18+C19+D19-E19 -> 17495346
A20: 45343 | B20: MTQ Ẩn Danh ủng hộ KTX | D20: 50000 | F20: =F19+C20+D20-E20 -> 17545346
A21: 45343 | B21: Le Quach Nhu Ngoc ủng hộ KTX | D21: 30000 | F21: =F20+C21+D21-E21 -> 17575346
A22: 45346 | B22: To Phuong Linh ủng hộ KTX | D22: 200000 | F22: =F21+C22+D22-E22 -> 17775346
A23: 45346 | B23: Ho Thi Kim Ngan ủng hộ KTX | D23: 500000 | F23: =F22+C23+D23-E23 -> 18275346
A24: 45347 | B24: Bui Van Minh ủng hộ KTX | D24: 20000 | F24: =F23+C24+D24-E24 -> 18295346
A25: 45347 | B25: Ho Thi Linh Kha ủng hộ KTX | D25: 200000 | F25: =F24+C25+D25-E25 -> 18495346
A26: 45347 | B26: Le Thi Nga ủng hộ KTX | D26: 500000 | F26: =F25+C26+D26-E26 -> 18995346
A27: 45348 | B27: Hoang Thi My Linh ủng hộ KTX | D27: 200000 | F27: =F26+C27+D27-E27 -> 19195346
... A32: 45348 | B32: Le Xuan Long ủng hộ KTX | D32: 50000 | F32: =F31+C32+D32-E32 -> 21045346
A33: 45348 | B33: Michele_du và gia đình CMTX T2/2024 | C33: 3000000 | F33: =F32+C33+D33-E33 -> 24045346
A34: 45348 | B34: Xuong Rong Can Tho ủng hộ KTX | D34: 300000 | F34: =F33+C34+D34-E34 -> 24345346
A35: 45348 | B35: Le Thuy Duong ủng hộ KTX | D35: 300000 | F35: =F34+C35+D35-E35 -> 24645346
A36: 45348 | B36: Le Thi Thuy Trang ủng hộ KTX | D36: 200000 | F36: =F35+C36+D36-E36 -> 24845346
A37: 45348 | B37: Nguyen Thi Trinh ủng hộ KTX | D37: 200000 | F37: =F36+C37+D37-E37 -> 25045346
A38: 45348 | B38: Nguyen Van Ly Hung ủng hộ KTX | D38: 200000 | F38: =F37+C38+D38-E38 -> 25245346
A39: 45349 | B39: Le Thi Hoang Trang ủng hộ KTX | D39: 500000 | F39: =F38+C39+D39-E39 -> 25745346
A40: 45349 | B40: Huynh Le Minh Thao ủng hộ KTX | D40: 200000 | F40: =F39+C40+D40-E40 -> 25945346
A41: 45349 | B41: Tran Tuyet Mai ủng hộ KTX | D41: 500000 | F41: =F40+C41+D41-E41 -> 26445346
A42: 45349 | B42: Ta Thi Hai Yen ủng hộ KTX | D42: 200000 | F42: =F41+C42+D42-E42 -> 26645346
A43: 45349 | B43: Tran Thi Thu Phung ủng hộ KTX | D43: 300000 | F43: =F42+C43+D43-E43 -> 26945346
A44: 45349 | B44: Hoang Thi Phuong ủng hộ KTX | D44: 200000 | F44: =F43+C44+D44-E44 -> 27145346
A45: 45349 | B45: Nguyen Cong Tung ủng hộ KTX | D45: 200000 | F45: =F44+C45+D45-E45 -> 27345346
... A81: 45375 | B81: Pham Thi Diem Quynh ủng hộ KTX | D81: 100000 | F81: =F80+C81+D81-E81 -> 39827593
A82: 45377 | B82: Michele_du và gia đình CMTX T3/2024 | C82: 3000000 | F82: =F81+C82+D82-E82 -> 42827593
A83: 45377 | B83: Chị Trang CMTX T3-8/2024 | C83: 3000000 | F83: =F82+C83+D83-E83 -> 45827593
A84: 45377 | B84: Bạch Liên CMTX T3-8/2024 | C84: 3000000 | F84: =F83+C84+D84-E84 -> 48827593
A85: 45379 | B85: Trần Tuyết Mai ủng hộ KTX | D85: 2000000 | F85: =F84+C85+D85-E85 -> 50827593
A86: 45386 | B86: Le Nhat Minh ủng hộ KTX | D86: 500000 | F86: =F85+C86+D86-E86 -> 51327593
A87: 45388 | B87: Nguyen Thi Dieu Thao ủng hộ KTX | D87: 100000 | F87: =F86+C87+D87-E87 -> 51427593
A88: 45388 | B88: Tue Na ủng hộ KTX | D88: 500000 | F88: =F87+C88+D88-E88 -> 51927593
A89: 45389 | B89: Le Nhat Minh ủng hộ KTX | D89: 500000 | F89: =F88+C89+D89-E89 -> 52427593
A90: 45389 | B90: Nguyen Thi Ngoan ủng hộ KTX | D90: 50000 | F90: =F89+C90+D90-E90 -> 52477593
A91: 45390 | B91: Be Nguyen Thieu Hoa 7 tuổi ủng hộ KTX | D91: 1336000 | F91: =F90+C91+D91-E91 -> 53813593
A92: 45391 | B92: Nguyen Thi Thuy Huong ủng hộ KTX | D92: 300000 | F92: =F91+C92+D92-E92 -> 54113593
A93: 45395 | B93: Nguyen Thanh Rot ủng hộ KTX | D93: 500000 | F93: =F92+C93+D93-E93 -> 54613593
A94: 45400 | B94: NTCM kết chuyển số dư CT Xe Nhân Ái từ TK 1501 | D94: 17460000 | F94: =F93+C94+D94-E94 -> 72073593
A95: 45400 | B95: NTCM kết chuyển số dư CT Giao Thừa Ấm HCM | D95: 8809000 | F95: =F94+C95+D95-E95 -> 80882593
A96: 45403 | B96: Lãi TG KKH | D96: 4918 | F96: =F95+C96+D96-E96 -> 80887511
... A98: 45409 | B98: Tran Tuyet Mai ủng hộ KTX | D98: 1000000 | F98: =F97+C98+D98-E98 -> 82187511
A99: 45409 | B99: Chuyển trả tiền ứng mua xe cho TV Banbe6x | E99: 30000000 | F99: =F98+C99+D99-E99 -> 52187511
A100: 45409 | B100: Đổ dầu chuyến 1124 | E100: 500000 | F100: =F99+C100+D100-E100 -> 51687511
A101: 45414 | B101: Le Nhat Minh ủng hộ KTX | D101: 500000 | F101: =F100+C101+D101-E101 -> 52187511
A102: 45414 | B102: Trinh Thi Ly Na ủng hộ KTX | D102: 300000 | F102: =F101+C102+D102-E102 -> 52487511
A103: 45415 | B103: Nguyen Thi Dieu AI ủng hộ KTX | D103: 100000 | F103: =F102+C103+D103-E103 -> 52587511
A104: 45415 | B104: Chichchoe ủng hộ KTX | D104: 300000 | F104: =F103+C104+D104-E104 -> 52887511
A105: 45415 | B105: Các bé nhà Hoati ủng hộ KTX | D105: 200000 | F105: =F104+C105+D105-E105 -> 53087511
A106: 45415 | B106: Pham Thuy Hien ủng hộ KTX | D106: 500000 | F106: =F105+C106+D106-E106 -> 53587511
A107: 45415 | B107: Le Duc Anh ủng hộ KTX | D107: 100000 | F107: =F106+C107+D107-E107 -> 53687511
A108: 45415 | B108: Vu Ngoc Thuy ủng hộ KTX | D108: 300000 | F108: =F107+C108+D108-E108 -> 53987511
A109: 45415 | B109: Oxy 8l chuyến 1224 | E109: 80000 | F109: =F108+C109+D109-E109 -> 53907511
A110: 45415 | B110: Kinh phí hỗ trợ chuyến 1224 | E110: 505000 | F110: =F109+C110+D110-E110 -> 53402511
A111: 45416 | B111: Thanh toán bảo dưỡng xe Tháng 03/2024 | E111: 3400000 | F111: =F110+C111+D111-E111 -> 50002511 | G111: =+E111 -> 3400000
A112: 45417 | B112: Thanh toán tiền đổi oxy + nước uống + phí qua trạm chuyến 1224 | E112: 367000 | F112: =F111+C112+D112-E112 -> 49635511
A113: 45417 | B113: Thanh toán tiền đổ dầu chuyến 1224 | E113: 2081159 | F113: =F112+C113+D113-E113 -> 47554352
A114: 45424 | B114: Do Kim Ngan ủng hộ KTX | D114: 5000000 | F114: =F113+C114+D114-E114 -> 52554352
A115: 45430 | B115: Lãi TG KKH | D115: 4378 | F115: =F114+C115+D115-E115 -> 52558730
A116: 45442 | B116: Tran Tuyet Mai ủng hộ KTX | D116: 2000000 | F116: =F115+C116+D116-E116 -> 54558730
A117: 45449 | B117: Le Nhat Minh ủng hộ KTX | D117: 500000 | F117: =F116+C117+D117-E117 -> 55058730
A118: 45451 | B118: Kimbang ủng hộ KTX | D118: 2000000 | F118: =F117+C118+D118-E118 -> 57058730
A119: 45457 | B119: Tran Thi Da Thao ủng hộ KTX | D119: 200000 | F119: =F118+C119+D119-E119 -> 57258730
A120: 45458 | B120: Lãi TG KKH | D120: 4184 | F120: =F119+C120+D120-E120 -> 57262914
A121: 45460 | B121: Đổ dầu chuyến 1324 | E121: 381081 | F121: =F120+C121+D121-E121 -> 56881833
A122: 45460 | B122: Đổ dầu chuyến 1424 | E122: 620092 | F122: =F121+C122+D122-E122 -> 56261741
A123: 45463 | B123: Thanh toán bảo dưỡng xe Tháng 04/2024 | E123: 6500000 | F123: =F122+C123+D123-E123 -> 49761741 | G123: =+E123 -> 6500000
A124: 45468 | B124: Lano Lehung ủng hộ KTX | D124: 5000000 | F124: =F123+C124+D124-E124 -> 54761741
A125: 45469 | B125: Chi Ngoc Vinh ủng hộ KTX | D125: 200000 | F125: =F124+C125+D125-E125 -> 54961741
A126: 45471 | B126: Tran Tuyet Mai ủng hộ KTX | D126: 1000000 | F126: =F125+C126+D126-E126 -> 55961741
A127: 45471 | B127: Tran Tuyet Mai ủng hộ KTX | D127: 1000000 | F127: =F126+C127+D127-E127 -> 56961741
A128: 45475 | B128: Le Nhat Minh ủng hộ KTX | D128: 500000 | F128: =F127+C128+D128-E128 -> 57461741
A129: 45480 | B129: Đổ dầu sau chuyến 1524 | E129: 270030 | F129: =F128+C129+D129-E129 -> 57191711
A130: 45482 | B130: Tran Tuyet Mai ủng hộ KTX | D130: 2000000 | F130: =F129+C130+D130-E130 -> 59191711
A131: 45483 | B131: Chi phí chuyến 1624 | E131: 471337 | F131: =F130+C131+D131-E131 -> 58720374
A132: 45485 | B132: Thay Bình Điện xe Nhân Ái | E132: 2060000 | F132: =F131+C132+D132-E132 -> 56660374 | G132: =+E132 -> 2060000
A133: 45486 | B133: Hoang Thi Diem Chau ủng hộ KTX | D133: 100000 | F133: =F132+C133+D133-E133 -> 56760374
A134: 45487 | B134: Nguyen Ngoc Thao ủng hộ KTX | D134: 350000 | F134: =F133+C134+D134-E134 -> 57110374
A135: 45487 | B135: Le Thuy Duong ủng hộ KTX | D135: 300000 | F135: =F134+C135+D135-E135 -> 57410374
A136: 45487 | B136: Le Thi Hoang Trang ủng hộ KTX | D136: 500000 | F136: =F135+C136+D136-E136 -> 57910374
A137: 45488 | B137: Trả tiền ứng thanh toán cứu hộ 1724 | E137: 1200000 | F137: =F136+C137+D137-E137 -> 56710374
A138: 45488 | B138: Dầu nối chuyến 1624 | E138: 904069 | F138: =F137+C138+D138-E138 -> 55806305
A139: 45489 | B139: Đổ dầu chuyến 1724 | E139: 697200 | F139: =F138+C139+D139-E139 -> 55109105
A140: 45491 | B140: Chi Bui Thuy Bui Dien ủng hộ KTX | D140: 1000000 | F140: =F139+C140+D140-E140 -> 56109105
A141: 45493 | B141: Cô Vân ủng hộ KTX | D141: 300000 | F141: =F140+C141+D141-E141 -> 56409105
...

Sheet 1501
A1: BÁO CÁO THU CHI CHUYẾN XE NHÂN ÁI HUẾ TK 1501
F2: Đvt: đồng
A3: Ngày | B3: Chi Tiết | C3: Thu | E3: Chi | F3: Tồn
C4: CMTX | D4: CMKTX
A5: Tồn đầu tháng 01/2024 | F5: 0
A6: 45292 | B6: Michele_du và gia đình | D6: 60000000 | F6: =F5+C6+D6-E6 -> 60000000
A7: 45293 | B7: Nguyen Thi Thu Huong | D7: 200000 | F7: =F6+C7+D7-E7 -> 60200000
A8: 45293 | B8: Nguyen Thi Hong Van | D8: 200000 | F8: =F7+C8+D8-E8 -> 60400000
A9: 45293 | B9: Huong Nguyen Vinhome | D9: 1000000 | F9: =F8+C9+D9-E9 -> 61400000
A10: 45293 | B10: Chau Thi Ngoc Ha | D10: 1000000 | F10: =F9+C10+D10-E10 -> 62400000
A11: 45293 | B11: Vu Ngoc Thuy | D11: 500000 | F11: =F10+C11+D11-E11 -> 62900000
A12: 45293 | B12: Nguyen Thi Dieu Ai | D12: 500000 | F12: =F11+C12+D12-E12 -> 63400000
A13: 45293 | B13: Le Nhat Minh | D13: 1000000 | F13: =F12+C13+D13-E13 -> 64400000
A14: 45293 | B14: Que Tra | D14: 2000000 | F14: =F13+C14+D14-E14 -> 66400000
A15: 45293 | B15: Pham Thuy Hien | D15: 5000000 | F15: =F14+C15+D15-E15 -> 71400000
A16: 45293 | B16: Gia dinh Co Moi | D16: 3000000 | F16: =F15+C16+D16-E16 -> 74400000
A17: 45293 | B17: Vo Danh | D17: 2500000 | F17: =F16+C17+D17-E17 -> 76900000
... A25: 45298 | B25: Thai Dinh Usaid | D25: 1000000 | F25: =F24+C25+D25-E25 -> 90300000
A26: 45299 | B26: Chuyển tiền qua TK cá nhân chị Khánh Ly | E26: 80000000 | F26: =F25+C26+D26-E26 -> 10300000
A27: 45300 | B27: Gia Dinh Le Thanh Cong | D27: 1260000 | F27: =F26+C27+D27-E27 -> 11560000
A28: 45300 | B28: Nguyen Thi Le | D28: 500000 | F28: =F27+C28+D28-E28 -> 12060000
A29: 45300 | B29: Le Mua Chiem | D29: 500000 | F29: =F28+C29+D29-E29 -> 12560000
A30: 45301 | B30: Hu Truc | D30: 1000000 | F30: =F29+C30+D30-E30 -> 13560000
A31: 45301 | B31: Vo Thi Anh | D31: 1000000 | F31: =F30+C31+D31-E31 -> 14560000
A32: 45301 | B32: Phan My Ai | D32: 200000 | F32: =F31+C32+D32-E32 -> 14760000
A33: 45302 | B33: Nguyen Thi Le | D33: 1000000 | F33: =F32+C33+D33-E33 -> 15760000
A34: 45302 | B34: Pham Quynh Nhu | D34: 200000 | F34: =F33+C34+D34-E34 -> 15960000
A35: 45302 | B35: Tu Alny | D35: 500000 | F35: =F34+C35+D35-E35 -> 16460000
A36: 45303 | B36: Moc Di | D36: 1000000 | F36: =F35+C36+D36-E36 -> 17460000
A37: 45307 | B37: le Thuy Duong | D37: 200000 | F37: =F36+C37+D37-E37 -> 17660000
A38: 45328 | B38: Lê Nhật Minh | D38: 9000000 | F38: =F37+C38+D38-E38 -> 26660000
... A41: 45391 | B41: Chich Choe | D41: 200000 | F41: =F40+C41+D41-E41 -> 28360000
A42: 45400 | B42: Kết chuyển qua TK 1705 | E42: 17460000 | F42: =F41+C42+D42-E42 -> 10900000
A43: 45400 | B43: Thu tiền kết chuyển từ CT Giao Thừa Ấm SG | D43: 8809000 | F43: =F42+C43+D43-E43 -> 19709000
A44: 45400 | B44: Kết chuyển qua TK 1705 từ CT Giao Thừa Ấm SG | E44: 8809000 | F44: =F43+C44+D44-E44 -> 10900000 | G44: tại sao còn tồn
A45: Tổng | C45: =SUM(C6:C44) -> 0 | D45: =SUM(D6:D44) -> 117169000 | E45: =SUM(E6:E44) -> 106269000 | F45: =F5+C46-E45 -> 10900000
A46: Tồn quỹ cuối tháng 05/2024 | C46: =C45+D45 -> 117169000

Sheet 1575 (2)
A1: BÁO CÁO THU CHI CHUYẾN XE NHÂN ÁI HUẾ TK 1575
F2: Đvt: đồng
A3: Ngày | B3: Chi Tiết | C3: Thu | E3: Chi | F3: Tồn
C4: CMTX | D4: CMKTX
A5: Tồn đầu tháng 01/2024 | F5: 0
A6: 45306 | B6: Anh Phuclehuu ủng hộ KTX | D6: 15000 | F6: =F5+C6+D6-E6 -> 15000
A7: 45307 | B7: Gd Nhimcon ủng hộ KTX | D7: 300000 | F7: =F6+C7+D7-E7 -> 315000
A8: 45310 | B8: Chi Thao Vu Anh ủng hộ KTX | D8: 500000 | F8: =F7+C8+D8-E8 -> 815000
A9: 45310 | B9: Nguyen Thi Le ủng hộ KTX | D9: 500000 | F9: =F8+C9+D9-E9 -> 1315000
A10: 45310 | B10: Tran Hai Yen ủng hộ KTX | D10: 500000 | F10: =F9+C10+D10-E10 -> 1815000
A11: 45311 | B11: Tran Nhat Khanh ủng hộ KTX | D11: 50000 | F11: =F10+C11+D11-E11 -> 1865000
A12: 45312 | B12: Lãi TG KKH | D12: 13 | F12: =F11+C12+D12-E12 -> 1865013
A13: 45315 | B13: MTQ Ẩn Danh ủng hộ KTX | D13: 20000 | F13: =F12+C13+D13-E13 -> 1885013
A14: 45317 | B14: Michele_du CMTX tháng 01/2024 | C14: 3000000 | F14: =F13+C14+D14-E14 -> 4885013
A15: 45339 | B15: Lãi TG KKH | D15: 333 | F15: =F14+C15+D15-E15 -> 4885346
A16: 45340 | B16: MTQ Ẩn Danh ủng hộ KTX | D16: 10000 | F16: =F15+C16+D16-E16 -> 4895346
A17: 45343 | B17: Sẻ Chia ủng hộ KTX (làm mới dàn máy lạnh) | D17: 12500000 | F17: =F16+C17+D17-E17 -> 17395346
A18: 45343 | B18: Nguyen Khoi Nguyen ủng hộ KTX | D18: 100000 | F18: =F17+C18+D18-E18 -> 17495346
A19: 45343 | B19: MTQ Ẩn Danh ủng hộ KTX | D19: 50000 | F19: =F18+C19+D19-E19 -> 17545346
A20: 45343 | B20: Le Quach Nhu Ngoc ủng hộ KTX | D20: 30000 | F20: =F19+C20+D20-E20 -> 17575346
A21: 45346 | B21: To Phuong Linh ủng hộ KTX | D21: 200000 | F21: =F20+C21+D21-E21 -> 17775346
A22: 45346 | B22: Ho Thi Kim Ngan ủng hộ KTX | D22: 500000 | F22: =F21+C22+D22-E22 -> 18275346
A23: 45347 | B23: Bui Van Minh ủng hộ KTX | D23: 20000 | F23: =F22+C23+D23-E23 -> 18295346
A24: 45347 | B24: Ho Thi Linh Kha ủng hộ KTX | D24: 200000 | F24: =F23+C24+D24-E24 -> 18495346
A25: 45347 | B25: Le Thi Nga ủng hộ KTX | D25: 500000 | F25: =F24+C25+D25-E25 -> 18995346
A26: 45348 | B26: Hoang Thi My Linh ủng hộ KTX | D26: 200000 | F26: =F25+C26+D26-E26 -> 19195346
... A31: 45348 | B31: Le Xuan Long ủng hộ KTX | D31: 50000 | F31: =F30+C31+D31-E31 -> 21045346
A32: 45348 | B32: Michele_du và gia đình CMTX T2/2024 | C32: 3000000 | F32: =F31+C32+D32-E32 -> 24045346
A33: 45348 | B33: Xuong Rong Can Tho ủng hộ KTX | D33: 300000 | F33: =F32+C33+D33-E33 -> 24345346
A34: 45348 | B34: Le Thuy Duong ủng hộ KTX | D34: 300000 | F34: =F33+C34+D34-E34 -> 24645346
A35: 45348 | B35: Le Thi Thuy Trang ủng hộ KTX | D35: 200000 | F35: =F34+C35+D35-E35 -> 24845346
A36: 45348 | B36: Nguyen Thi Trinh ủng hộ KTX | D36: 200000 | F36: =F35+C36+D36-E36 -> 25045346
A37: 45348 | B37: Nguyen Van Ly Hung ủng hộ KTX | D37: 200000 | F37: =F36+C37+D37-E37 -> 25245346
A38: 45349 | B38: Le Thi Hoang Trang ủng hộ KTX | D38: 500000 | F38: =F37+C38+D38-E38 -> 25745346
A39: 45349 | B39: Huynh Le Minh Thao ủng hộ KTX | D39: 200000 | F39: =F38+C39+D39-E39 -> 25945346
A40: 45349 | B40: Tran Tuyet Mai ủng hộ KTX | D40: 500000 | F40: =F39+C40+D40-E40 -> 26445346
A41: 45349 | B41: Ta Thi Hai Yen ủng hộ KTX | D41: 200000 | F41: =F40+C41+D41-E41 -> 26645346
A42: 45349 | B42: Tran Thi Thu Phung ủng hộ KTX | D42: 300000 | F42: =F41+C42+D42-E42 -> 26945346
A43: 45349 | B43: Hoang Thi Phuong ủng hộ KTX | D43: 200000 | F43: =F42+C43+D43-E43 -> 27145346
A44: 45349 | B44: Nguyen Cong Tung ủng hộ KTX | D44: 200000 | F44: =F43+C44+D44-E44 -> 27345346
... A80: 45375 | B80: Pham Thi Diem Quynh ủng hộ KTX | D80: 100000 | F80: =F79+C80+D80-E80 -> 39827593
A81: 45377 | B81: Michele_du và gia đình CMTX T3/2024 | C81: 3000000 | F81: =F80+C81+D81-E81 -> 42827593
A82: 45377 | B82: Chị Trang CMTX T3-8/2024 | C82: 3000000 | F82: =F81+C82+D82-E82 -> 45827593
A83: 45377 | B83: Bạch Liên CMTX T3-8/2024 | C83: 3000000 | F83: =F82+C83+D83-E83 -> 48827593
A84: 45379 | B84: Trần Tuyết Mai ủng hộ KTX | D84: 2000000 | F84: =F83+C84+D84-E84 -> 50827593
A85: 45386 | B85: Le Nhat Minh ủng hộ KTX | D85: 500000 | F85: =F84+C85+D85-E85 -> 51327593
A86: 45388 | B86: Nguyen Thi Dieu Thao ủng hộ KTX | D86: 100000 | F86: =F85+C86+D86-E86 -> 51427593
A87: 45388 | B87: Tue Na ủng hộ KTX | D87: 500000 | F87: =F86+C87+D87-E87 -> 51927593
A88: 45389 | B88: Le Nhat Minh ủng hộ KTX | D88: 500000 | F88: =F87+C88+D88-E88 -> 52427593
A89: 45389 | B89: Nguyen Thi Ngoan ủng hộ KTX | D89: 50000 | F89: =F88+C89+D89-E89 -> 52477593
A90: 45390 | B90: Be Nguyen Thieu Hoa 7 tuổi ủng hộ KTX | D90: 1336000 | F90: =F89+C90+D90-E90 -> 53813593
A91: 45391 | B91: Nguyen Thi Thuy Huong ủng hộ KTX | D91: 300000 | F91: =F90+C91+D91-E91 -> 54113593
A92: 45395 | B92: Nguyen Thanh Rot ủng hộ KTX | D92: 500000 | F92: =F91+C92+D92-E92 -> 54613593
A93: 45400 | B93: NTCM kết chuyển số dư CT Xe Nhân Ái từ TK 1501 | D93: 17460000 | F93: =F92+C93+D93-E93 -> 72073593
A94: 45400 | B94: NTCM kết chuyển số dư CT Giao Thừa Ấm HCM | D94: 8809000 | F94: =F93+C94+D94-E94 -> 80882593
A95: 45403 | B95: Lãi TG KKH | D95: 4918 | F95: =F94+C95+D95-E95 -> 80887511
... A129: 45501 | B129: Nguyen Khanh Linh | D129: 688000 | F129: =F128+C129+D129-E129 -> 109439417
A130: 45502 | B130: Michele_du và gia đình CMTX T7/2024 | C130: 3000000 | F130: =F129+C130+D130-E130 -> 112439417
A131: 45503 | B131: Trần Tuyết Mai ủng hộ KTX | D131: 2000000 | F131: =F130+C131+D131-E131 -> 114439417
A132: 45504 | B132: Le Nhat Minh ủng hộ KTX | D132: 1000000 | F132: =F131+C132+D132-E132 -> 115439417
A133: 45409 | B133: Chuyển trả tiền ứng mua xe cho TV Banbe6x | E133: 30000000 | F133: =F132+C133+D133-E133 -> 85439417
A134: 45409 | B134: Đổ dầu chuyến 1124 | E134: 500000 | F134: =F133+C134+D134-E134 -> 84939417
A135: 45415 | B135: Oxy 8l chuyến 1224 | E135: 80000 | F135: =F134+C135+D135-E135 -> 84859417
A136: 45415 | B136: Kinh phí hỗ trợ chuyến 1224 | E136: 505000 | F136: =F135+C136+D136-E136 -> 84354417
A137: 45416 | B137: Thanh toán bảo dưỡng xe Tháng 03/2024 | E137: 3400000 | F137: =F136+C137+D137-E137 -> 80954417 | G137: =+E137 -> 3400000
A138: 45417 | B138: Thanh toán tiền đổi oxy + nước uống + phí qua trạm chuyến 1224 | E138: 367000 | F138: =F137+C138+D138-E138 -> 80587417
A139: 45417 | B139: Thanh toán tiền đổ dầu chuyến 1224 | E139: 2081159 | F139: =F138+C139+D139-E139 -> 78506258
A140: 45460 | B140: Đổ dầu chuyến 1324 | E140: 381081 | F140: =F139+C140+D140-E140 -> 78125177
A141: 45460 | B141: Đổ dầu chuyến 1424 | E141: 620092 | F141: =F140+C141+D141-E141 -> 77505085
A142: 45463 | B142: Thanh toán bảo dưỡng xe Tháng 04/2024 | E142: 6500000 | F142: =F141+C142+D142-E142 -> 71005085 | G142: =+E142 -> 6500000
A143: 45480 | B143: Đổ dầu sau chuyến 1524 | E143: 270030 | F143: =F142+C143+D143-E143 -> 70735055
A144: 45483 | B144: Chi phí chuyến 1624 | E144: 471337 | F144: =F143+C144+D144-E144 -> 70263718
A145: 45485 | B145: Thay Bình Điện xe Nhân Ái | E145: 2060000 | F145: =F144+C145+D145-E145 -> 68203718 | G145: =+E145 -> 2060000
A146: 45488 | B146: Trả tiền ứng thanh toán cứu hộ 1724 | E146: 1200000 | F146: =F145+C146+D146-E146 -> 67003718
A147: 45488 | B147: Dầu nối chuyến 1624 | E147: 904069 | F147: =F146+C147+D147-E147 -> 66099649
A148: 45489 | B148: Đổ dầu chuyến 1724 | E148: 697200 | F148: =F147+C148+D148-E148 -> 65402449
A149: 45493 | B149: Chi phí chuyến 1924 | E149: 120000 | F149: =F148+C149+D149-E149 -> 65282449
A150: 45496 | B150: Đổ dầu sau chuyến 2024 | E150: 763088 | F150: =F149+C150+D150-E150 -> 64519361
A151: 45496 | B151: Đổ noi dau chuyen 1924 | E151: 1595045 | F151: =F150+C151+D151-E151 -> 62924316 | H151: =+E151/21000 -> 75.954524 | I151: =+H151/10 -> 7.5954524
A152: 45498 | B152: Bảo dưỡng xe ngày 25/07 | E152: 4080000 | F152: =F151+C152+D152-E152 -> 58844316 | G152: =+E152 -> 4080000
A153: 45498 | B153: Dầu và chi phí chuyến 2124 | E153: 1018168 | F153: =F152+C153+D153-E153 -> 57826148
A154: 45499 | B154: Chi phí chuyến 2324 và 2244 | E154: 1491080 | F154: =F153+C154+D154-E154 -> 56335068
A155: 45500 | B155: Chi phí trung chuyển thi hài o Tuoi từ Aco về Dong Sơn | E155: 500000 | F155: =F154+C155+D155-E155 -> 55835068
A156: 45501 | B156: Cứu hộ 2424 đèo Aco về Huế | E156: 1500000 | F156: =F155+C156+D156-E156 -> 54335068
A157: 45502 | B157: chi phí chuyến 2424 | E157: 115000 | F157: =F156+C157+D157-E157 -> 54220068
A158: Tổng | C158: =SUM(C6:C157) -> 18000000 | D158: =SUM(D6:D157) -> 97439417 | E158: =SUM(E6:E157) -> 61219349 | F158: =F5+C159-E158 -> 54220068
A159: Tồn quỹ cuối tháng 07/2024 | C159: =C158+D158 -> 115439417
B163: tk 1501 | C163: 10900000 | D163: tại sao còn tồn
B164: tk cá nhân chị Khánh ly | C164: -355675 | D164: check lại
B165: tk 1705 | C165: =F158 -> 54220068
B166: Tồn quỹ | C166: =SUM(C163:C165) -> 64764393
