Workbook

Sheet Thống kê ủng hộ
B2: NTCM - THỐNG KÊ ỦNG HỘ Đồng hành cùng bà con bị ảnh hưởng lũ lụt các tỉnh phía Bắc (Tính đến 19h56 ngày 24/09/2024)
B3: STT | C3: NT | D3: TÊN/ NICK | E3: SỐ TIỀN | F3: STT | G3: NT | H3: TÊN/ NICK | I3: SỐ TIỀN
B4: 1 | C4: 10/09 | D4: MaisaPhan | E4: 3000000 | F4: 61 | G4: 10/09 | H4: Cao Thanh Chung | I4: 300000
B5: 2 | C5: 10/09 | D5: Em Hang Manu | E5: 1000000 | F5: 62 | G5: 10/09 | H5: Nguyen Thi Van Khanh | I5: 1000000
B6: 3 | C6: 10/09 | D6: Em Duong | E6: 2000000 | F6: 63 | G6: 10/09 | H6: Nguyen Thi Thanh Mai | I6: 1000000
B7: 4 | C7: 10/09 | D7: Le Nhat Minh | E7: 1000000 | F7: 64 | G7: 10/09 | H7: Hoang Phuong Lien | I7: 500000
B8: 5 | C8: 10/09 | D8: Tien Ca Kinh | E8: 500000 | F8: 65 | G8: 10/09 | H8: Cao Ngo Hong Anh | I8: 3000000
B9: 6 | C9: 10/09 | D9: Nguyen Kim Bang | E9: 1000000 | F9: 66 | G9: 10/09 | H9: Nguyen Thi Dieu Ai | I9: 300000
B10: 7 | C10: 10/09 | D10: Que Tra | E10: 1000000 | F10: 67 | G10: 10/09 | H10: Thai Que Tam | I10: 200000
B11: 8 | C11: 10/09 | D11: Thai Hoa | E11: 500000 | F11: 68 | G11: 10/09 | H11: FB Linh Hanh | I11: 500000
B12: 9 | C12: 10/09 | D12: Trinh Dac Chung | E12: 200000 | F12: 69 | G12: 10/09 | H12: Trang Ngo | I12: 1000000
B13: 10 | C13: 10/09 | D13: LilyNguyen | E13: 500000 | F13: 70 | G13: 10/09 | H13: Dang Thi Phuong | I13: 500000
B14: 11 | C14: 10/09 | D14: ThaiDzuy | E14: 1000000 | F14: 71 | G14: 10/09 | H14: HanhMLe | I14: 1000000
B15: 12 | C15: 10/09 | D15: Nam Trang | E15: 1000000 | F15: 72 | G15: 10/09 | H15: Hang nc | I15: 200000
... B63: 60 | C63: 10/09 | D63: Dinh Tien Dung | E63: 300000 | F63: 120 | G63: 11/09 | H63: Do Ngoc Anh | I63: 100000
B64: Trang 1/2
B67: STT | C67: NT | D67: TÊN/ NICK | E67: SỐ TIỀN | F67: STT | G67: NT | H67: TÊN/ NICK | I67: SỐ TIỀN
B68: 121 | C68: 11/09 | D68: Tran Truc Khanh | E68: 3000000 | F68: 166 | G68: 12/09 | H68: Bin10 | I68: 1000000
B69: 122 | C69: 11/09 | D69: Do Kim Ngan | E69: 1000000 | F69: 167 | G69: 12/09 | H69: FB Huong Vinh | I69: 500000
B70: 123 | C70: 11/09 | D70: Truc | E70: 1000000 | F70: 168 | G70: 12/09 | H70: Ban Le Phung | I70: 200000
B71: 124 | C71: 11/09 | D71: Pham Kha Chinh | E71: 500000 | F71: 169 | G71: 12/09 | H71: Gia dinh Ngan Trung | I71: 2000000
B72: 125 | C72: 11/09 | D72: Do Phuong Quy | E72: 500000 | F72: 170 | G72: 12/09 | H72: Cac ban Maitan | I72: 4000000
B73: 126 | C73: 11/09 | D73: Nguyen Thi Thu Phuong | E73: 500000 | F73: 171 | G73: 12/09 | H73: Nghi Phung | I73: 300000
B74: 127 | C74: 11/09 | D74: ADTB | E74: 500000 | F74: 172 | G74: 12/09 | H74: Le Thi Phuong Lien | I74: 1000000
B75: 128 | C75: 11/09 | D75: Lien | E75: 500000 | F75: 173 | G75: 12/09 | H75: QC | I75: 2000000
B76: 129 | C76: 11/09 | D76: Tran Thi Thuy Hang | E76: 800000 | F76: 174 | G76: 12/09 | H76: Do Thi Phuc Huong | I76: 200000
B77: 130 | C77: 11/09 | D77: Chau Thi Kim Phung | E77: 300000 | F77: 175 | G77: 12/09 | H77: Do Thu Trang | I77: 50000
B78: 131 | C78: 11/09 | D78: DiepThanh | E78: 500000 | F78: 176 | G78: 12/09 | H78: Y | I78: 1000000
B79: 132 | C79: 11/09 | D79: Pham Le Hoa | E79: 300000 | F79: 177 | G79: 12/09 | H79: Gia dinh Vinh Phuc Dang Khoa | I79: 1000000
... B104: 157 | C104: 11/09 | D104: Nguyenthy | E104: 200000 | F104: 202 | G104: 14/09 | H104: Ho Thi Nhu Y | I104: 300000
B105: 158 | C105: 11/09 | D105: Hai Le | E105: 5000000 | F105: 203 | G105: 14/09 | H105: Phung Thi Thu Lan (Chi Lananh Phung) | I105: 500000 | L105: STT 203: Chi Lananh Phung (C Tepty chuyển nhưng ghi nhầm nội dung)
B106: 159 | C106: 11/09 | D106: Helena Do | E106: 1000000 | F106: 204 | G106: 14/09 | H106: Thu Hien ban Tep | I106: 500000
B107: 160 | C107: 11/09 | D107: VC em Lien | E107: 300000 | F107: 205 | G107: 14/09 | H107: GĐ Huy Hang | I107: 500000
B108: 161 | C108: 11/09 | D108: Tien Phung | E108: 1000000 | F108: 206 | G108: 14/09 | H108: Gia dinh Thao Hung | I108: 500000
B109: 162 | C109: 11/09 | D109: Gia dinh Danh Lien | E109: 200000 | F109: 207 | G109: 15/09 | H109: Mia Olala becon anh ManhHaiHoang | I109: 10000000
B110: 163 | C110: 11/09 | D110: Sen trang | E110: 500000 | F110: 208 | G110: 18/09 | H110: Phung Lan Anh | I110: 500000
B111: 164 | C111: 12/09 | D111: Nguyen Thi Minh Hai | E111: 500000
B112: 165 | C112: 12/09 | D112: Le Kim Chung | E112: 1000000
B113: TỔNG CỘNG | H113: =SUM(E4:E63)+SUM(I4:I63)+SUM(E68:E112)+SUM(I68:I112) -> 219831077 | I113: VNĐ
B114: 11/09 | D114: Tạm ứng lần 1 từ quỹ 1501 | H114: 100000000 | I114: VNĐ
B115: 14/09 | D115: Tạm ứng lần 2 từ quỹ 1501 | H115: 90000000 | I115: VNĐ
D119: CÒN LẠI TẠI QUỸ 1501 | H119: =H113-H114-H115 -> 29831077 | I119: VNĐ
B121: Trang 2/2

Sheet Báo cáo thu chi
B2: NTCM - BÁO CÁO THU CHI Đồng hành cùng bà con bị ảnh hưởng lũ lụt các tỉnh phía Bắc
B3: STT | C3: NT | D3: NỘI DUNG | E3: THU | F3: CHI | G3: Người nhận tiền
B4: 1 | C4: 11/09/2024 | D4: ='Thống kê ủng hộ'!D114:G114 -> Tạm ứng lần 1 từ quỹ 1501 | E4: ='Thống kê ủng hộ'!H114 -> 100000000
B5: 2 | C5: 12/09/2024 | D5: Tạm ứng lần 1: Sữa 67x270 = 18.090k Nước 67x75 = 5.025k Bìa 100x1.350 = 1.350k. Ship 150k Thịt 216x110 = 23.760k Mỡ 42x50 = 2.100k. Ship 100k Lạc 480x48 = 23.040k Đường 60x24 = 1.440k Gia vị 150x3.6 = 540k | F5: 45000000 | G5: CTK: Tran Thi Thuy Hang STK: 12510000549450 NH BIDV
B6: 3 | C6: 13/09/2024 | D6: NTCM uh dong phuc cho hoc sinh truong THPT Son Dong 3, bsung do ah bao Yagi | F6: 9800000 | G6: CTK: Luu Van Hoi STK: 0987566388 NH MB
B7: 4 | C7: 13/09/2024 | D7: Dầu ăn ( 20 thùng * 15 chai * 35k/chai) Mắm tép 100 lít * 35k/lít Vận chuyển 150k | F7: =20*15*35000+100*35000+150000 -> 14150000 | G7: CTK: Nguyen Thi Thuy Hoa STK: 0915024444 NH MSB
B8: 5 | C8: 14/09/2024 | D8: ='Thống kê ủng hộ'!D115:G115 -> Tạm ứng lần 2 từ quỹ 1501 | E8: ='Thống kê ủng hộ'!H115 -> 90000000
B9: 6 | C9: 14/09/2024 | D9: Bột canh (800 gói) | F9: 2560196 | G9: CTK: Doan The Phuong STK: 0011004232007 NH VCB
B10: 7 | C10: 14/09/2024 | D10: Tem dán, túi nilong Tem 4x6: 390k Tem 6x8: 590k Tem 8x10: 616k 4kg túi nilong: 180k Ship 35k | F10: 1811000 | G10: CTK: Nguyen Thi Tu Anh STK: 2890120267 NH BIDV
B11: 8 | C11: 14/09/2024 | D11: Thanh toán lần 2 Sữa 67x270 = 18.090k Nước 67x75 = 5.025k Bìa 100x1.350 = 1.350k. Ship 150k Thịt 216x110 = 23.760k Mỡ 42x50 = 2.100k. Ship 100k Lạc 480x48 = 23.040k Đường 60x24 = 1.440k Gia vị 150x3.6 = 540k | F11: =18090000+5025000+1350000+150000+23760000+2100000+100000+23040000+1440000+540000-F5 -> 30595000 | G11: CTK: Tran Thi Thuy Hang STK: 12510000549450 NH BIDV | I11: +1tr c Hằng đã trừ vào tiền bán lạc chuyển vào ngày 24/09
B12: 9 | C12: 15/09/2024 | D12: Tiền ga đợt 1 (4 bình) | F12: 1480000 | G12: CTK: Cao Thi Que Anh STK: 105871289188 NH Vietinbank
B13: 10 | C13: 16/09 | D13: Hành khô, găng tay, túi nilong, phí vận chuyển hộp đợt 1: 2kg hành khô 140k Khăn lau, găng tay, bút 100k Túi nilong to cho mắm, đựng quà, chun 500k Phí vận chuyển hộp 200k | F13: 940000 | G13: CTK: Nguyen Thi Thuy Hoa STK: 0011000789682 NH VCB
B14: 11 | C14: 21/09 | D14: Tiền thịt đợt 2 70kg giá 110 = 7700k 47kg sau x 115= 5405k Mỡ 13 x 50 = 650k | F14: 13750000 | G14: CTK: Tran Thi Thuy Hang STK: 12510000549450 NH BIDV
B15: 12 | C15: 21/09 | D15: Tiền ga, hành khô, găng tay đợt 2 3 bình gas: 1.110k 4kg hành khô : 280k Găng tay rửa bát, găng tay chế biến, khăn, bút: 127k | F15: 1517000 | G15: CTK: Nguyen Thi Thuy Hoa STK: 0011000789682 NH VCB
B16: 13 | C16: 22/09 | D16: Tem dán, túi nilong đợt 2 Tem đỏ 4x6: 245 x 300 = 73.500₫ Tem đỏ 6x8cm: 245 x 500 = 122.500₫ Tem xanh 4x6 =235 x300 = 70.500₫ Tem xanh 6x8 = 235x500 = 117.500 Tổng: 384.000₫ Túi nilon 2kg x 45.000= 90.000₫. Ship 26k | F16: 500000 | G16: CTK: Nguyen Thi Tu Anh STK: 2890120267 NH BIDV
D17: TỔNG CỘNG | E17: =SUM(E4:E16) -> 190000000 | F17: =SUM(F4:F16) -> 122103196
D18: CÒN LẠI TẠI QUỸ CHƯƠNG TRÌNH | F18: =E17-F17 -> 67896804 | G18: Đã nộp tk 1501 ngày 25/09/2024

Sheet Bán gây quỹ
B2: NTCM - BÁN HÀNG GÂY QUỸ Đồng hành cùng bà con bị ảnh hưởng lũ lụt các tỉnh phía Bắc
B3: BÁN ĐỢT 1 | D3: 56 | E3: Hộp mắm tép chưng thịt
B4: STT | C4: TÊN/NICK | D4: SL | E4: Đơn giá | F4: Thành tiền | G4: GHI CHÚ
B5: 1 | C5: Chị Tép | D5: 7 | E5: 150000 | F5: 1050000
B6: 2 | C6: Bé Mơ | D6: 2 | E6: 150000 | F6: 300000
B7: 3 | C7: Bé Bông | D7: 1 | E7: 150000 | F7: 150000
B8: 4 | C8: Chị Thuy Hang | D8: 18 | E8: 150000 | F8: 2700000
B9: 5 | C9: Chị Thuý Hoa | D9: 28 | E9: 150000 | F9: 4200000
C10: TỔNG CỘNG | D10: 56 | F10: 8400000 | G10: Đã nộp tk 1501 ngày 15/09/2024
B12: BÁN ĐỢT 2
B13: STT | C13: NỘI DUNG | F13: SỐ TIỀN
B14: A | C14: BÁN THÀNH PHẨM (Thịt chưng mắm tép) | F14: =SUM(F15:F17) -> 6302700
B15: 1 | C15: Bán cho chị Dương Thị Thu Hương tặng các con trường mầm non bản Hu Tru Linh - Mù Cang Chải | F15: 5432700
B16: 2 | C16: Chị Tép chuyển tiền bán 2kg thịt chưng mắm tép cho cô Hải | F16: 600000
B17: 3 | C17: Chị Quỳnh Mai Võ | F17: 270000
B18: B | C18: BÁN NGUYÊN VẬT LIỆU | E18: =SUM(E19:E22) -> 0 | F18: =SUM(F19:F22) -> 14939000
B19: 1 | C19: Chị Tép chuyển tiền bán hàng tồn NVL | F19: 4819000
B20: 2 | C20: Chị Thuy Hang chuyển tiền mua 2 chai mắm tép | F20: 70000
B21: 3 | C21: Trả nhà cung cấp lạc (100kg * 48.000đ) | F21: 4800000
B22: 4 | C22: Trả nhà cung cấp dầu ăn (15chai x 10thùng x 35.000đ) | F22: =15*10*35000 -> 5250000
C23: TỔNG CỘNG (A)+(B) | F23: =F14+F18 -> 21241700 | G23: Đã nộp tk 1501 ngày 24/09/2024

Sheet TỔNG KẾT CHƯƠNG TRÌNH
B2: NTCM - TỔNG KẾT CHƯƠNG TRÌNH Đồng hành cùng bà con bị ảnh hưởng lũ lụt các tỉnh phía Bắc
B3: STT | C3: NỘI DUNG | D3: SỐ TIỀN
D4: THU | E4: CHI
B5: 1 | C5: Tổng số tiền MTQ ủng hộ | D5: ='Thống kê ủng hộ'!H113 -> 219831077
B6: 2 | C6: Số tiền bán thành phẩm gây quỹ đợt 1 | D6: ='Bán gây quỹ'!F10 -> 8400000
B7: 3 | C7: Số tiền bán thành phẩm, NVL dư gây quỹ đợt 2 | D7: ='Bán gây quỹ'!F23 -> 21241700
B8: 4 | C8: Chi phí mua NVL và quà tặng | E8: ='Báo cáo thu chi'!F17 -> 122103196
C9: TỔNG CỘNG | D9: =SUM(D5:D8) -> 249472777 | E9: =SUM(E5:E8) -> 122103196
C10: SỐ TIỀN DƯ CỦA CHƯƠNG TRÌNH | D10: =D9-E9 -> 127369581
