Workbook

Sheet T1
A1: BÁO CÁO THU CHI QUỸ NỒI XÔI - BV THẬN HÀ NỘI
A2: THÁNG 01/ 2024
A4: NGÀY | B4: DIỄN GIẢI | C4: ỦNG HỘ TIỀN
C5: THU | D5: CHI
B6: TỒN ĐẦU KỲ | C6: 87375995
A7: 01/01 | B7: GD PHUNG THI BICH THAO uh | C7: 500000
A8: 01/01 | B8: TU NGUYEN LINH uh | C8: 1000000
A9: 02/01 | B9: Phuong Vw Chinh Hien Lan Anh uh | C9: 1000000
A10: 03/01 | B10: NTCM ck tien thit cha ngay 301223 | D10: 2120000
A11: 05/01 | B11: Truong Hoai Nam uh | C11: 546552
A12: 06/01 | B12: NGUYEN TIEN DUNG PHAM THI THANH MAI PHAM DUC HUY uh | C12: 1000000
A13: 07/01 | B13: Phuong VW uh | C13: 500000
A14: 07/01 | B14: Phuong Bv Ha Thanh uh | C14: 500000
A15: 07/01 | B15: NTCM ck tien thit cha ngay 6124 | D15: 2120000
A16: 07/01 | B16: NTCM tra tien phi van chuyen gao | D16: 100000
A17: 07/01 | B17: MTQ uh | C17: 300000
A18: 09/01 | B18: NGUYEN THI THU TRANG (TUC LAN PHUONG) uh | C18: 30000
A19: 10/01 | B19: NGUYEN THI THU TRANG (TUC LAN PHUONG) uh | C19: 30000
A20: 10/01 | B20: SN NTCM17 Dieu phoi cho Xoi | C20: 5000000
A21: 11/01 | B21: TO THANH THUY uh | C21: 500000
A22: 11/01 | B22: NGUYEN THI THU TRANG (TUC LAN PHUONG) uh | C22: 30000
A23: 11/01 | B23: Xuan Son uh | C23: 200000
A24: 11/01 | B24: NHOM NGUYEN VIET HOA uh | C24: 2400000
A25: 11/01 | B25: Giang Dao US uh | C25: 3883200
A26: 12/01 | B26: NGUYEN THI THU TRANG (TUC LAN PHUONG) uh | C26: 30000
A27: 12/01 | B27: LE KIM CHUNG uh | C27: 1000000
A28: 14/01 | B28: NGUYEN THI THU TRANG (TUC LAN PHUONG) uh | C28: 30000
A29: 14/01 | B29: NTCM ck tien thit cha ngay 13124 | D29: 2120000
A30: 15/01 | B30: NGUYEN THI THU TRANG (TUC LAN PHUONG) uh | C30: 60000
A31: 16/01 | B31: NGUYEN THI THU TRANG (TUC LAN PHUONG) uh | C31: 30000
A32: 17/01 | B32: NGUYEN THI THU TRANG (TUC LAN PHUONG) uh | C32: 30000
A33: 18/01 | B33: TRINH THI THUAN chuyen tien ung ho ct Cay mua xuan NTCM | C33: 1000000
A34: 18/01 | B34: MAI ANH ung ho ct caymuaxuan vien Than | C34: 500000
A35: 18/01 | B35: MTQ uh CMX chuyen nham tai khoan | D35: 1500000
A36: 19/01 | B36: NGUYEN THI THU TRANG (TUC LAN PHUONG) uh | C36: 30000
A37: 19/01 | B37: NGUYEN THI THU TRANG (TUC LAN PHUONG) uh | C37: 30000
A38: 20/01 | B38: NTCM ck tien thit cha ngày 2012024 | D38: 2120000
A39: 21/01 | B39: Tra lai tien gui | C39: 8810
A40: 21/01 | B40: NGUYEN THI THU TRANG (TUC LAN PHUONG) uh | C40: 30000
A41: 21/01 | B41: NGUYEN THI THU TRANG (TUC LAN PHUONG) uh | C41: 30000
A42: 22/01 | B42: NGUYEN THI THU TRANG (TUC LAN PHUONG) uh | C42: 30000
A43: 23/01 | B43: NGUYEN THI THU TRANG (TUC LAN PHUONG) uh | C43: 30000
A44: 23/01 | B44: NTCM ck tien 30kg gao | D44: 710000
A45: 24/01 | B45: NGUYEN THI THU TRANG (TUC LAN PHUONG) uh | C45: 30000
A46: 25/01 | B46: NGUYEN THI THU TRANG (TUC LAN PHUONG) uh | C46: 30000
A47: 26/01 | B47: NGUYEN THI THU TRANG (TUC LAN PHUONG) uh | C47: 30000
A48: 27/01 | B48: NGUYEN THI THU TRANG (TUC LAN PHUONG) uh | C48: 30000
A49: 28/01 | B49: NGUYEN THI THU TRANG (TUC LAN PHUONG) uh | C49: 30000
A50: 29/01 | B50: NGUYEN THI THU TRANG (TUC LAN PHUONG) uh | C50: 30000
A51: 29/01 | B51: NTCM ck tien thit cha ngay 2712024 | D51: 2120000
A52: 30/01 | B52: NGUYEN THI THU TRANG (TUC LAN PHUONG) uh | C52: 30000
A53: 31/01 | B53: NGUYEN THI THU TRANG (TUC LAN PHUONG) uh | C53: 30000
B54: TỔNG CỘNG | C54: =SUM(C7:C53) -> 20528562 | D54: =SUM(D7:D53) -> 12910000
B55: DƯ CUỐI KỲ | C55: =C6+C54-D54 -> 94994557
C57: =C54-C39 -> 20519752

Sheet T2
A1: BÁO CÁO THU CHI QUỸ NỒI XÔI - BV THẬN HÀ NỘI
A2: THÁNG 02/2024
A4: NGÀY | B4: DIỄN GIẢI | C4: ỦNG HỘ TIỀN
C5: THU | D5: CHI
B6: DƯ ĐẦU KỲ | C6: ='T1'!C55:D55 -> 94994557
A7: 01/02 | B7: NGUYEN THI THU TRANG (TUC LAN PHUONG) uh | C7: 30000
A8: 02/02 | B8: NGUYEN THI THU TRANG (TUC LAN PHUONG) uh | C8: 30000
A9: 02/02 | B9: GD PHUNG THI BICH THAO UH | C9: 500000
A10: 02/02 | B10: PHAM MINH HUONG UH | C10: 300000
A11: 03/02 | B11: NGUYEN THI THU TRANG (TUC LAN PHUONG) uh | C11: 30000
A12: 04/02 | B12: NTCM ck tien thit cha ruoc ngay 322024 | D12: 2520000
A13: 04/02 | B13: NGUYEN THI THU TRANG (TUC LAN PHUONG) uh | C13: 30000
A14: 05/02 | B14: NGUYEN THI THU TRANG (TUC LAN PHUONG) uh | C14: 30000
A15: 06/02 | B15: NGUYEN THI THU TRANG (TUC LAN PHUONG) uh | C15: 30000
A16: 07/02 | B16: QNghia Xmai uh | C16: 1000000
A17: 08/02 | B17: Ha uh | C17: 20000
A18: 09/02 | B18: Tuan Ha uh | C18: 20000
A19: 10/02 | B19: Tuan asc(38) Ha uh | C19: 20000
A20: 11/02 | B20: Tuan asc(38) Ha uh | C20: 20000
A21: 13/02 | B21: Tuan asc(38) Ha uh | C21: 40000
A22: 15/02 | B22: Tuan asc(38) Ha uh | C22: 20000
A23: 17/02 | B23: Tuan asc(38) Ha uh | C23: 40000
A24: 17/02 | B24: Tra lai tien gui | C24: 7322
... A28: 21/02 | B28: hien minh 10kg gao nep | C28: 250000
A29: 22/02 | B29: NTCM ck tien gao nep Nhung 100kg | D29: 2350000
A30: 22/02 | B30: Pham Hung uh | C30: 500000
A31: 24/02 | B31: TO THANH THUY uh | C31: 500000
A32: 24/02 | B32: Tuan asc(38) Ha uh | C32: 40000
A33: 24/02 | B33: NGUYEN THI THU TRANG (TUC LAN PHUONG) uh | C33: 20000
A34: 26/02 | B34: NTCM ck tien thit cha ngay 2422024 | D34: 2120000
A35: 26/02 | B35: Tuan asc(38) Ha uh | C35: 40000
A36: 28/02 | B36: PHUNG THI NGOC THUY uh | C36: 200000
A37: 29/02 | B37: Tuan asc(38) Ha uh | C37: 40000
B38: TỔNG CỘNG | C38: =SUM(C7:C37) -> 3867322 | D38: =SUM(D7:D37) -> 6990000
B39: DƯ CUỐI KỲ | C39: =C6+C38-D38 -> 91871879
C41: =C38-C24 -> 3860000

Sheet T3
A1: BÁO CÁO THU CHI QUỸ NỒI XÔI - BV THẬN HÀ NỘI
A2: THÁNG 03/2024
A4: NGÀY | B4: DIỄN GIẢI | C4: ỦNG HỘ TIỀN
C5: THU | D5: CHI
B6: DƯ ĐẦU KỲ | C6: ='T2'!C39 -> 91871879
A7: 01/03 | B7: LE KIM CHUNG uh | C7: 1000000
A8: 01/03 | B8: U Dung uh | C8: 200000
A9: 01/03 | B9: Gia dinh Bong Bi uh | C9: 500000
A10: 01/03 | B10: 1 BN uh | C10: 100000
A11: 01/03 | B11: Thai Thu Huong uh | C11: 500000
A12: 01/03 | B12: Facebook Nguyen Nga uh | C12: 1000000
A13: 01/03 | B13: Chi em hon uh | C13: 2500000
A14: 01/03 | B14: Tuan asc(38) Ha uh | C14: 20000
A15: 02/03 | B15: Tuan asc(38) Ha uh | C15: 20000
A16: 03/03 | B16: TRAN THI HANH uh | C16: 1000000
A17: 03/03 | B17: Bui Thi HuongHai Duong uh | C17: 200000
A18: 03/03 | B18: NTCM ck tien thit cha ngay 232024 | D18: 2120000
A19: 04/03 | B19: GD PHUNG THI BICH THAO | C19: 500000
A20: 04/03 | B20: Tuan asc(38) Ha uh | C20: 40000
A21: 05/03 | B21: Tuan asc(38) Ha uh | C21: 20000
A22: 05/03 | B22: E Hue Tran | C22: 200000
A23: 05/03 | B23: Em Hong Tham | C23: 300000
A24: 05/03 | B24: Tuan asc(38) Ha uh | C24: 40000
A25: 06/03 | B25: Em Van Anh uh | C25: 100000
A26: 07/03 | B26: Gia dinh Nhat Sean Trang Tuan Ha uh | C26: 40000
A27: 09/03 | B27: NTCM ck tien gas | D27: 760000
A28: 09/03 | B28: Gia dinh Nhat Sean Trang Tuan Ha uh | C28: 40000
A29: 09/03 | B29: Doan thi minh chinh uh | C29: 1000000
A30: 09/03 | B30: NGUYEN THI THANH HIEN uh | C30: 1000000
A31: 09/03 | B31: Ba Ngo Thi Tuyet uh | C31: 500000
A32: 10/03 | B32: Gia dinh Nhat Sean Trang Tuan Ha uh | C32: 40000
A33: 10/03 | B33: Ba Nga Huy Ngoc Nhi Phong uh | C33: 1000000
A34: 10/03 | B34: Gia dinh Nhat Sean Trang Tuan Ha uh | C34: 40000
A35: 11/03 | B35: Ong Vi Kien Thanh ban Duong Thi Thu Huong uh | C35: 500000
A36: 11/03 | B36: NTCM ck tien thit cha ngay 9324 | D36: 2120000
A37: 11/03 | B37: NTCM ck tien gao nep 55kg | D37: 1292000
A38: 12/03 | B38: NTCM ck tien mua cho do xoi | D38: 500000
A39: 12/03 | B39: PHUONG MAI va cac ban uh | C39: 2000000
A40: 15/03 | B40: NGUYEN THI THE THANH uh | C40: 500000
A41: 15/03 | B41: Nhom Quang Huy PTCD FPT uh | C41: 900000
A42: 17/03 | B42: Tra lai tien gui | C42: 7397
A43: 18/03 | B43: NTCM ck tien thit cha ngay 163 | D43: 2120000
A44: 22/03 | B44: 83mart uh | C44: 500000
A45: 22/03 | B45: QN Xmai uh | C45: 500000
A46: 23/03 | B46: Minhthu uh | C46: 200000
A47: 26/03 | B47: NTCM ck tien thit cha ngay 23324 | D47: 2120000
A48: 28/03 | B48: NGUYEN THI HOA BINH uh | C48: 500000
A49: 28/03 | B49: BUI THI NGOC uh | C49: 200000
A50: 29/03 | B50: NTCM ck tien 100kg gao nep nhung ngay 293 | D50: 2350000
A51: 30/03 | B51: NGUYEN THI THANH HIEN uh | C51: 2000000
A52: 30/03 | B52: Benh nhan nho DUONG THI THU HUONG chuyen uh | C52: 20000
A53: 30/03 | B53: DUONG THI THU HUONG chuyen qua cua con gai benh nhan Thinh uh | C53: 100000
A54: 30/03 | B54: DUONG THI THU HUONG chuyen qua nguoi quen benh nhan Thinh tang uh | C54: 100000
A55: 30/03 | B55: Thanh Nhan ban DUONG THI THU HUONG uh | C55: 300000
A56: 31/03 | B56: NTCM ck tien thit cha ngay 30324 | D56: 2120000
B57: TỔNG CỘNG | C57: =SUM(C7:C56) -> 20227397 | D57: =SUM(D7:D56) -> 15502000
B58: DƯ CUỐI KỲ | C58: =C6+C57-D57 -> 96597276

Sheet T4
A1: BÁO CÁO THU CHI QUỸ NỒI XÔI - BV THẬN HÀ NỘI
A2: THÁNG 04/2024
A4: NGÀY | B4: DIỄN GIẢI | C4: ỦNG HỘ TIỀN
C5: THU | D5: CHI
B7: DƯ ĐẦU KỲ | C7: ='T3'!C58 -> 96597276
A8: 01/04 | B8: Tran Huong ban DUONG THI THU HUONG uh | C8: 2000000
A9: 03/04 | B9: Chi Nguyen Hai ban DUONG THI THU HUONG uh | C9: 500000
A10: 04/04 | B10: XM va QN uh | C10: 500000
A11: 05/04 | B11: LE KIM CHUNG uh | C11: 1000000
A12: 05/04 | B12: Thai Thu Huong uh | C12: 500000
A13: 06/04 | B13: EM LIEN BAN DUONG THI THU HUONG uh | C13: 2000000
A14: 07/04 | B14: NTCM ck tien thit cha ngay 6424 | D14: 2120000
A15: 09/04 | B15: TO THANH THUY uh | C15: 500000
A16: 13/04 | B16: benh nhan va ba con uh | C16: 1950000
A17: 13/04 | B17: Ms THUONG BAN DUONG THI THU HUONG uh | C17: 200000
A18: 14/04 | B18: NTCM ck tien thit cha ngay 13424 | D18: 2120000
A19: 17/04 | B19: NTCM ck tien gao nep 62kg | D19: 1457000
A20: 18/04 | B20: UH Xoi vien than | C20: 500000
A21: 18/04 | B21: Hang OZ uh | C21: 200000
A22: 18/04 | B22: Dao Huong uh | C22: 1000000
A23: 18/04 | B23: THANH HUONG uh | C23: 500000
A24: 20/04 | B24: NTCM ck tien thit cha ngay 20424 | D24: 2120000
A25: 21/04 | B25: Tra lai tien gui | C25: 9588
A26: 23/04 | B26: TO THANH THUY uh | C26: 500000
A27: 23/04 | B27: Bui Van Trang va nhung ng ban uh | C27: 4259000
A28: 25/04 | B28: QUE BAN DUONG THI THU HUONG uh | C28: 100000
B29: TỔNG CỘNG | C29: =SUM(C8:C28) -> 16218588 | D29: =SUM(D8:D28) -> 7817000
B30: DƯ CUỐI KỲ | C30: =C7+C29-D29 -> 104998864

Sheet T5
A1: BÁO CÁO THU CHI QUỸ NỒI XÔI - BV THẬN HÀ NỘI
A2: THÁNG 05/2024
A4: NGÀY | B4: DIỄN GIẢI | C4: ỦNG HỘ TIỀN
C5: THU | D5: CHI
B7: DƯ ĐẦU KỲ | C7: ='T4'!C30 -> 104998864
A8: 04/05 | B8: Anh Ha Co Duong ban DUONG THI THU HUONG uh | C8: 500000
A9: 05/05 | B9: NTCM ck tien thit cha ngay 4524 | D9: 2120000
A10: 05/05 | B10: NTCM ck tien 1 kg ruoc ngay 4524 | D10: 400000
A11: 05/05 | B11: Quang Nghiem ban Duong Thi Thu Huong uh | C11: 500000
A12: 07/05 | B12: E Cuong uh | C12: 150000
A13: 08/05 | B13: LE KIM CHUNG uh | C13: 1000000
A14: 08/05 | B14: XUAN SON uh | C14: 200000
A15: 08/05 | B15: Ba Nga Ngoc Huy Nhi Phong uh | C15: 1000000
A16: 09/05 | B16: PHAM THI NGOC HUYEN uh | C16: 1000000
A17: 09/05 | B17: Huyen Nghiem uh | C17: 500000
A18: 09/05 | B18: DUY uh | C18: 100000
A19: 11/05 | B19: thuanpink uh | C19: 500000
A20: 11/05 | B20: TRAN KHANH LINH uh | C20: 500000
A21: 11/05 | B21: Em Duong uh | C21: 1000000
A22: 11/05 | B22: Trung Anh uh | C22: 500000
A23: 11/05 | B23: Quynh Hoa ban Duong Thi Thi Huong uh | C23: 300000
A24: 12/05 | B24: NTCM ck tien thit cha ngay 1152024 | D24: 2120000
A25: 18/05 | B25: Tra lai tien gui | C25: 8114
A26: 21/05 | B26: NTCM ck tien gao ngay 17524 | D26: 2802000
A27: 21/05 | B27: NTCM ck tien thit cha ngay 18524 | D27: 2000000
A28: 25/05 | B28: Anh Thuy ban Duong Thi Thu Huong | C28: 50000
A29: 25/05 | B29: Co Hong Ngat ban Duong Thi Thu Huong | C29: 500000
A30: 29/05 | B30: NTCM ck tien thit cha ngay 25524 | D30: 2000000
B31: TỔNG CỘNG | C31: =SUM(C8:C30) -> 8308114 | D31: =SUM(D8:D30) -> 11442000
B32: DƯ CUỐI KỲ | C32: =C7+C31-D31 -> 101864978

Sheet T6
A1: BÁO CÁO THU CHI QUỸ NỒI XÔI - BV THẬN HÀ NỘI
A2: THÁNG 06/2024
A4: NGÀY | B4: DIỄN GIẢI | C4: ỦNG HỘ TIỀN
C5: THU | D5: CHI
B6: DƯ ĐẦU KỲ | C6: ='T5'!C32 -> 101864978
A7: 02/06 | B7: NTCM ck tien thit cha ngay 01062024 | D7: 2000000
A8: 06/06 | B8: TRINH HAI DUY uh | C8: 100000
A9: 06/06 | B9: Em hoa beo uh | C9: 500000
A10: 06/06 | B10: BUI THI VAN TRANG uh | C10: 200000
A11: 07/06 | B11: Noi xoi dieu chuyen tien ung ho cho noi soup | D11: 500000
A12: 07/06 | B12: DINH THANH HA uh | C12: 1000000
A13: 07/06 | B13: NTCM ck tien gao nep Nhung 120kg | D13: 2820000
A14: 08/06 | B14: LE KIM CHUNG uh | C14: 1000000
A15: 09/06 | B15: TRAN THI HANH uh | C15: 500000
A16: 09/06 | B16: Ong ba Tich Tuyet uh | C16: 500000
A17: 12/06 | B17: BUI THI VAN TRANG uh | C17: 200000
A18: 15/06 | B18: Tra lai tien gui | C18: 7816
A19: 18/06 | B19: NTCM tt tien thit cha ngay 15624 | D19: 2000000
A20: 18/06 | B20: benh nhan dau ten uh | C20: 20000
A21: 18/06 | B21: Binh An uh | C21: 500000
A22: 18/06 | B22: Thu uh | C22: 300000
A23: 18/06 | B23: NTCM ck tien tui thia...ngay 8624 | D23: 373000
A24: 19/06 | B24: NTCM ck tien tui thia...ngay 8624 | C24: 373000
A25: 25/06 | B25: NTCM ck tien thit cha ngay 22624 | D25: 2000000
A26: 25/06 | B26: NTCM ck tien tui thia...ngay 8624 | D26: 373000
A27: 29/06 | B27: Me Mai Anh uh | C27: 200000
A28: 29/06 | B28: E Huyen Truyen thong HM uh | C28: 1000000
B29: TỔNG CỘNG | C29: =SUM(C7:C28) -> 6400816 | D29: =SUM(D7:D28) -> 10066000
B30: DƯ CUỐI KỲ | C30: =C6+C29-D29 -> 98199794

Sheet T7
A1: BÁO CÁO THU CHI QUỸ NỒI XÔI - BV THẬN HÀ NỘI
A2: THÁNG 07/2024
A4: NGÀY | B4: DIỄN GIẢI | C4: ỦNG HỘ TIỀN
C5: THU | D5: CHI
B6: DƯ ĐẦU KỲ | C6: ='T6'!C30 -> 98199794
A7: 01/07 | B7: NTCM ck tien thit cha ngay 29624 | D7: 2000000
A8: 06/07 | B8: LE KIM CHUNG uh | C8: 1000000
A9: 07/07 | B9: NTCM ck tien thit cha ngay 6724 | D9: 2000000
A10: 08/07 | B10: BUI THI XUAN HUONG uh | C10: 2000000
A11: 08/07 | B11: ntcm ct Noi Xoi hanoi tu mc Quyenlinh | C11: 5000000
A12: 11/07 | B12: XMai Qnghia uh | C12: 500000
A13: 12/07 | B13: NTCM ck tien gao nep nhung 108kg | D13: 2538000
A14: 17/07 | B14: TRINH HAI DUY uh | C14: 100000
A15: 17/07 | B15: NGHIEM THU HUYEN uh | C15: 500000
A16: 17/07 | B16: GĐ Tuan Hien uh | C16: 1000000
A17: 18/07 | B17: TRAN XUAN THUY uh | C17: 500000
A18: 18/07 | B18: Team ban noi xoi uh | C18: 100000
A19: 20/07 | B19: NTCM ck tien gas ngay 20724 | D19: 740000
A20: 20/07 | B20: Gia dinh ba Nga Ngoc Huy Nhi Phong uh | C20: 1000000
A21: 20/07 | B21: Anh Tran Xuan Thuy uh | C21: 50000
A22: 20/07 | B22: Chau Duc Anh uh | C22: 200000
A23: 21/07 | B23: Tra lai tien gui | C23: 9524
A24: 21/07 | B24: NTCM ck tien thit cha ruoc ngay 20724 | D24: 2400000
A25: 26/07 | B25: giang ngoc ung ho bao lu | C25: 200000
A26: 27/07 | B26: PHAM THANH TRA uh | C26: 500000
A27: 27/07 | B27: NTCM ck tien thit cha ngay 27724 | D27: 1935000
B28: TỔNG CỘNG | C28: =SUM(C7:C27) -> 12659524 | D28: =SUM(D7:D27) -> 11613000
B29: DƯ CUỐI KỲ | C29: =C6+C28-D28 -> 99246318

Sheet T8
A1: BÁO CÁO THU CHI QUỸ NỒI XÔI - BV THẬN HÀ NỘI
A2: THÁNG 08/2024
A4: NGÀY | B4: DIỄN GIẢI | C4: ỦNG HỘ TIỀN
C5: THU | D5: CHI
B7: TỒN ĐẦU KỲ | C7: ='T7'!C29 -> 99246318
A8: 02/08 | B8: VO TRAN PHUONG NGOC uh | C8: 200000
A9: 02/08 | B9: Thuy uh | C9: 2000000
A10: 03/08 | B10: NTCM ck tien gas | D10: 740000
A11: 03/08 | B11: NTCM ck tien thit cha ngay 3824 | D11: 2003000
A12: 04/08 | B12: TO THANH THUY uh | C12: 500000
A13: 04/08 | B13: TINTIN uh | C13: 500000
A14: 05/08 | B14: LE KIM CHUNG uh | C14: 1000000
A15: 09/08 | B15: BUI THI XUAN HUONG uh | C15: 2000000
A16: 10/08 | B16: NTCM ck tien ruoc ngay 10824 | D16: 400000
A17: 10/08 | B17: NTCM ck tien gao 108kg | D17: 2592000
A18: 11/08 | B18: NTCM ck tien thit cha ngay 10824 | D18: 2015000
A19: 16/08 | B19: TRINH HAI DUY uh | C19: 100000
A20: 16/08 | B20: Chau nguyen hoang linh uh | C20: 500000
A21: 17/08 | B21: NTCM ck tien thit cha ngay 17824 | D21: 2095000
A22: 17/08 | B22: Tra lai tien gui | C22: 7638
A23: 19/08 | B23: C Thuong uh | C23: 200000
A24: 23/08 | B24: NGHIEM THU HUYEN uh | C24: 500000
A25: 24/08 | B25: NTCM ck tien thit cha ngay 24824 | D25: 2042000
A26: 24/08 | B26: NTCM ck tien gas ngay 2482024 | D26: 740000
B27: TỔNG CỘNG | C27: =SUM(C8:C26) -> 7507638 | D27: =SUM(D8:D26) -> 12627000
B28: TỒN CUỐI KỲ | C28: =C7+C27-D27 -> 94126956

Sheet T9
A1: BÁO CÁO THU CHI QUỸ NỒI XÔI - BV THẬN HÀ NỘI
A2: THÁNG 09/2024
A4: NGÀY | B4: DIỄN GIẢI | C4: ỦNG HỘ TIỀN
C5: THU | D5: CHI
B7: TỒN ĐẦU KỲ | C7: ='T8'!C28 -> 94126956
A8: 06/09 | B8: NTCM ck tien thit cha ngay7924 | D8: 2080000
A9: 12/09 | B9: XMai Qnghia uh | C9: 500000
A10: 18/09 | B10: PHAM MINH HUONG uh | C10: 300000
A11: 18/09 | B11: TRINH HAI DUY uh | C11: 200000
A12: 20/09 | B12: NTCM ck tien gao ngay 20924 | D12: 2646000
A13: 21/09 | B13: NTCM ck tien thit cha ruoc ngay 21924 | D13: 2526000
A14: 21/09 | B14: Tra lai tien gui | C14: 8977
A15: 28/09 | B15: NTCM ck tien thit cha ngay 28924 | D15: 2176000
A16: 30/09 | B16: TRAN THI LAN HUONG | C16: 700000
B17: TỔNG CỘNG | C17: =SUM(C8:C16) -> 1708977 | D17: =SUM(D8:D16) -> 9428000
B18: TỒN CUỐI KỲ | C18: =C7+C17-D17 -> 86407933
C20: =C17-C14 -> 1700000

Sheet T10
A1: BÁO CÁO THU CHI QUỸ NỒI XÔI - BV THẬN HÀ NỘI
A2: THÁNG 10/2024
A4: NGÀY | B4: DIỄN GIẢI | C4: ỦNG HỘ TIỀN
C5: THU | D5: CHI
B7: TỒN ĐẦU KỲ | C7: ='T9'!C18 -> 86407933
B40: TỔNG CỘNG | C40: =SUM(C8:C39) -> 0 | D40: =SUM(D8:D39) -> 0
B41: TỒN CUỐI KỲ | C41: =C7+C40-D40 -> 86407933

Sheet T11
A1: BÁO CÁO THU CHI QUỸ NỒI XÔI - BV THẬN HÀ NỘI
A2: THÁNG 11/2024
A4: NGÀY | B4: DIỄN GIẢI | C4: ỦNG HỘ TIỀN
C5: THU | D5: CHI
B7: TỒN ĐẦU KỲ | C7: ='T10'!C41 -> 86407933
B27: TỔNG CỘNG | C27: =SUM(C8:C26) -> 0 | D27: =SUM(D8:D26) -> 0
B28: TỒN CUỐI KỲ | C28: =C7+C27-D27 -> 86407933
C31: =C27-C17 -> 0

Sheet T12
A1: BÁO CÁO THU CHI QUỸ NỒI XÔI - BV THẬN HÀ NỘI
A2: THÁNG 12/2024
A4: NGÀY | B4: DIỄN GIẢI | C4: ỦNG HỘ TIỀN
C5: THU | D5: CHI
B7: TỒN ĐẦU KỲ | C7: ='T11'!C28 -> 86407933
B37: TỔNG CỘNG | C37: =SUM(C8:C36) -> 0 | D37: =SUM(D8:D36) -> 0
B38: TỒN CUỐI KỲ | C38: =C7+C37-D37 -> 86407933
C40: =C37-C25 -> 0

Sheet Tổng thu - chi
A1: TỔNG HỢP THU CHI QUỸ NỒI XÔI - BV THẬN HÀ NỘI NĂM 2024
A2: THÁNG | B2: THU | E2: CHI | N2: Gửi tiết kiệm | O2: TỒN CUỐI KỲ
B3: Tiền u/h | C3: Tiền lãi | D3: TỔNG THU | E3: Thịt, Chả | F3: Gạo nếp | G3: Ruốc | H3: Ga, Gia vị | I3: Bát giấy, thìa, túi, găng tay, khẩu trang | J3: Chõ đồ xôi | K3: Thùng nhựa | L3: Chi khác | M3: TỔNG CHI
A4: DƯ ĐẦU KỲ | O4: 87375995
A5: Tháng 1 | B5: 20519752 | C5: 8810 | D5: =SUM(B5:C5) -> 20528562 | E5: 10600000 | F5: 810000 | L5: 1500000 | M5: =SUM(E5:L5) -> 12910000 | O5: =O4+D5-M5-N5 -> 94994557
A6: Tháng 2 | B6: 3860000 | C6: 7322 | D6: =SUM(B6:C6) -> 3867322 | E6: 6990000 | M6: =SUM(E6:L6) -> 6990000 | O6: =O5+D6-M6-N6 -> 91871879
A7: Tháng 3 | B7: 20220000 | C7: 7397 | D7: =SUM(B7:C7) -> 20227397 | E7: 10600000 | F7: 3642000 | H7: 760000 | J7: 500000 | M7: =SUM(E7:L7) -> 15502000 | O7: =O6+D7-M7-N7 -> 96597276
A8: Tháng 4 | B8: 16209000 | C8: 9588 | D8: =SUM(B8:C8) -> 16218588 | E8: 6360000 | F8: 1457000 | M8: =SUM(E8:L8) -> 7817000 | O8: =O7+D8-M8-N8 -> 104998864
A9: Tháng 5 | B9: 8300000 | C9: 8114 | D9: =SUM(B9:C9) -> 8308114 | E9: 8240000 | F9: 2802000 | G9: 400000 | M9: =SUM(E9:L9) -> 11442000 | O9: =O8+D9-M9-N9 -> 101864978
A10: Tháng 6 | B10: 6020000 | C10: ='T6'!C18 -> 7816 | D10: =SUM(B10:C10) -> 6027816 | E10: 6000000 | F10: 2820000 | I10: ='T6'!D26 -> 373000 | L10: ='T6'!D11 -> 500000 | M10: =SUM(E10:L10) -> 9693000 | O10: =O9+D10-M10-N10 -> 98199794
A11: Tháng 7 | B11: 12650000 | C11: ='T7'!C23 -> 9524 | D11: =SUM(B11:C11) -> 12659524 | E11: ='T7'!D7+'T7'!D9+'T7'!D24+'T7'!D27 -> 8335000 | F11: ='T7'!D13 -> 2538000 | H11: ='T7'!D19 -> 740000 | M11: =SUM(E11:L11) -> 11613000 | O11: =O10+D11-M11-N11 -> 99246318
A12: Tháng 8 | B12: 7500000 | C12: ='T8'!C22 -> 7638 | D12: =SUM(B12:C12) -> 7507638 | E12: ='T8'!D11+'T8'!D18+'T8'!D21+'T8'!D25 -> 8155000 | F12: ='T8'!D17 -> 2592000 | G12: ='T8'!D16 -> 400000 | H12: ='T8'!D10+'T8'!D26 -> 1480000 | M12: =SUM(E12:L12) -> 12627000 | O12: =O11+D12-M12-N12 -> 94126956
A13: Tháng 9 | B13: 1700000 | C13: ='T9'!C14 -> 8977 | D13: =SUM(B13:C13) -> 1708977 | E13: ='T9'!D8+'T9'!D13+'T9'!D15 -> 6782000 | F13: ='T9'!D12 -> 2646000 | M13: =SUM(E13:L13) -> 9428000 | O13: =O12+D13-M13-N13 -> 86407933
A14: Tháng 10 | D14: =SUM(B14:C14) -> 0 | M14: =SUM(E14:L14) -> 0 | O14: =O13+D14-M14-N14 -> 86407933
A15: Tháng 11 | D15: =SUM(B15:C15) -> 0 | M15: =SUM(E15:L15) -> 0 | O15: =O14+D15-M15-N15 -> 86407933
A16: Tháng 12 | D16: =SUM(B16:C16) -> 0 | M16: =SUM(E16:L16) -> 0 | O16: =O15+D16-M16-N16 -> 86407933
A17: TỔNG | B17: =SUM(B5:B16) -> 96978752 | C17: =SUM(C5:C16) -> 75186 | D17: =SUM(B17:C17) -> 97053938 | E17: =SUM(E5:E16) -> 72062000 | F17: =SUM(F5:F16) -> 19307000 | G17: =SUM(G5:G16) -> 800000 | H17: =SUM(H5:H16) -> 2980000 | I17: =SUM(I5:I16) -> 373000 | J17: =SUM(J5:J16) -> 500000 | K17: =SUM(K5:K16) -> 0 | L17: =SUM(L5:L16) -> 2000000 | M17: =SUM(E17:L17) -> 98022000 | N17: =SUM(N5:N16) -> 0 | O17: =O4+D17-M17-N17 -> 86407933
A18: Trung bình tháng | D18: =ROUND(D17/12,0) -> 8087828 | F18: =SUM(F6:F17) -> 37804000 | H18: =ROUND(H17/12,0) -> 248333 | I18: =ROUND(I17/12,0) -> 31083 | J18: =ROUND(J17/12,0) -> 41667 | L18: =ROUND(L17/12,0) -> 166667 | M18: =ROUND(M17/12,0) -> 8168500

Sheet Tổng hiện vật
A1: TỔNG HỢP SL HIỆN VẬT ĐƯỢC U/H NĂM 2024
A2: THÁNG | B2: NỘI DUNG | C2: Gạo nếp (Kg) | D2: Ruốc (Kg) | E2: Lá gói xôi (suất) | F2: Gia vị | G2: Ga | H2: Dụng cụ phát xôi
A3: 1+2 (6 buổi) | B3: C Nguyễn Thị Phượng | C3: 50
B4: BS Thuan Nguyen | D4: 3
B5: Mai tân | D5: 1
B6: Dương Thu Hương | E6: =240*6 -> 1440
A7: 3+4 | B7: Thuan Nguyen | D7: 3
B8: Kim Anh | D8: 2
B9: Mai Anh | D9: 1
A13: TỔNG CỘNG | C13: =SUM(C3:C12) -> 50 | D13: =SUM(D3:D12) -> 10 | E13: =SUM(E3:E12) -> 1440 | F13: =SUM(F3:F12) -> 0 | G13: =SUM(G3:G12) -> 0 | H13: =SUM(H3:H12) -> 0 | I13: =SUM(I3:I12) -> 0
