Workbook

Sheet 4.1 Dự toán chi phí
B2: NTCM - DỰ TOÁN CHI PHÍ Chương trình: XUÂN BIÊN CƯƠNG 2025 Lóng Phiêng - Yên Châu - Sơn La
B3: STT | C3: Nội dung | D3: Đơn vị tính | E3: Số lượng | F3: Đơn giá | G3: Thành tiền
B4: 1 | C4: Gạo | D4: Kg | E4: 10 | F4: 22000 | G4: =E4*F4 -> 220000
B5: 2 | C5: Mỳ tôm | D5: Thùng | E5: 1 | F5: 112000 | G5: =E5*F5 -> 112000
B6: 3 | C6: Mỳ chính 0.5kg | D6: Gói | E6: 1 | F6: 41000 | G6: =E6*F6 -> 41000
B7: 4 | C7: Nước mắm | D7: Chai | E7: 1 | F7: 45000 | G7: =E7*F7 -> 45000
B8: 5 | C8: Súp Hải Châu | D8: Gói | E8: 2 | F8: 7000 | G8: =E8*F8 -> 14000
B9: 6 | C9: Dầu ăn | D9: Chai | E9: 1 | F9: 40000 | G9: =E9*F9 -> 40000
C10: Đơn giá 1 suất quà dự kiến | G10: =SUM(G4:G9) -> 472000
C11: Số suất quà | G11: 71
C12: Tổng chi phí dự kiến | G12: =G10*G11 -> 33512000
B16: CHECK GIÁ GO!
B17: STT | C17: Nội dung | D17: Đơn vị tính | E17: 1 SUẤT | H17: 71 SUẤT
E18: Số lượng | F18: Đơn giá | G18: Thành tiền 1 suất | H18: Số lượng | I18: Đơn giá | J18: Thành tiền 71 suất
B19: 1 | C19: Gạo nàng thơm Meizan (túi 5kg) | D19: Túi | E19: 71 | F19: 139900 | G19: =E19*F19 -> 9932900 | H19: 142 | I19: =F19 -> 139900 | J19: =H19*I19 -> 19865800
B20: 2 | C20: Mỳ tôm Kokomi 90g | D20: Thùng | E20: 1 | F20: 115500 | G20: =E20*F20 -> 115500 | H20: =E20*71 -> 71 | I20: =F20 -> 115500 | J20: =H20*I20 -> 8200500
B21: 3 | C21: Bột ngọt Vedan 454g | D21: Gói | E21: 1 | F21: 34600 | G21: =E21*F21 -> 34600 | H21: =E21*71 -> 71 | I21: =F21 -> 34600 | J21: =H21*I21 -> 2456600
B22: 4 | C22: Nước mắm Nam Ngư 750ml | D22: Chai | E22: 1 | F22: 47800 | G22: =E22*F22 -> 47800 | H22: =E22*71 -> 71 | I22: =F22 -> 47800 | J22: =H22*I22 -> 3393800
B23: 5 | C23: Bột canh iot Hải Châu 190g | D23: Gói | E23: 2 | F23: 4800 | G23: =E23*F23 -> 9600 | H23: =E23*71 -> 142 | I23: 4400 | J23: =H23*I23 -> 624800
B24: 6 | C24: Dầu ăn Simply 1 lít | D24: Chai | E24: 1 | F24: 55900 | G24: =E24*F24 -> 55900 | H24: 68 | I24: 56500 | J24: =H24*I24 -> 3842000
B25: 6 | C25: Dầu ăn Simply 1 lít | D25: Chai | H25: 3 | I25: 41500 | J25: =H25*I25 -> 124500
B26: 7 | C26: Bánh Goute 316.8g | D26: Hộp | E26: 1 | F26: 43600 | G26: =E26*F26 -> 43600 | H26: =E26*71 -> 71 | I26: =F26 -> 43600 | J26: =H26*I26 -> 3095600
C27: TỔNG CỘNG | G27: =SUM(G19:G26) -> 10239900 | J27: =SUM(J19:J26) -> 41603600
H28: Vận chuyển | J28: 140000
H29: Tổng cộng | J29: =J27+J28 -> 41743600

Sheet 4.2 Thống kê ủng hộ
B2: NTCM - THỐNG KÊ ỦNG HỘ Chương trình: XUÂN BIÊN CƯƠNG 2025 Lóng Phiêng - Yên Châu - Sơn La ( Tính đến 08h48 ngày 19/01/2025 )
B3: STT | C3: NT | D3: TÊN/ NICK | E3: SỐ TIỀN
B4: 1 | C4: 26/12 | D4: Nguyen Thi Huong | E4: 500000
B5: 2 | C5: 26/12 | D5: Le Nhat Minh | E5: 500000
B6: 3 | C6: 26/12 | D6: Quoc Cu va Hong Truong K45 | E6: 800000
B7: 4 | C7: 26/12 | D7: Nguyen Hong Khanh | E7: 1000000
B8: 5 | C8: 26/12 | D8: Hua Thanh Huong K45 | E8: 395000
B9: 6 | C9: 27/12 | D9: Que Tra | E9: 1000000
B10: 7 | C10: 27/12 | D10: Andy Nguyen | E10: 1000000
B11: 8 | C11: 27/12 | D11: Le Thanh Cong | E11: 500000
B12: 9 | C12: 27/12 | D12: LX Vu | E12: 1000000
B13: 10 | C13: 28/12 | D13: Pham Thi Bich Loan | E13: 470000
B14: 11 | C14: 28/12 | D14: Vu Duc Quan | E14: 500000
B15: 12 | C15: 31/12 | D15: Duyen Tuong | E15: 1000000
... B21: 18 | C21: 19/01 | D21: Nguyen Thi Hai Van K45 | E21: 1000000
B22: 19
B23: 20
B24: 21
B25: 22
B26: 23
B27: 24
B28: 25
B29: 26
B30: 27
B31: 28
B32: 29
B33: 30
... B45: 42
B46: TỔNG CỘNG | E46: =SUM(E4:E45) -> 40965000

Sheet UH Hiện vật
C2: NTCM - THỐNG KÊ ỦNG HỘ HIỆN VẬT Chương trình: XUÂN BIÊN CƯƠNG 2025
B3: Công ty TNHH Nguyên Liệu Sản Xuất D.D.P (bạn anh ThaiDzuy) tặng 71 suất quà bao gồm:
B4: STT | C4: Nội dung | D4: ĐVT | E4: Số lượng
B5: 1 | C5: Gạo nàng thơm Meizan (túi 5kg) | D5: Túi | E5: 142
B6: 2 | C6: Mỳ tôm Kokomi 90g | D6: Thùng | E6: 71
B7: 3 | C7: Bột ngọt Vedan 454g | D7: Gói | E7: 71
B8: 4 | C8: Nước mắm Nam Ngư 750ml | D8: Chai | E8: 71
B9: 5 | C9: Bột canh iot Hải Châu 190g | D9: Gói | E9: 142
B10: 6 | C10: Dầu ăn Simply 1 lít | D10: Chai | E10: 71
B11: 7 | C11: Bánh Goute 316.8g | D11: Hộp | E11: 71
B12: TỔNG TRỊ GIÁ 41.743.600 VNĐ

Sheet 4.3 Báo cáo thu chi
B2: NTCM - BÁO CÁO THU CHI Chương trình: XUÂN BIÊN CƯƠNG 2025 Lóng Phiêng - Yên Châu - Sơn La
B3: STT | C3: NT | D3: NỘI DUNG | E3: THU | F3: CHI | G3: Người nhận tiền
B4: 1 | C4: 07/01/2025 | D4: Tạm ứng lần 1 từ quỹ 1501 | E4: 18665000
B5: 2 | C5: 09/01/2025 | D5: TT lần 1 tiền mua 710 kg gạo | F5: 3000000 | G5: CTK: Truong Van Bang STK: 0975181212 NH Vietinbank | I5: Kg | J5: 710 | K5: 17800 | L5: =J5*K5 -> 12638000
B6: 3 | C6: 10/01/2025 | D6: Tạm ứng lần 2 từ quỹ 1501 | E6: 21300000 | L6: =L5-F5 -> 9638000
B7: 4 | C7: 13/01/2025 | D7: TT tiền in banner | F7: 580000 | G7: CTK: Dang Tuong Duyen STK: 0988003468 NH MB
B8: 5 | C8: 15/01/2025 | D8: Mua túi đựng quà + băng dính | F8: 380000
B9: 6 | C9: 16/01/2025 | D9: Thuê người bốc hàng xuống địa điểm tập kết | F9: 150000
B10: 7 | C10: 17/01/2025 | D10: TT lần 2 tiền mua 710 kg gạo | F10: 9600000 | G10: CTK: Truong Van Bang STK: 0975181212 NH Vietinbank
B11: 8 | C11: 17/01/2025 | D11: Lì xì (71 cái * 300k) | F11: 21300000
B12: 9
B13: 10
B14: 11
B15: 12
B16: 13
D17: TỔNG CỘNG | E17: =SUM(E4:E16) -> 39965000 | F17: =SUM(F4:F16) -> 35010000
D18: CÒN LẠI TẠI QUỸ CHƯƠNG TRÌNH | F18: =E17-F17 -> 4955000 | G18: Đã chuyển trả quỹ 1501 ngày 24/01/2025

Sheet 4.4 TỔNG KẾT CHƯƠNG TRÌNH
B2: NTCM - TỔNG KẾT CHƯƠNG TRÌNH XUÂN BIÊN CƯƠNG 2025 Lóng Phiêng - Yên Châu - Sơn La
B3: STT | C3: NỘI DUNG | D3: SỐ TIỀN
D4: THU | E4: CHI
B5: 1 | C5: Số tiền MTQ ủng hộ | D5: ='4.2 Thống kê ủng hộ'!E46 -> 40965000
B6: 2 | C6: ='4.3 Báo cáo thu chi'!D11 -> Lì xì (71 cái * 300k) | E6: ='4.3 Báo cáo thu chi'!F11 -> 21300000
B7: 3 | C7: Mua 710kg gạo | E7: ='4.3 Báo cáo thu chi'!F5+'4.3 Báo cáo thu chi'!F10 -> 12600000
B8: 4 | C8: ='4.3 Báo cáo thu chi'!D7 -> TT tiền in banner | E8: ='4.3 Báo cáo thu chi'!F7 -> 580000
B9: 5 | C9: ='4.3 Báo cáo thu chi'!D8 -> Mua túi đựng quà + băng dính | E9: ='4.3 Báo cáo thu chi'!F8 -> 380000
B10: 6 | C10: ='4.3 Báo cáo thu chi'!D9 -> Thuê người bốc hàng xuống địa điểm tập kết | E10: ='4.3 Báo cáo thu chi'!F9 -> 150000
C11: TỔNG CỘNG | D11: =SUM(D5:D10) -> 40965000 | E11: =SUM(E5:E10) -> 35010000
C12: SỐ TIỀN DƯ CỦA CHƯƠNG TRÌNH Tại quỹ 1501 | D12: =D11-E11 -> 5955000
B13: Ủng hộ hiện vật: Công ty TNHH Nguyên Liệu Sản Xuất D.D.P (bạn anh ThaiDzuy) tặng 71 suất quà, tổng trị giá 41.743.600 VNĐ

Sheet Lì xì1
A20: Công ty NLS & Nhóm từ thiện NTCM
A22: CHÚC MỪNG NĂM MỚI GIA ĐÌNH
