Workbook

Sheet Kangatang

Sheet BCTC
B1: BÁO CÁO THU CHI QUÁN CƠM 2 000đ ĐÀ LẠT
B2: THÁNG 12/2022
B3: (Kèm theo bảng chi tiết chi chợ hàng ngày)
B5: Ngày tháng | C5: Chi tiết | D5: Thu | E5: Chi | F5: Tồn
C6: Tồn tháng 11/2022 mang sang | F6: 2986252
B7: 44896 | C7: Thu bán phiếu | D7: 360000 | F7: =F6+D7-E7 -> 3346252
B8: 44896 | C8: Chi chợ | E8: 860000 | F8: =F7+D8-E8 -> 2486252
B9: 44898 | C9: Thu bán phiếu | D9: 340000 | F9: =F8+D9-E9 -> 2826252
B10: 44898 | C10: Chi chợ | E10: 990000 | F10: =F9+D10-E10 -> 1836252
B11: 44901 | C11: Thu bán phiếu | D11: 360000 | F11: =F10+D11-E11 -> 2196252
B12: 44901 | C12: Chi chợ | E12: 1140000 | F12: =F11+D12-E12 -> 1056252
B13: 44901 | C13: Phạm Thị Ngọc | D13: 500000 | F13: =F12+D13-E13 -> 1556252
B14: 44901 | C14: Khách ăn cơm | D14: 50000 | F14: =F13+D14-E14 -> 1606252
B15: 44902 | C15: Quỹ cơm Saigon hỗ trợ kinh phí hoạt động | D15: 20000000 | F15: =F14+D15-E15 -> 21606252
B16: 44903 | C16: Thu bán phiếu | D16: 380000 | F16: =F15+D16-E16 -> 21986252
B17: 44903 | C17: Chi chợ | E17: 1021000 | F17: =F16+D17-E17 -> 20965252
B18: 44903 | C18: Chị Huyền - Đà Lạt | D18: 200000 | F18: =F17+D18-E18 -> 21165252
B19: 44905 | C19: Thu bán phiếu | D19: 380000 | F19: =F18+D19-E19 -> 21545252
B20: 44905 | C20: Chi chợ | E20: 804000 | F20: =F19+D20-E20 -> 20741252
B21: 44908 | C21: Thu bán phiếu | D21: 380000 | F21: =F20+D21-E21 -> 21121252
B22: 44908 | C22: Chi chợ | E22: 915000 | F22: =F21+D22-E22 -> 20206252
B23: 44908 | C23: Nguyễn Văn Ngọc - cựu sinh viên ĐL | D23: 200000 | F23: =F22+D23-E23 -> 20406252
B24: 44910 | C24: Thu bán phiếu | D24: 380000 | F24: =F23+D24-E24 -> 20786252
B25: 44910 | C25: Chi chợ | E25: 910000 | F25: =F24+D25-E25 -> 19876252
B26: 44911 | C26: Ông Nguyễn Văn Định - Quảng Ngãi | D26: 100000 | F26: =F25+D26-E26 -> 19976252
B27: 44912 | C27: Thu bán phiếu | D27: 380000 | F27: =F26+D27-E27 -> 20356252
B28: 44912 | C28: Chi chợ | E28: 640000 | F28: =F27+D28-E28 -> 19716252
B29: 44915 | C29: Thu bán phiếu | D29: 380000 | F29: =F28+D29-E29 -> 20096252
B30: 44915 | C30: Chi chợ | E30: 912000 | F30: =F29+D30-E30 -> 19184252
B31: 44917 | C31: Thu bán phiếu | D31: 360000 | F31: =F30+D31-E31 -> 19544252
B32: 44917 | C32: Chi chợ | E32: 5432000 | F32: =F31+D32-E32 -> 14112252
B33: 44919 | C33: Thu bán phiếu | D33: 280000 | F33: =F32+D33-E33 -> 14392252
B34: 44919 | C34: Chi chợ | E34: 775000 | F34: =F33+D34-E34 -> 13617252
B35: 44922 | C35: Thu bán phiếu | D35: 350000 | F35: =F34+D35-E35 -> 13967252
B36: 44922 | C36: Chi chợ | E36: 1067000 | F36: =F35+D36-E36 -> 12900252
B37: 44924 | C37: Thu bán phiếu | D37: 350000 | F37: =F36+D37-E37 -> 13250252
B38: 44924 | C38: Chi chợ | E38: 1052000 | F38: =F37+D38-E38 -> 12198252
B39: 44926 | C39: Thu bán phiếu | D39: 380000 | F39: =F38+D39-E39 -> 12578252
B40: 44926 | C40: Chi chợ | E40: 4960000 | F40: =F39+D40-E40 -> 7618252
B41: 44926 | C41: Ông Nguyễn Mạnh Hùng - Đà Lạt | D41: 1000000 | F41: =F40+D41-E41 -> 8618252
C42: Cộng | D42: =SUM(D7:D41) -> 27110000 | E42: =SUM(E7:E41) -> 21478000 | F42: =F6+D42-E42 -> 8618252
B45: Chi tiết | D45: Thu | E45: Chi | F45: Tồn
B46: * Tồn đầu kì | F46: =F6 -> 2986252
B47: CMTX
B48: CMKTX | D48: =Tien!F12 -> 2050000
B49: Hỗ trợ | D49: 20000000
B50: Tiền bán phiếu | C50: =D50/2000 -> 2530 | D50: =Thubanphieu!E20 -> 5060000
B51: Tổng chi phí | E51: ='Chi cho'!G75 -> 21478000
B52: * Tồn quỹ tháng 11/2022 | D52: =SUM(D47:D51) -> 27110000 | E52: =SUM(E47:E51) -> 21478000 | F52: =F46+D52-E52 -> 8618252
B54: TỔNG HỢP CHI PHÍ THEO NGÀY
B55: =B2 -> THÁNG 12/2022
G56: ĐVT: VNĐ
B57: Ngày | C57: Diễn giải | D57: ĐVT | F57: Khối lượng | G57: Đơn giá | H57: Thành Tiền
B58: 44896 | C58: Chả chiên | D58: kg | F58: 8 | G58: 100000 | H58: 800000
C59: Chuối | D59: kg | F59: 12 | G59: 5000 | H59: 60000
C60: Tổng theo ngày | H60: 860000
B61: 44898 | C61: Thịt xay | D61: kg | F61: 7 | G61: 90000 | H61: 630000
C62: Ruốc | H62: 40000
C63: Xả | H63: 45000
C64: Sú tim | D64: kg | F64: 20 | G64: 7000 | H64: 140000
C65: Rau muống | D65: bó | F65: 5 | G65: 15000 | H65: 75000
C66: Chuối | D66: kg | F66: 12 | G66: 5000 | H66: 60000
C67: Tổng theo ngày | H67: 990000
B68: 44901 | C68: Thịt gà | D68: kg | F68: 20 | G68: 50000 | H68: 1000000
C69: Rau muống | D69: bó | F69: 5 | G69: 16000 | H69: 80000
C70: Chuối | D70: kg | F70: 12 | G70: 5000 | H70: 60000
C71: Tổng theo ngày | H71: 1140000
B72: 44903 | C72: Thịt xay | D72: kg | F72: 7 | G72: 90000 | H72: 630000
C73: Rau muống | D73: bó | F73: 4 | G73: 14000 | H73: 56000
C74: Hành lá | D74: kg | F74: 1 | G74: 25000 | H74: 25000
C75: Đậu khuôn | D75: miếng | F75: 170 | G75: 1000 | H75: 170000
C76: Sú tim | D76: kg | F76: 20 | G76: 7000 | H76: 140000
C77: Tổng theo ngày | H77: 1021000
B78: 44905 | C78: Cá viên chiên | D78: gói | F78: 16 | G78: 42500 | H78: 680000
C79: Rau muống | D79: bó | F79: 4 | G79: 16000 | H79: 64000
C80: Chuối | D80: kg | F80: 12 | G80: 5000 | H80: 60000
C81: Tổng theo ngày | H81: 804000
B82: 44908 | C82: Thịt heo | D82: kg | F82: 7 | G82: 90000 | H82: 630000
C83: Dưa cải | D83: kg | F83: 13 | G83: 13846 | H83: 180000
C84: Rau má | D84: kg | F84: 2 | G84: 22500 | H84: 45000
C85: Chuối | D85: kg | F85: 12 | G85: 5000 | H85: 60000
C86: Tổng theo ngày | H86: 915000
B87: 44910 | C87: Chả chiên | D87: kg | F87: 8 | G87: 100000 | H87: 800000
C88: Rau má | D88: kg | F88: 2 | G88: 25000 | H88: 50000
C89: Chuối | D89: kg | F89: 12 | G89: 5000 | H89: 60000
C90: Tổng theo ngày | H90: 910000
B91: 44912 | C91: Chả cá | D91: kg | F91: 8 | G91: 80000 | H91: 640000
C92: Tổng theo ngày | H92: 640000
B93: 44915 | C93: Thịt xay | D93: kg | F93: 8 | G93: 90000 | H93: 720000
C94: Giá cà thơm | H94: 105000
C95: Tiền điện T12/2022 | H95: 87000
C96: Tổng theo ngày | H96: 912000
B97: 44917 | C97: Thịt xay | D97: kg | F97: 7 | G97: 90000 | H97: 630000
C98: Rau muống | D98: bó | F98: 8 | G98: 14000 | H98: 112000
C99: Hành lá | D99: kg | F99: 1 | G99: 20000 | H99: 20000
C100: Đậu khuôn | D100: miếng | F100: 170 | G100: 1000 | H100: 170000
C101: Gạo | D101: kg | F101: 100 | G101: 15000 | H101: 1500000
C102: Ga | D102: bình | F102: 2 | G102: 1390000 | H102: 2780000
C103: Xe chở bún khô | H103: 160000
C104: Chuối | D104: kg | F104: 12 | G104: 5000 | H104: 60000
...

Sheet BCTK
A2: BÁO CÁO THỐNG KÊ ỦNG HỘ QUÁN CƠM 2 000đ ĐÀ LẠT
A3: =BCTC!B2 -> THÁNG 12/2022
A4: A. ỦNG HỘ TIỀN MẶT
E5: ĐVT: đồng
A6: Ngày tháng | B6: Người ủng hộ | D6: CMTX | E6: CMKTX
A7: 44901 | B7: Phạm Thị Ngọc | E7: 500000
A8: 44901 | B8: Khách ăn cơm | E8: 50000
A9: 44903 | B9: Chị Huyền - Đà Lạt | E9: 200000
A10: 44908 | B10: Nguyễn Văn Ngọc - cựu sinh viên ĐL | E10: 200000
A11: 44911 | B11: Ông Nguyễn Văn Định - Quảng Ngãi | E11: 100000
A12: 44926 | B12: Ông Nguyễn Mạnh Hùng - Đà Lạt | E12: 1000000
B13: Cộng | D13: =SUM(D7:D12) -> 0 | E13: =SUM(E7:E12) -> 2050000
B14: Tổng cộng | D14: =D13+E13 -> 2050000
A16: B. ỦNG HỘ HIỆN VẬT
A18: Ngày tháng | B18: Người ủng hộ | C18: Chi tiết hiện vật | D18: ĐVT | E18: Số lượng
A19: 44903 | B19: Anh Dũng - Nguyễn Đình Chiểu | C19: chuối xanh | D19: kg | E19: 50
A20: 44909 | B20: Thầy Linh Toàn | C20: bí ngồi | D20: kg | E20: 20
A21: 44912 | B21: Nhóm quán cơm | C21: su su | D21: kg | E21: 40
A22: 44915 | B22: Em Ngô Thị Lan Phương - HCM | C22: Dầu ăn | D22: lít | E22: 10
B23: Cô Ngọc Trang - HCM | C23: gạo | D23: kg | E23: 150
C24: Dầu ăn | D24: lít | E24: 10
C25: đường | D25: kg | E25: 12
C26: bột canh | D26: thùng | E26: 1
A27: 44916 | B27: Cháu Huy Kỳ | C27: bún khô | D27: kg | E27: 50

Sheet Hienvat
A2: TỔNG HỢP ỦNG HỘ HIỆN VẬT
A3: =BCTC!B2 -> THÁNG 12/2022
A5: Ngày tháng | B5: Người ủng hộ | C5: Chi tiết hiện vật | D5: ĐVT | E5: Số lượng
A6: 44903 | B6: Anh Dũng - Nguyễn Đình Chiểu | C6: chuối xanh | D6: kg | E6: 50
A7: 44909 | B7: Thầy Linh Toàn | C7: bí ngồi | D7: kg | E7: 20
A8: 44912 | B8: Nhóm quán cơm | C8: su su | D8: kg | E8: 40
A9: 44915 | B9: Em Ngô Thị Lan Phương - HCM | C9: Dầu ăn | D9: lít | E9: 10
B10: Cô Ngọc Trang - HCM | C10: gạo | D10: kg | E10: 150
C11: Dầu ăn | D11: lít | E11: 10
C12: đường | D12: kg | E12: 12
C13: bột canh | D13: thùng | E13: 1
A14: 44916 | B14: Cháu Huy Kỳ | C14: bún khô | D14: kg | E14: 50

Sheet Tien
B2: TỔNG HỢP THU TIỀN ỦNG HỘ
B3: =BCTC!B2 -> THÁNG 12/2022
B5: Ngày tháng | C5: Diễn giải | F5: Số tiền
B6: 44901 | C6: Phạm Thị Ngọc | F6: 500000
B7: 44901 | C7: Khách ăn cơm | F7: 50000
B8: 44903 | C8: Chị Huyền - Đà Lạt | F8: 200000
B9: 44908 | C9: Nguyễn Văn Ngọc - cựu sinh viên ĐL | F9: 200000
B10: 44911 | C10: Ông Nguyễn Văn Định - Quảng Ngãi | F10: 100000
B11: 44926 | C11: Ông Nguyễn Mạnh Hùng - Đà Lạt | F11: 1000000
C12: Tổng | F12: =SUM(F6:F11) -> 2050000
F14: =Thubanphieu!E20 -> 5060000
C15: Tổng cộng: | F15: =F14+F12 -> 7110000

Sheet Chi cho
A2: TỔNG HỢP CHI PHÍ THEO NGÀY
A3: =BCTC!B2 -> THÁNG 12/2022
F5: ĐVT: VNĐ
A6: CHI PHÍ QUÁN CƠM 2000 - ĐÀ LẠT
A8: Ngày | B8: Diễn giải | C8: ĐVT | E8: Khối lượng | F8: Đơn giá | G8: Thành Tiền
A9: 44896 | B9: Chả chiên | C9: kg | E9: 8 | F9: 100000 | G9: 800000
B10: Chuối | C10: kg | E10: 12 | F10: 5000 | G10: 60000
B11: Tổng theo ngày | G11: 860000
A12: 44898 | B12: Thịt xay | C12: kg | E12: 7 | F12: 90000 | G12: 630000
B13: Ruốc | G13: 40000
B14: Xả | G14: 45000
B15: Sú tim | C15: kg | E15: 20 | F15: 7000 | G15: 140000
B16: Rau muống | C16: bó | E16: 5 | F16: 15000 | G16: 75000
B17: Chuối | C17: kg | E17: 12 | F17: 5000 | G17: 60000
B18: Tổng theo ngày | G18: 990000
A19: 44901 | B19: Thịt gà | C19: kg | E19: 20 | F19: 50000 | G19: 1000000
B20: Rau muống | C20: bó | E20: 5 | F20: 16000 | G20: 80000
B21: Chuối | C21: kg | E21: 12 | F21: 5000 | G21: 60000
B22: Tổng theo ngày | G22: 1140000
A23: 44903 | B23: Thịt xay | C23: kg | E23: 7 | F23: 90000 | G23: 630000
B24: Rau muống | C24: bó | E24: 4 | F24: 14000 | G24: 56000
B25: Hành lá | C25: kg | E25: 1 | F25: 25000 | G25: 25000
B26: Đậu khuôn | C26: miếng | E26: 170 | F26: 1000 | G26: 170000
B27: Sú tim | C27: kg | E27: 20 | F27: 7000 | G27: 140000
B28: Tổng theo ngày | G28: 1021000
A29: 44905 | B29: Cá viên chiên | C29: gói | E29: 16 | F29: 42500 | G29: 680000
B30: Rau muống | C30: bó | E30: 4 | F30: 16000 | G30: 64000
B31: Chuối | C31: kg | E31: 12 | F31: 5000 | G31: 60000
B32: Tổng theo ngày | G32: 804000
A33: 44908 | B33: Thịt heo | C33: kg | E33: 7 | F33: 90000 | G33: 630000
B34: Dưa cải | C34: kg | E34: 13 | F34: 13846 | G34: 180000
B35: Rau má | C35: kg | E35: 2 | F35: 22500 | G35: 45000
B36: Chuối | C36: kg | E36: 12 | F36: 5000 | G36: 60000
B37: Tổng theo ngày | G37: 915000
A38: 44910 | B38: Chả chiên | C38: kg | E38: 8 | F38: 100000 | G38: 800000
B39: Rau má | C39: kg | E39: 2 | F39: 25000 | G39: 50000
B40: Chuối | C40: kg | E40: 12 | F40: 5000 | G40: 60000
B41: Tổng theo ngày | G41: 910000
A42: 44912 | B42: Chả cá | C42: kg | E42: 8 | F42: 80000 | G42: 640000
B43: Tổng theo ngày | G43: 640000
A44: 44915 | B44: Thịt xay | C44: kg | E44: 8 | F44: 90000 | G44: 720000
B45: Giá cà thơm | G45: 105000
B46: Tiền điện T12/2022 | G46: 87000
B47: Tổng theo ngày | G47: 912000
A48: 44917 | B48: Thịt xay | C48: kg | E48: 7 | F48: 90000 | G48: 630000
B49: Rau muống | C49: bó | E49: 8 | F49: 14000 | G49: 112000
B50: Hành lá | C50: kg | E50: 1 | F50: 20000 | G50: 20000
B51: Đậu khuôn | C51: miếng | E51: 170 | F51: 1000 | G51: 170000
B52: Gạo | C52: kg | E52: 100 | F52: 15000 | G52: 1500000
B53: Ga | C53: bình | E53: 2 | F53: 1390000 | G53: 2780000
B54: Xe chở bún khô | G54: 160000
B55: Chuối | C55: kg | E55: 12 | F55: 5000 | G55: 60000
B56: Tổng theo ngày | G56: 5432000
A57: 44919 | B57: Thịt xay | C57: kg | E57: 7 | F57: 90000 | G57: 630000
B58: Xả | C58: kg | E58: 2 | F58: 22500 | G58: 45000
B59: Mắm ruốc | C59: kg | E59: 1 | F59: 40000 | G59: 40000
B60: Chuối | C60: kg | E60: 12 | F60: 5000 | G60: 60000
B61: Tổng theo ngày | G61: 775000
A62: 44922 | B62: Thịt gà | C62: kg | E62: 15 | F62: 50000 | G62: 750000
B63: Tiền nước T12/2022 | G63: 257000
B64: Chuối | C64: kg | E64: 12 | F64: 5000 | G64: 60000
B65: Tổng theo ngày | G65: 1067000
A66: 44924 | B66: Chả cá | C66: kg | E66: 8 | F66: 80000 | G66: 640000
B67: Điện thoại T10+ 11/2022 | G67: 352000
B68: Chuối | C68: kg | E68: 12 | F68: 5000 | G68: 60000
B69: Tổng theo ngày | G69: 1052000
A70: 44926 | B70: Cá ngân | C70: kg | E70: 15 | F70: 60000 | G70: 900000
B71: Chuối | C71: kg | E71: 12 | F71: 5000 | G71: 60000
B72: Lương cô Hồng T12/2022 | G72: 2500000
B73: Lương phụ bếp ( chị Minh Ngọc) T12/2022 | C73: tháng | E73: 1 | F73: 1500000 | G73: 1500000
B74: Tổng theo ngày | G74: 4960000
A75: Tổng | G75: 21478000

Sheet Thubanphieu
B2: TỔNG HỢP THU TIỀN BÁN PHIẾU
B3: =BCTC!B2 -> THÁNG 12/2022
B5: Ngày | C5: Diễn giải | D5: Số phiếu | E5: Thành Tiền
B6: 44896 | C6: Thu bán phiếu | D6: 180 | E6: 360000
B7: 44898 | C7: Thu bán phiếu | D7: 170 | E7: 340000
B8: 44901 | C8: Thu bán phiếu | D8: 180 | E8: 360000
B9: 44903 | C9: Thu bán phiếu | D9: 190 | E9: 380000
B10: 44905 | C10: Thu bán phiếu | D10: 190 | E10: 380000
B11: 44908 | C11: Thu bán phiếu | D11: 190 | E11: 380000
B12: 44910 | C12: Thu bán phiếu | D12: 190 | E12: 380000
B13: 44912 | C13: Thu bán phiếu | D13: 190 | E13: 380000
B14: 44915 | C14: Thu bán phiếu | D14: 190 | E14: 380000
B15: 44917 | C15: Thu bán phiếu | D15: 180 | E15: 360000
B16: 44919 | C16: Thu bán phiếu | D16: 140 | E16: 280000
B17: 44922 | C17: Thu bán phiếu | D17: 175 | E17: 350000
... B19: 44926 | C19: Thu bán phiếu | D19: 190 | E19: 380000
B20: Tổng | D20: 2530 | E20: 5060000

Sheet T1.2023
B1: BÁO CÁO THU CHI QUÁN CƠM 2 000đ ĐÀ LẠT
B2: THÁNG 1/2023
B3: (Kèm theo bảng chi tiết chi chợ hàng ngày)
B5: Ngày tháng | C5: Chi tiết | D5: Thu | E5: Chi | F5: Tồn | G5: Ghi chú
C6: Tồn tháng 12/2022 mang sang | F6: =BCTC!F42 -> 8618252
B7: 44929 | C7: Thu tiền bán phiếu cơm ngày 03/01/2023 | D7: =190*2000 -> 380000 | F7: =F6+D7-E7 -> 8998252 | G7: COM
B8: 44929 | C8: Chi phí ngày 03/01/2023 | E8: 1185000 | F8: =F7+D8-E8 -> 7813252 | G8: CHI PHI
B9: 44931 | C9: Thu tiền bán phiếu cơm ngày 05/01/2023 | D9: 380000 | F9: =F8+D9-E9 -> 8193252 | G9: COM
B10: 44931 | C10: Anh Lê Phước Lộc - Phan Thiết ủng hộ KTX | D10: 1000000 | F10: =F9+D10-E10 -> 9193252 | G10: CMKTX
B11: 44931 | C11: Chi phí ngày 05/01/2023 | E11: 590000 | F11: =F10+D11-E11 -> 8603252 | G11: CHI PHI
B12: 44933 | C12: Thu tiền bán phiếu cơm ngày 07/01/2023 | D12: =135*2000 -> 270000 | F12: =F11+D12-E12 -> 8873252 | G12: COM
B13: 44933 | C13: Chị Phan Thị Lan - Nguyên Tử Lực ủng hộ KTX | D13: 1000000 | F13: =F12+D13-E13 -> 9873252 | G13: CMKTX
B14: 44933 | C14: Chi phí ngày 07/01/2023 | E14: 10685000 | F14: =F13+D14-E14 -> -811748 | G14: CHI PHI
B15: 44956 | C15: Quán cơm 2000đ SG hỗ trợ | D15: 20000000 | F15: =F14+D15-E15 -> 19188252 | G15: HO TRO
C16: Cộng | D16: =SUM(D7:D15) -> 23030000 | E16: =SUM(E7:E15) -> 12460000 | F16: =F6+D16-E16 -> 19188252
B19: Chi tiết | D19: Thu | E19: Chi | F19: Tồn
B20: * Tồn đầu kì | F20: =F6 -> 8618252
B21: CMTX | D21: =SUMIF(G7:G15,"CMTX",D7:D15) -> 0
B22: CMKTX | D22: =SUMIF(G7:G15,"CMKTX",D7:D15) -> 2000000
B23: Hỗ trợ | D23: =SUMIF(G7:G15,"HO TRO",D7:D15) -> 20000000
B24: Tiền bán phiếu | C24: =D24/2000 -> 515 | D24: =SUMIF(G7:G15,"COM",D7:D15) -> 1030000
B25: Tổng chi phí | E25: =E16 -> 12460000
B26: * Tồn quỹ tháng 1/2023 | D26: =SUM(D21:D25) -> 23030000 | E26: =SUM(E21:E25) -> 12460000 | F26: =F20+D26-E26 -> 19188252
B28: TỔNG HỢP CHI PHÍ THEO NGÀY
B29: =B2 -> THÁNG 1/2023
G30: ĐVT: VNĐ
B31: Ngày | C31: Diễn giải | D31: ĐVT | E31: Khối lượng | F31: Đơn giá | G31: Thành Tiền
B32: 44986 | C32: Thịt heo | D32: kg | E32: 9 | F32: 100000 | G32: 900000
C33: Dưa cải | D33: kg | E33: 13 | F33: 13846 | G33: 180000
C34: Hành lá | D34: kg | E34: 1 | F34: 20000 | G34: 20000
C35: Tỏi | D35: kg | E35: 1 | F35: 25000 | G35: 25000
C36: Chuối | D36: kg | E36: 12 | F36: 5000 | G36: 60000
C37: Tổng theo ngày | G37: 1185000
B38: 45047 | C38: Thịt xay | D38: kg | E38: 4 | F38: 90000 | G38: 360000
C39: Đậu khuôn | D39: miếng | E39: 170 | F39: 1000 | G39: 170000
C40: Chuối | D40: kg | E40: 12 | F40: 5000 | G40: 60000
C41: Tổng theo ngày | G41: 590000
B42: 45108 | C42: Thịt gà | D42: kg | E42: 15 | F42: 50000 | G42: 750000
C43: Chuối | D43: kg | E43: 12 | F43: 5000 | G43: 60000
C44: Lương cô Hồng T1/2023 | G44: 2500000
C45: Lương phụ bếp ( chị Minh Ngọc) T1/2023 | D45: tháng | E45: 1 | F45: 1500000 | G45: 1500000
C46: Tháng 13 - Cô Hồng | G46: 4750000
C47: Tháng 13 - Chị Minh Ngọc | G47: 1125000
C48: Tổng theo ngày | G48: 10685000
B49: Tổng | G49: 12460000

Sheet T2.2023
B1: BÁO CÁO THU CHI QUÁN CƠM 2 000đ ĐÀ LẠT
B2: THÁNG 2/2023
B3: (Kèm theo bảng chi tiết chi chợ hàng ngày)
B5: Ngày tháng | C5: Chi tiết | D5: Thu | E5: Chi | F5: Tồn | G5: Ghi chú
C6: Tồn tháng 1/2023 mang sang | F6: ='T1.2023'!F26 -> 19188252
B7: 44971 | C7: Chi phí ngày 14/02/2023 | E7: 650000 | F7: =F6+D7-E7 -> 18538252 | G7: CHI PHI
B8: 44971 | C8: Bà Tôn Nữ Diệu Thanh - Hai Bà Trưng ủng hộ KTX | D8: 250000 | F8: =F7+D8-E8 -> 18788252 | G8: CMKTX
B9: 44971 | C9: Bà Lê Thị Thương - Hai Bà Trưng ủng hộ KTX | D9: 250000 | F9: =F8+D9-E9 -> 19038252 | G9: CMKTX
B10: 44971 | C10: Bà Trần Thị Châu - Tây Hồ ủng hộ KTX | D10: 2000000 | F10: =F9+D10-E10 -> 21038252 | G10: CMKTX
B11: 44971 | C11: Bà Nguyễn Thị Thu Hà - 50USD*(23,840đ) ủng hộ KTX | D11: 1192000 | F11: =F10+D11-E11 -> 22230252 | G11: CMKTX
B12: 44971 | C12: Thu bán phiếu ngày 14/02/2023 | D12: 140000 | F12: =F11+D12-E12 -> 22370252 | G12: COM
B13: 44973 | C13: Chi phí ngày 16/02/2023 | E13: 670000 | F13: =F12+D13-E13 -> 21700252 | G13: CHI PHI
B14: 44973 | C14: Ngô Thị Thu Thủy - HCM ủng hộ KTX | D14: 100000 | F14: =F13+D14-E14 -> 21800252 | G14: CMKTX
B15: 44973 | C15: Thu bán phiếu ngày 16/02/2023 | D15: 240000 | F15: =F14+D15-E15 -> 22040252 | G15: COM
B16: 44975 | C16: Chi phí ngày 18/02/2023 | E16: 590000 | F16: =F15+D16-E16 -> 21450252 | G16: CHI PHI
B17: 44975 | C17: Thu bán phiếu ngày 18/02/2023 | D17: 240000 | F17: =F16+D17-E17 -> 21690252 | G17: COM
B18: 44978 | C18: Chi phí ngày 21/02/2023 | E18: 840000 | F18: =F17+D18-E18 -> 20850252 | G18: CHI PHI
B19: 44978 | C19: Trần Thị Diệu Quỳnh - HCM ủng hộ KTX | D19: 500000 | F19: =F18+D19-E19 -> 21350252 | G19: CMKTX
B20: 44978 | C20: Triệu Tiểu Thuyết - Sinh viên ủng hộ KTX | D20: 100000 | F20: =F19+D20-E20 -> 21450252 | G20: CMKTX
B21: 44978 | C21: Thu bán phiếu ngày 21/02/2023 | D21: 240000 | F21: =F20+D21-E21 -> 21690252 | G21: COM
B22: 44979 | C22: Thu bán phiếu ngày 22/02/2023 | D22: 240000 | F22: =F21+D22-E22 -> 21930252 | G22: COM
B23: 44980 | C23: Chi phí ngày 23/02/2023 | E23: 675000 | F23: =F22+D23-E23 -> 21255252 | G23: CHI PHI
B24: 44982 | C24: Chi phí ngày 25/02/2023 | E24: 700000 | F24: =F23+D24-E24 -> 20555252 | G24: CHI PHI
B25: 44982 | C25: Thu bán phiếu ngày 25/02/2023 | D25: 240000 | F25: =F24+D25-E25 -> 20795252 | G25: COM
B26: 44985 | C26: Chi phí ngày 12/02/2023 | E26: 5112000 | F26: =F25+D26-E26 -> 15683252 | G26: CHI PHI
B27: 44985 | C27: Thu bán phiếu ngày 28/02/2023 | D27: 240000 | F27: =F26+D27-E27 -> 15923252 | G27: COM
C28: Cộng | D28: =SUM(D7:D27) -> 5972000 | E28: =SUM(E7:E27) -> 9237000 | F28: =F6+D28-E28 -> 15923252
B31: Chi tiết | D31: Thu | E31: Chi | F31: Tồn
B32: * Tồn đầu kì | F32: =F6 -> 19188252
B33: CMTX | D33: =SUMIF(G7:G27,"CMTX",D7:D27) -> 0
B34: CMKTX | D34: =SUMIF(G7:G27,"CMKTX",D7:D27) -> 4392000
B35: Hỗ trợ | D35: =SUMIF(G7:G27,"HO TRO",D7:D27) -> 0
B36: Tiền bán phiếu | C36: =D36/2000 -> 790 | D36: =SUMIF(G7:G27,"COM",D7:D27) -> 1580000
B37: Tổng chi phí | E37: =E28 -> 9237000
B38: * Tồn quỹ tháng 2/2023 | D38: =SUM(D33:D37) -> 5972000 | E38: =SUM(E33:E37) -> 9237000 | F38: =F32+D38-E38 -> 15923252
B40: TỔNG HỢP CHI PHÍ THEO NGÀY
B41: =B2 -> THÁNG 2/2023
G42: ĐVT: VNĐ
B43: Ngày | C43: Diễn giải | D43: ĐVT | E43: Khối lượng | F43: Đơn giá | G43: Thành Tiền
B44: 44971 | C44: Thịt xay | D44: kg | E44: 5 | F44: 90000 | G44: 450000
C45: Rau muống | D45: bó | E45: 4 | F45: 10000 | G45: 40000
C46: Hành lá | D46: kg | E46: 1 | F46: 20000 | G46: 20000
C47: Đậu khuôn | D47: miếng | E47: 100 | F47: 1000 | G47: 100000
C48: Chuối | D48: kg | E48: 8 | F48: 5000 | G48: 40000
C49: Tổng theo ngày | G49: 650000
B50: 44973 | C50: Thịt gà | D50: kg | E50: 12 | F50: 50000 | G50: 600000
C51: Nước uống | D51: bình | E51: 2 | F51: 15000 | G51: 30000
C52: Chuối | D52: kg | E52: 8 | F52: 5000 | G52: 40000
C53: Tổng theo ngày | G53: 670000
B54: 44975 | C54: Thịt heo | D54: kg | E54: 5 | F54: 90000 | G54: 450000
C55: Dưa cải | D55: kg | E55: 10 | F55: 14000 | G55: 140000
C56: Tổng theo ngày | G56: 590000
B57: 44978 | C57: Thịt heo | D57: kg | E57: 5 | F57: 90000 | G57: 450000
C58: Củ cải | D58: kg | E58: 10 | F58: 7000 | G58: 70000
C59: Nước rửa chén | D59: lít | E59: 10 | F59: 17000 | G59: 170000
C60: Chuối | D60: kg | E60: 10 | F60: 5000 | G60: 50000
C61: Điện tháng 1+2/2023 | G61: 100000
C62: Tổng theo ngày | G62: 840000
B63: 44980 | C63: Chả cá | D63: kg | E63: 6 | F63: 85000 | G63: 510000
C64: Cải ngọt | D64: kg | E64: 4 | F64: 10000 | G64: 40000
C65: Trứng gà | D65: kg | E65: 2 | F65: 37500 | G65: 75000
C66: Chuối | D66: kg | E66: 10 | F66: 5000 | G66: 50000
C67: Tổng theo ngày | G67: 675000
B68: 44982 | C68: Chả chiên | D68: kg | E68: 7 | F68: 100000 | G68: 700000
C69: Tổng theo ngày | G69: 700000
B70: 44985 | C70: Cá bạc má | D70: kg | E70: 12 | F70: 50000 | G70: 600000
C71: Tiền điện thoại 2 tháng | G71: 352000
C72: Thay bóng đèn | G72: 80000
C73: Hành lá | D73: kg | E73: 1 | F73: 20000 | G73: 20000
C74: Chuối | D74: kg | E74: 12 | F74: 5000 | G74: 60000
C75: Lương cô Hồng T2/2023 | D75: tháng | E75: 1 | F75: 2500000 | G75: 2500000
C76: Lương phụ bếp ( chị Minh Ngọc) T2/2023 | D76: tháng | E76: 1 | F76: 1500000 | G76: 1500000
C77: Tổng theo ngày | G77: 5112000
B78: Tổng | G78: 9237000

Sheet T3.2023
B1: BÁO CÁO THU CHI QUÁN CƠM 2 000đ ĐÀ LẠT
B2: THÁNG 3/2023
B3: (Kèm theo bảng chi tiết chi chợ hàng ngày)
B5: Ngày tháng | C5: Chi tiết | D5: Thu | E5: Chi | F5: Tồn | G5: Ghi chú
C6: Tồn tháng 2/2023 mang sang | F6: ='T2.2023'!F28 -> 15923252
B7: 44985 | C7: Chị Cao Thị Phượng - Ánh Sáng ủng hộ KTX | D7: 1000000 | F7: =F6+D7-E7 -> 16923252 | G7: CMKTX
B8: 44987 | C8: Chi phí ngày 02/03/2023 | E8: 630000 | F8: =F7+D8-E8 -> 16293252 | G8: CHI PHI
B9: 44987 | C9: Thu bán phiếu ngày 02/03/2023 | D9: 280000 | F9: =F8+D9-E9 -> 16573252 | G9: COM
B10: 44989 | C10: Chi phí ngày 04/03/2024 | E10: 670000 | F10: =F9+D10-E10 -> 15903252 | G10: CHI PHI
B11: 44989 | C11: Thu bán phiếu ngày 04/03/2023 | D11: 240000 | F11: =F10+D11-E11 -> 16143252 | G11: COM
B12: 44992 | C12: Chi phí ngày 07/03/2025 | E12: 811000 | F12: =F11+D12-E12 -> 15332252 | G12: CHI PHI
B13: 44992 | C13: Thu bán phiếu ngày 07/03/2023 | D13: 250000 | F13: =F12+D13-E13 -> 15582252 | G13: COM
B14: 44994 | C14: Chi phí ngày 09/03/2026 | E14: 760000 | F14: =F13+D14-E14 -> 14822252 | G14: CHI PHI
B15: 44994 | C15: Thu bán phiếu ngày 09/03/2023 | D15: 286000 | F15: =F14+D15-E15 -> 15108252 | G15: COM
B16: 44996 | C16: Chi phí ngày 11/03/2027 | E16: 967000 | F16: =F15+D16-E16 -> 14141252 | G16: CHI PHI
B17: 44996 | C17: Thu bán phiếu ngày 11/03/2023 | D17: 250000 | F17: =F16+D17-E17 -> 14391252 | G17: COM
B18: 44999 | C18: Chi phí ngày 14/03/2028 | E18: 1360000 | F18: =F17+D18-E18 -> 13031252 | G18: CHI PHI
B19: 44999 | C19: Thu bán phiếu ngày 14/03/2023 | D19: 300000 | F19: =F18+D19-E19 -> 13331252 | G19: COM
B20: 45001 | C20: Chi phí ngày 16/03/2029 | E20: 677000 | F20: =F19+D20-E20 -> 12654252 | G20: CHI PHI
B21: 45001 | C21: Thu bán phiếu ngày 16/03/2023 | D21: 310000 | F21: =F20+D21-E21 -> 12964252 | G21: COM
B22: 45003 | C22: Chi phí ngày 18/03/2030 | E22: 3690000 | F22: =F21+D22-E22 -> 9274252 | G22: CHI PHI
B23: 45003 | C23: Thu bán phiếu ngày 18/03/2023 | D23: 260000 | F23: =F22+D23-E23 -> 9534252 | G23: COM
B24: 45006 | C24: Chi phí ngày 21/03/2031 | E24: 652000 | F24: =F23+D24-E24 -> 8882252 | G24: CHI PHI
B25: 45006 | C25: Thu bán phiếu ngày 21/03/2023 | D25: 260000 | F25: =F24+D25-E25 -> 9142252 | G25: COM
B26: 45008 | C26: Chi phí ngày 23/03/2032 | E26: 540000 | F26: =F25+D26-E26 -> 8602252 | G26: CHI PHI
B27: 45008 | C27: Thu bán phiếu ngày 23/03/2023 | D27: 260000 | F27: =F26+D27-E27 -> 8862252 | G27: COM
B28: 45008 | C28: Anh Nguyễn Tài (Bình Nam) ủng hộ KTX | D28: 1000000 | F28: =F27+D28-E28 -> 9862252 | G28: CMKTX
B29: 45010 | C29: Chi phí ngày 25/03/2033 | E29: 610000 | F29: =F28+D29-E29 -> 9252252 | G29: CHI PHI
B30: 45010 | C30: Thu bán phiếu ngày 25/03/2023 | D30: 260000 | F30: =F29+D30-E30 -> 9512252 | G30: COM
B31: 45013 | C31: Chi phí ngày 28/03/2034 | E31: 1116000 | F31: =F30+D31-E31 -> 8396252 | G31: CHI PHI
B32: 45013 | C32: Thu bán phiếu ngày 28/03/2023 | D32: 310000 | F32: =F31+D32-E32 -> 8706252 | G32: COM
B33: 45015 | C33: Chi phí ngày 30/03/2035 | E33: 4556000 | F33: =F32+D33-E33 -> 4150252 | G33: CHI PHI
B34: 45015 | C34: Thu bán phiếu ngày 30/03/2023 | D34: 300000 | F34: =F33+D34-E34 -> 4450252 | G34: COM
C35: Cộng | D35: =SUM(D7:D34) -> 5566000 | E35: =SUM(E7:E34) -> 17039000 | F35: =F6+D35-E35 -> 4450252
B38: Chi tiết | D38: Thu | E38: Chi | F38: Tồn
B39: * Tồn đầu kì | F39: =F6 -> 15923252
B40: CMTX | D40: =SUMIF(G7:G34,"CMTX",D7:D34) -> 0
B41: CMKTX | D41: =SUMIF(G7:G34,"CMKTX",D7:D34) -> 2000000
B42: Hỗ trợ | D42: =SUMIF(G7:G34,"HO TRO",D7:D34) -> 0
B43: Tiền bán phiếu | C43: =D43/2000 -> 1783 | D43: =SUMIF(G7:G34,"COM",D7:D34) -> 3566000
B44: Tổng chi phí | E44: =E35 -> 17039000
B45: * Tồn quỹ tháng 3/2023 | D45: =SUM(D40:D44) -> 5566000 | E45: =SUM(E40:E44) -> 17039000 | F45: =F39+D45-E45 -> 4450252
B47: TỔNG HỢP CHI PHÍ THEO NGÀY
B48: =B2 -> THÁNG 3/2023
G49: ĐVT: VNĐ
B50: Ngày | C50: Diễn giải | D50: ĐVT | E50: Khối lượng | F50: Đơn giá | G50: Thành Tiền
B51: 44960 | C51: Thịt heo | D51: kg | E51: 6 | F51: 90000 | G51: 540000
C52: Nước uống | D52: bình | E52: 2 | F52: 15000 | G52: 30000
C53: Chuối | D53: kg | E53: 12 | F53: 5000 | G53: 60000
C54: Tổng theo ngày | G54: 630000
B55: 45019 | C55: Thịt xay | D55: kg | E55: 6 | F55: 90000 | G55: 540000
C56: Xả xay | D56: kg | E56: 1.5 | G56: 30000
C57: Mắm ruốc | D57: kg | E57: 1 | F57: 40000 | G57: 40000
C58: Chuối | D58: kg | E58: 12 | F58: 5000 | G58: 60000
C59: Tổng theo ngày | G59: 670000
B60: 45110 | C60: Thịt heo | D60: kg | E60: 6 | F60: 90000 | G60: 540000
C61: Củ cải | D61: kg | E61: 5 | F61: 7000 | G61: 35000
C62: Tiền điện thoại | G62: 176000
C63: Chuối | D63: kg | E63: 12 | F63: 5000 | G63: 60000
C64: Tổng theo ngày | G64: 811000
B65: 45172 | C65: Chả chiên | D65: kg | E65: 7 | F65: 100000 | G65: 700000
C66: Chuối | D66: kg | E66: 12 | F66: 5000 | G66: 60000
C67: Tổng theo ngày | G67: 760000
B68: 45233 | C68: Thịt gà | D68: kg | E68: 15 | F68: 50000 | G68: 750000
C69: Giấy ăn | D69: cây | E69: 1 | F69: 140000 | G69: 140000
C70: Hành lá | D70: kg | E70: 1 | F70: 17000 | G70: 17000
C71: Chuối | D71: kg | E71: 12 | F71: 5000 | G71: 60000
C72: Tổng theo ngày | G72: 967000
B73: 44999 | C73: Thịt heo | D73: kg | E73: 12 | F73: 90000 | G73: 1080000
C74: Thịt xay | D74: kg | E74: 2 | F74: 90000 | G74: 180000
C75: Nước màu | D75: chai | E75: 5 | F75: 8000 | G75: 40000
C76: Chuối | D76: kg | E76: 12 | F76: 5000 | G76: 60000
C77: Tổng theo ngày | G77: 1360000
B78: 45001 | C78: Thịt xay | D78: kg | E78: 5 | F78: 90000 | G78: 450000
C79: Đậu khuôn | D79: miếng | E79: 130 | F79: 1000 | G79: 130000
C80: Trứng gà | D80: kg | E80: 2 | G80: 97000
C81: Tổng theo ngày | G81: 677000
B82: 45003 | C82: Thịt đùi | D82: kg | E82: 7 | F82: 90000 | G82: 630000
C83: Chuối | D83: kg | E83: 12 | F83: 5000 | G83: 60000
C84: Ga | D84: bình | E84: 2 | F84: 1500000 | G84: 3000000
C85: Tổng theo ngày | G85: 3690000
B86: 45006 | C86: Thịt heo | D86: kg | E86: 6 | F86: 90000 | G86: 540000
C87: Củ cải | D87: kg | E87: 5 | G87: 35000
C88: Hành lá | D88: kg | E88: 1 | F88: 17000 | G88: 17000
C89: Chuối | D89: kg | E89: 12 | F89: 5000 | G89: 60000
C90: Tổng theo ngày | G90: 652000
B91: 45008 | C91: Thịt heo | D91: kg | E91: 6 | F91: 90000 | G91: 540000
C92: Tổng theo ngày | G92: 540000
B93: 45010 | C93: Thịt xay | D93: kg | E93: 6 | F93: 90000 | G93: 540000
C94: Xả xay | D94: kg | E94: 2 | F94: 20000 | G94: 30000
C95: Mắm ruốc | D95: kg | E95: 1 | F95: 40000 | G95: 40000
C96: Tổng theo ngày | G96: 610000
B97: 45013 | C97: Thịt heo | D97: kg | E97: 6 | F97: 90000 | G97: 540000
C98: Tiền nước | G98: 465000
C99: Ớt trái | D99: kg | E99: 1 | F99: 42000 | G99: 42000
C100: Tiền điện | G100: 69000
C101: Tổng theo ngày | G101: 1116000
B102: 45015 | C102: Thịt heo | D102: kg | E102: 6 | F102: 90000 | G102: 540000
C103: Hành lá | D103: kg | E103: 1 | F103: 16000 | G103: 16000
C104: Lương cô Hồng T3/2023 | D104: tháng | E104: 1 | F104: 2500000 | G104: 2500000
...

Sheet T4.2023
B1: BÁO CÁO THU CHI QUÁN CƠM 2 000đ ĐÀ LẠT
B2: THÁNG 4/2023
B3: (Kèm theo bảng chi tiết chi chợ hàng ngày)
B5: Ngày tháng | C5: Chi tiết | D5: Thu | E5: Chi | F5: Tồn | G5: Ghi chú
C6: Tồn tháng 3/2023 mang sang | F6: ='T3.2023'!F35 -> 4450252
B7: 45017 | C7: Chị Năm - Sài Gòn | D7: 2000000 | F7: =F6+D7-E7 -> 6450252 | G7: CMKTX
B8: 45017 | C8: Thu bán phiếu ngày 01/04/2023 | D8: 270000 | F8: =F7+D8-E8 -> 6720252 | G8: COM
B9: 45017 | C9: Chi phí ngày 01/04/2023 | E9: 600000 | F9: =F8+D9-E9 -> 6120252 | G9: CHI PHI
B10: 45020 | C10: Thu bán phiếu ngày 04/04/2023 | D10: 280000 | F10: =F9+D10-E10 -> 6400252 | G10: COM
B11: 45020 | C11: Chi phí ngày 04/04/2023 | E11: 570000 | F11: =F10+D11-E11 -> 5830252 | G11: CHI PHI
B12: 45022 | C12: Thu bán phiếu ngày 06/04/2023 | D12: 300000 | F12: =F11+D12-E12 -> 6130252 | G12: COM
B13: 45022 | C13: Chi phí ngày 06/04/2023 | E13: 740000 | F13: =F12+D13-E13 -> 5390252 | G13: CHI PHI
B14: 45024 | C14: Thu bán phiếu ngày 08/04/2023 | D14: 300000 | F14: =F13+D14-E14 -> 5690252 | G14: COM
B15: 45024 | C15: Chi phí ngày 08/04/2023 | E15: 740000 | F15: =F14+D15-E15 -> 4950252 | G15: CHI PHI
B16: 45027 | C16: Thu bán phiếu ngày 11/04/2023 | D16: 300000 | F16: =F15+D16-E16 -> 5250252 | G16: COM
B17: 45027 | C17: Chi phí ngày 11/04/2023 | E17: 570000 | F17: =F16+D17-E17 -> 4680252 | G17: CHI PHI
B18: 45029 | C18: Chị Cúc - Nguyễn Công Trứ | D18: 100000 | F18: =F17+D18-E18 -> 4780252 | G18: CMKTX
B19: 45029 | C19: Thu bán phiếu ngày 13/04/2023 | D19: 300000 | F19: =F18+D19-E19 -> 5080252 | G19: COM
B20: 45029 | C20: Chi phí ngày 13/04/2023 | E20: 670000 | F20: =F19+D20-E20 -> 4410252 | G20: CHI PHI
B21: 45031 | C21: Thu bán phiếu ngày 15/04/2023 | D21: 300000 | F21: =F20+D21-E21 -> 4710252 | G21: COM
B22: 45031 | C22: Chi phí ngày 15/04/2023 | E22: 655000 | F22: =F21+D22-E22 -> 4055252 | G22: CHI PHI
B23: 45034 | C23: Thu bán phiếu ngày 18/04/2023 | D23: 270000 | F23: =F22+D23-E23 -> 4325252 | G23: COM
B24: 45034 | C24: Chi phí ngày 18/04/2023 | E24: 665000 | F24: =F23+D24-E24 -> 3660252 | G24: CHI PHI
B25: 45036 | C25: Con gái - Nguyễn Thị Mẫn - Bảo Lộc | D25: 1000000 | F25: =F24+D25-E25 -> 4660252 | G25: CMKTX
B26: 45036 | C26: Thu bán phiếu ngày 20/04/2023 | D26: 300000 | F26: =F25+D26-E26 -> 4960252 | G26: COM
B27: 45036 | C27: Chi phí ngày 20/04/2023 | E27: 655000 | F27: =F26+D27-E27 -> 4305252 | G27: CHI PHI
B28: 45038 | C28: Chị Le Thi Phuong Anh ủng hộ KTX | D28: 1000000 | F28: =F27+D28-E28 -> 5305252 | G28: CMKTX
B29: 45038 | C29: Thu bán phiếu ngày 22/04/2023 | D29: 290000 | F29: =F28+D29-E29 -> 5595252 | G29: COM
B30: 45038 | C30: Chi phí ngày 22/04/2023 | E30: 857000 | F30: =F29+D30-E30 -> 4738252 | G30: CHI PHI
B31: 45040 | C31: Quỹ cơm Saigon hỗ trợ kinh phí hoạt động | D31: 30000000 | F31: =F30+D31-E31 -> 34738252 | G31: HO TRO
B32: 45041 | C32: Thu bán phiếu ngày 25/04/2023 | D32: 320000 | F32: =F31+D32-E32 -> 35058252 | G32: COM
B33: 45041 | C33: Chi phí ngày 25/04/2023 | E33: 1145000 | F33: =F32+D33-E33 -> 33913252 | G33: CHI PHI
B34: 45043 | C34: Thu bán phiếu ngày 27/04/2023 | D34: 290000 | F34: =F33+D34-E34 -> 34203252 | G34: COM
B35: 45043 | C35: Chi phí ngày 27/04/2023 | E35: 849000 | F35: =F34+D35-E35 -> 33354252 | G35: CHI PHI
B36: 45045 | C36: MTQ Ẩn danh | D36: 200000 | F36: =F35+D36-E36 -> 33554252 | G36: CMKTX
B37: 45045 | C37: Thu bán phiếu ngày 29/04/2023 | D37: 280000 | F37: =F36+D37-E37 -> 33834252 | G37: COM
B38: 45045 | C38: Chi phí ngày 29/04/2023 | E38: 4665000 | F38: =F37+D38-E38 -> 29169252 | G38: CHI PHI
C39: Cộng | D39: =SUM(D7:D38) -> 38100000 | E39: =SUM(E7:E38) -> 13381000 | F39: =F6+D39-E39 -> 29169252
B42: Chi tiết | D42: Thu | E42: Chi | F42: Tồn
B43: * Tồn đầu kì | F43: =F6 -> 4450252
B44: CMTX | D44: =SUMIF(G7:G38,"CMTX",D7:D38) -> 0
B45: CMKTX | D45: =SUMIF(G7:G38,"CMKTX",D7:D38) -> 4300000
B46: Hỗ trợ | D46: =SUMIF(G7:G38,"HO TRO",D7:D38) -> 30000000
B47: Tiền bán phiếu | C47: =D47/2000 -> 1900 | D47: =SUMIF(G7:G38,"COM",D7:D38) -> 3800000
B48: Tổng chi phí | E48: =E39 -> 13381000
B49: * Tồn quỹ tháng 4/2023 | D49: =SUM(D44:D48) -> 38100000 | E49: =SUM(E44:E48) -> 13381000 | F49: =F43+D49-E49 -> 29169252
B51: TỔNG HỢP CHI PHÍ THEO NGÀY
B52: =B2 -> THÁNG 4/2023
G53: ĐVT: VNĐ
B54: Ngày | C54: Diễn giải | D54: ĐVT | E54: Khối lượng | F54: Đơn giá | G54: Thành Tiền
B55: 45383 | C55: Thịt heo | D55: kg | E55: 6 | F55: 85000 | G55: 510000
C56: Chuối | D56: kg | E56: 12 | F56: 5000 | G56: 60000
C57: Nước uống | D57: bình | E57: 2 | F57: 15000 | G57: 30000
B58: Tổng theo ngày | G58: =SUM(G55:G57) -> 600000
B59: 45386 | C59: Thịt xay | D59: kg | E59: 6 | F59: 85000 | G59: 510000
C60: Chuối | D60: kg | E60: 12 | F60: 5000 | G60: 60000
B61: Tổng theo ngày | G61: =SUM(G59:G60) -> 570000
B62: 45388 | C62: Chả cá | D62: kg | E62: 8 | F62: 85000 | G62: 680000
C63: Chuối | D63: kg | E63: 12 | F63: 5000 | G63: 60000
B64: Tổng theo ngày | G64: =SUM(G62:G63) -> 740000
B65: 45024 | C65: Thịt heo | D65: kg | E65: 6 | F65: 85000 | G65: 510000
C66: Thịt xay | D66: kg | E66: 2 | F66: 85000 | G66: 170000
C67: Chuối | D67: kg | E67: 12 | F67: 5000 | G67: 60000
B68: Tổng theo ngày | G68: =SUM(G65:G67) -> 740000
B69: 45027 | C69: Thịt heo | D69: kg | E69: 6 | F69: 85000 | G69: 510000
C70: Chuối | D70: kg | E70: 12 | F70: 5000 | G70: 60000
B71: Tổng theo ngày | G71: =SUM(G69:G70) -> 570000
B72: 45029 | C72: Thịt heo | D72: kg | E72: 7 | F72: 85000 | G72: 595000
C73: Hành lá | D73: kg | E73: 1 | F73: 15000 | G73: 15000
C74: Chuối | D74: kg | E74: 12 | F74: 5000 | G74: 60000
B75: Tổng theo ngày | G75: =SUM(G72:G74) -> 670000
B76: 45031 | C76: Thịt heo | D76: kg | E76: 7 | F76: 85000 | G76: 595000
C77: Chuối | D77: kg | E77: 12 | F77: 5000 | G77: 60000
B78: Tổng theo ngày | G78: =SUM(G76:G77) -> 655000
B79: 45034 | C79: Thịt đùi | D79: kg | E79: 7 | F79: 85000 | G79: 595000
C80: Chuối | D80: kg | E80: 14 | F80: 5000 | G80: 70000
B81: Tổng theo ngày | G81: =SUM(G79:G80) -> 665000
B82: 45036 | C82: Thịt đùi | D82: kg | E82: 7 | F82: 85000 | G82: 595000
C83: Chuối | D83: kg | E83: 12 | F83: 5000 | G83: 60000
B84: Tổng theo ngày | G84: =SUM(G82:G83) -> 655000
B85: 45038 | C85: Thịt đùi | D85: kg | E85: 7 | F85: 85000 | G85: 595000
C86: Thịt xay | D86: kg | E86: 2 | F86: 85000 | G86: 170000
C87: Hành lá | D87: kg | E87: 1 | F87: 22000 | G87: 22000
C88: Chuối | D88: kg | E88: 14 | F88: 5000 | G88: 70000
B89: Tổng theo ngày | G89: =SUM(G85:G88) -> 857000
B90: 45041 | C90: Chả chiên | D90: kg | E90: 8 | F90: 100000 | G90: 800000
C91: Tiền nước | G91: 275000
C92: Chuối | D92: kg | E92: 14 | F92: 5000 | G92: 70000
B93: Tổng theo ngày | G93: =SUM(G90:G92) -> 1145000
B94: 45043 | C94: Thịt xay | D94: kg | E94: 6 | F94: 85000 | G94: 510000
C95: Tiền điện | G95: 119000
C96: Chuối | D96: kg | E96: 14 | F96: 5000 | G96: 70000
C97: Đậu khuôn | D97: miếng | E97: 150 | F97: 1000 | G97: 150000
B98: Tổng theo ngày | G98: =SUM(G94:G97) -> 849000
B99: 45045 | C99: Chả cá | D99: kg | E99: 7 | F99: 85000 | G99: 595000
C100: Chuối | D100: kg | E100: 14 | F100: 5000 | G100: 70000
C101: Lương cô Hồng T4/2023 | D101: tháng | E101: 1 | F101: 2500000 | G101: 2500000
C102: Lương phụ bếp ( chị Minh Ngọc) T4/2023 | D102: tháng | E102: 1 | F102: 1500000 | G102: 1500000
B103: Tổng theo ngày | G103: =SUM(G99:G102) -> 4665000
B104: Tổng | G104: =SUM(G103,G98,G93,G89,G84,G81,G78,G75,G71,G68,G64,G61,G58) -> 13381000

Sheet T5.2023
B1: BÁO CÁO THU CHI QUÁN CƠM 2 000đ ĐÀ LẠT
B2: THÁNG 5/2023
B3: (Kèm theo bảng chi tiết chi chợ hàng ngày)
B5: Ngày tháng | C5: Chi tiết | D5: Thu | E5: Chi | F5: Tồn | G5: Ghi chú
C6: Tồn tháng 4/2023 mang sang | F6: ='T4.2023'!F39 -> 29169252
B7: 45048 | C7: Chi phí ngày 02/05/2023 | E7: 790000 | F7: =F6+D7-E7 -> 28379252 | G7: CHI PHI
B8: 45048 | C8: Thu bán phiếu ngày 02/05/2023 | D8: 260000 | F8: =F7+D8-E8 -> 28639252 | G8: COM
B9: 45050 | C9: Chi phí ngày 04/05/2023 | E9: 770000 | F9: =F8+D9-E9 -> 27869252 | G9: CHI PHI
B10: 45050 | C10: Cựu sinh viên Đà Lạt | D10: 1000000 | F10: =F9+D10-E10 -> 28869252 | G10: CMKTX
B11: 45050 | C11: Chị Thanh Đức, Đà Lạt | D11: 100000 | F11: =F10+D11-E11 -> 28969252 | G11: CMKTX
B12: 45050 | C12: Thu bán phiếu ngày 04/05/2023 | D12: 290000 | F12: =F11+D12-E12 -> 29259252 | G12: COM
B13: 45052 | C13: Chi phí ngày 06/05/2023 | E13: 665000 | F13: =F12+D13-E13 -> 28594252 | G13: CHI PHI
B14: 45052 | C14: Thu bán phiếu ngày 06/05/2023 | D14: 310000 | F14: =F13+D14-E14 -> 28904252 | G14: COM
B15: 45055 | C15: Chi phí ngày 09/05/2023 | E15: 755000 | F15: =F14+D15-E15 -> 28149252 | G15: CHI PHI
B16: 45055 | C16: Thu bán phiếu ngày 09/05/2023 | D16: 310000 | F16: =F15+D16-E16 -> 28459252 | G16: COM
B17: 45057 | C17: Chi phí ngày 11/05/2023 | E17: 1082000 | F17: =F16+D17-E17 -> 27377252 | G17: CHI PHI
B18: 45057 | C18: Thu bán phiếu ngày 11/05/2023 | D18: 320000 | F18: =F17+D18-E18 -> 27697252 | G18: COM
B19: 45059 | C19: Chi phí ngày 13/05/2023 | E19: 1026000 | F19: =F18+D19-E19 -> 26671252 | G19: CHI PHI
B20: 45059 | C20: Thu bán phiếu ngày 13/05/2023 | D20: 330000 | F20: =F19+D20-E20 -> 27001252 | G20: COM
B21: 45062 | C21: Chi phí ngày 16/05/2023 | E21: 733000 | F21: =F20+D21-E21 -> 26268252 | G21: CHI PHI
B22: 45062 | C22: Thu bán phiếu ngày 16/05/2023 | D22: 310000 | F22: =F21+D22-E22 -> 26578252 | G22: COM
B23: 45064 | C23: Chi phí ngày 18/05/2023 | E23: 665000 | F23: =F22+D23-E23 -> 25913252 | G23: CHI PHI
B24: 45064 | C24: Thu bán phiếu ngày 18/05/2023 | D24: 320000 | F24: =F23+D24-E24 -> 26233252 | G24: COM
B25: 45066 | C25: Chi phí ngày 20/05/2023 | E25: 665000 | F25: =F24+D25-E25 -> 25568252 | G25: CHI PHI
B26: 45066 | C26: Thu bán phiếu ngày 20/05/2023 | D26: 310000 | F26: =F25+D26-E26 -> 25878252 | G26: COM
B27: 45069 | C27: Chi phí ngày 23/05/2023 | E27: 875000 | F27: =F26+D27-E27 -> 25003252 | G27: CHI PHI
B28: 45069 | C28: Anh Nguyễn Tài, Hoàng Hoa Thám | D28: 1000000 | F28: =F27+D28-E28 -> 26003252 | G28: CMKTX
B29: 45069 | C29: Thu bán phiếu ngày 23/05/2023 | D29: 270000 | F29: =F28+D29-E29 -> 26273252 | G29: COM
B30: 45071 | C30: Chi phí ngày 25/05/2023 | E30: 815000 | F30: =F29+D30-E30 -> 25458252 | G30: CHI PHI
B31: 45071 | C31: Thu bán phiếu ngày 25/05/2023 | D31: 320000 | F31: =F30+D31-E31 -> 25778252 | G31: COM
B32: 45073 | C32: Chi phí ngày 27/05/2023 | E32: 750000 | F32: =F31+D32-E32 -> 25028252 | G32: CHI PHI
B33: 45073 | C33: Thu bán phiếu ngày 27/05/2023 | D33: 320000 | F33: =F32+D33-E33 -> 25348252 | G33: COM
B34: 45076 | C34: Chi phí ngày 30/05/2023 | E34: 4962000 | F34: =F33+D34-E34 -> 20386252 | G34: CHI PHI
B35: 45076 | C35: Thu bán phiếu ngày 30/05/2023 | D35: 310000 | F35: =F34+D35-E35 -> 20696252 | G35: COM
C36: Cộng | D36: =SUM(D7:D35) -> 6080000 | E36: =SUM(E7:E35) -> 14553000 | F36: =F6+D36-E36 -> 20696252
B39: Chi tiết | D39: Thu | E39: Chi | F39: Tồn
B40: * Tồn đầu kì | F40: =F6 -> 29169252
B41: CMTX | D41: =SUMIF(G7:G35,"CMTX",D7:D35) -> 0
B42: CMKTX | D42: =SUMIF(G7:G35,"CMKTX",D7:D35) -> 2100000
B43: Hỗ trợ | D43: =SUMIF(G7:G35,"HO TRO",D7:D35) -> 0
B44: Tiền bán phiếu | C44: =D44/2000 -> 1990 | D44: =SUMIF(G7:G35,"COM",D7:D35) -> 3980000
B45: Tổng chi phí | E45: =E36 -> 14553000
B46: * Tồn quỹ tháng 5/2023 | D46: =SUM(D41:D45) -> 6080000 | E46: =SUM(E41:E45) -> 14553000 | F46: =F40+D46-E46 -> 20696252
B48: TỔNG HỢP CHI PHÍ THEO NGÀY
B49: =B2 -> THÁNG 5/2023
G50: ĐVT: VNĐ
B51: Ngày | C51: Diễn giải | D51: ĐVT | E51: Khối lượng | F51: Đơn giá | G51: Thành Tiền
B52: 45048 | C52: Thịt gà | D52: kg | E52: 18 | F52: 40000 | G52: 720000
C53: Chuối | D53: kg | E53: 14 | F53: 5000 | G53: 70000
C54: Tổng theo ngày | G54: =SUM(G52:G53) -> 790000
B55: 45050 | C55: Chả chiên | D55: kg | E55: 7 | F55: 100000 | G55: 700000
C56: Chuối | D56: kg | E56: 14 | F56: 5000 | G56: 70000
C57: Tổng theo ngày | G57: =SUM(G55:G56) -> 770000
B58: 45052 | C58: Chả cá | D58: kg | E58: 7 | F58: 85000 | G58: 595000
C59: Chuối | D59: kg | E59: 14 | F59: 5000 | G59: 70000
C60: Tổng theo ngày | G60: =SUM(G58:G59) -> 665000
B61: 45055 | C61: Thịt xay | D61: kg | E61: 7 | F61: 85000 | G61: 595000
C62: Mắm ruốc | D62: kg | E62: 1 | F62: 40000 | G62: 40000
C63: Sả | D63: kg | E63: 1.5 | F63: 20000 | G63: 30000
C64: Hành lá | D64: kg | E64: 1 | F64: 20000 | G64: 20000
C65: Chuối | D65: kg | E65: 14 | F65: 5000 | G65: 70000
C66: Tổng theo ngày | G66: =SUM(G61:G65) -> 755000
B67: 45057 | C67: Thịt xay | D67: kg | E67: 6 | F67: 85000 | G67: 510000
C68: Đậu khuôn | D68: miếng | E68: 150 | F68: 1000 | G68: 150000
C69: Tiền điện thoại 2 tháng | G69: 352000
C70: Chuối | D70: kg | E70: 14 | F70: 5000 | G70: 70000
C71: Tổng theo ngày | G71: =SUM(G67:G70) -> 1082000
B72: 45059 | C72: Thịt xay | D72: kg | E72: 7 | F72: 85000 | G72: 595000
C73: Tiền nước | G73: 361000
C74: Chuối | D74: kg | E74: 14 | F74: 5000 | G74: 70000
C75: Tổng theo ngày | G75: =SUM(G72:G74) -> 1026000
B76: 45062 | C76: Thịt heo | D76: kg | E76: 7 | F76: 85000 | G76: 595000
C77: Hành lá | D77: kg | E77: 1 | F77: 28000 | G77: 28000
C78: Tỏi | D78: kg | E78: 1 | F78: 40000 | G78: 40000
C79: Chuối | D79: kg | E79: 14 | F79: 5000 | G79: 70000
C80: Tổng theo ngày | G80: =SUM(G76:G79) -> 733000
B81: 45064 | C81: Thịt đùi | D81: kg | E81: 7 | F81: 85000 | G81: 595000
C82: Chuối | D82: kg | E82: 14 | F82: 5000 | G82: 70000
C83: Tổng theo ngày | G83: =SUM(G81:G82) -> 665000
B84: 45066 | C84: Thịt đùi | D84: kg | E84: 7 | F84: 85000 | G84: 595000
C85: Chuối | D85: kg | E85: 14 | F85: 5000 | G85: 70000
C86: Tổng theo ngày | G86: =SUM(G84:G85) -> 665000
B87: 45069 | C87: Cá nục | D87: kg | E87: 13 | F87: 50000 | G87: 650000
C88: Nước uống | D88: bình | E88: 1 | F88: 15000 | G88: 15000
C89: Giấy ăn | D89: cây | E89: 1 | F89: 140000 | G89: 140000
C90: Chuối | D90: kg | E90: 14 | F90: 5000 | G90: 70000
C91: Tổng theo ngày | G91: =SUM(G87:G90) -> 875000
B92: 45071 | C92: Thịt gà | D92: kg | E92: 18 | F92: 40000 | G92: 720000
C93: Hành lá | D93: kg | E93: 1 | F93: 25000 | G93: 25000
C94: Chuối | D94: kg | E94: 14 | F94: 5000 | G94: 70000
C95: Tổng theo ngày | G95: =SUM(G92:G94) -> 815000
B96: 45073 | C96: Chả cá | D96: kg | E96: 8 | F96: 85000 | G96: 680000
C97: Chuối | D97: kg | E97: 14 | F97: 5000 | G97: 70000
C98: Tổng theo ngày | G98: =SUM(G96:G97) -> 750000
B99: 45076 | C99: Chả chiên | D99: kg | E99: 8 | F99: 100000 | G99: 800000
C100: Chuối | D100: kg | E100: 14 | F100: 5000 | G100: 70000
C101: Tiền điện | G101: 92000
C102: Lương cô Hồng T5/2023 | D102: tháng | E102: 1 | F102: 2500000 | G102: 2500000
C103: Lương phụ bếp ( chị Minh Ngọc) T5/2023 | D103: tháng | E103: 1 | F103: 1500000 | G103: 1500000
C104: Tổng theo ngày | G104: =SUM(G99:G103) -> 4962000
...

Sheet T6,7.2023 va T1.24
B1: BÁO CÁO THU CHI QUÁN CƠM 2 000đ ĐÀ LẠT
B2: THÁNG 6,7/2023 đến hết THÁNG 1/2024
B3: (Kèm theo bảng chi tiết chi chợ hàng ngày)
B5: Ngày tháng | C5: Chi tiết | D5: Thu | E5: Chi | F5: Tồn | G5: Ghi chú
C6: Tồn tháng 5/2023 mang sang | F6: ='T5.2023'!F36 -> 20696252
B7: 45078 | C7: Thu bán phiếu ngày 01/06/2023 | D7: 280000 | F7: =F6+D7-E7 -> 20976252 | G7: COM
B8: 45078 | C8: Chi phí ngày 01/06/2023 | E8: 665000 | F8: =F7+D8-E8 -> 20311252 | G8: CHI PHI
B9: 45080 | C9: Thu bán phiếu ngày 03/06/2023 | D9: 310000 | F9: =F8+D9-E9 -> 20621252 | G9: COM
B10: 45080 | C10: Chi phí ngày 03/06/2023 | E10: 857000 | F10: =F9+D10-E10 -> 19764252 | G10: CHI PHI
B11: 45083 | C11: Thu bán phiếu ngày 06/06/2023 | D11: 292000 | F11: =F10+D11-E11 -> 20056252 | G11: COM
B12: 45083 | C12: Chi phí ngày 06/06/2023 | E12: 850000 | F12: =F11+D12-E12 -> 19206252 | G12: CHI PHI
B13: 45085 | C13: Thu bán phiếu ngày 08/06/2023 | D13: 340000 | F13: =F12+D13-E13 -> 19546252 | G13: COM
B14: 45085 | C14: Chi phí ngày 08/06/2023 | E14: 881000 | F14: =F13+D14-E14 -> 18665252 | G14: CHI PHI
B15: 45087 | C15: Thu bán phiếu ngày 10/06/2023 | D15: 320000 | F15: =F14+D15-E15 -> 18985252 | G15: COM
B16: 45087 | C16: Chi phí ngày 10/06/2023 | E16: 1076000 | F16: =F15+D16-E16 -> 17909252 | G16: CHI PHI
B17: 45090 | C17: Thu bán phiếu ngày 13/06/2023 | D17: 290000 | F17: =F16+D17-E17 -> 18199252 | G17: COM
B18: 45090 | C18: Chi phí ngày 13/06/2023 | E18: 905000 | F18: =F17+D18-E18 -> 17294252 | G18: CHI PHI
B19: 45092 | C19: Thu bán phiếu ngày 15/06/2023 | D19: 300000 | F19: =F18+D19-E19 -> 17594252 | G19: COM
B20: 45092 | C20: Chi phí ngày 15/06/2023 | E20: 720000 | F20: =F19+D20-E20 -> 16874252 | G20: CHI PHI
B21: 45094 | C21: Thu bán phiếu ngày 17/06/2023 | D21: 300000 | F21: =F20+D21-E21 -> 17174252 | G21: COM
B22: 45094 | C22: Chi phí ngày 17/06/2023 | E22: 700000 | F22: =F21+D22-E22 -> 16474252 | G22: CHI PHI
B23: 45097 | C23: Thu bán phiếu ngày 20/06/2023 | D23: 310000 | F23: =F22+D23-E23 -> 16784252 | G23: COM
B24: 45097 | C24: Chi phí ngày 20/06/2023 | E24: 246000 | F24: =F23+D24-E24 -> 16538252 | G24: CHI PHI
B25: 45099 | C25: Thu bán phiếu ngày 22/06/2023 | D25: 300000 | F25: =F24+D25-E25 -> 16838252 | G25: COM
B26: 45099 | C26: Chi phí ngày 22/06/2023 | E26: 743000 | F26: =F25+D26-E26 -> 16095252 | G26: CHI PHI
B27: 45101 | C27: Thu bán phiếu ngày 24/06/2023 | D27: 320000 | F27: =F26+D27-E27 -> 16415252 | G27: COM
B28: 45101 | C28: Chi phí ngày 24/06/2023 | E28: 1076000 | F28: =F27+D28-E28 -> 15339252 | G28: CHI PHI
B29: 45104 | C29: Thu bán phiếu ngày 27/06/2023 | D29: 300000 | F29: =F28+D29-E29 -> 15639252 | G29: COM
B30: 45104 | C30: Chi phí ngày 27/06/2023 | E30: 753000 | F30: =F29+D30-E30 -> 14886252 | G30: CHI PHI
B31: 45106 | C31: Thu bán phiếu ngày 29/06/2023 | D31: 330000 | F31: =F30+D31-E31 -> 15216252 | G31: COM
B32: 45106 | C32: Chi phí ngày 29/06/2023 | E32: 70000 | F32: =F31+D32-E32 -> 15146252 | G32: CHI PHI
B33: 45106 | C33: Cựu sinh viên Đà Lạt | D33: 500000 | F33: =F32+D33-E33 -> 15646252 | G33: CMKTX
B34: 45107 | C34: Chị Thắm khu Dã Chiến | D34: 500000 | F34: =F33+D34-E34 -> 16146252 | G34: CMKTX
B35: 45108 | C35: Thu bán phiếu ngày 01/07/2023 | D35: 310000 | F35: =F34+D35-E35 -> 16456252 | G35: COM
B36: 45108 | C36: Chi phí ngày 01/07/2023 | E36: 1046000 | F36: =F35+D36-E36 -> 15410252 | G36: CHI PHI
B37: 45111 | C37: Thu bán phiếu ngày 04/06/2023 | D37: 360000 | F37: =F36+D37-E37 -> 15770252 | G37: COM
B38: 45111 | C38: Chi phí ngày 04/07/2023 | E38: 4410000 | F38: =F37+D38-E38 -> 11360252 | G38: CHI PHI
B39: 45138 | C39: Chi phí ngày 31/07/2023 | E39: 4352000 | F39: =F38+D39-E39 -> 7008252 | G39: CHI PHI
B40: 45320 | C40: Chi lương T13/2023 | E40: 6500000 | F40: =F39+D40-E40 -> 508252 | G40: CHI PHI
C41: Cộng | D41: =SUM(D7:D40) -> 5662000 | E41: =SUM(E7:E40) -> 25850000 | F41: =F6+D41-E41 -> 508252
B44: Chi tiết | D44: Thu | E44: Chi | F44: Tồn
B45: * Tồn đầu kì | F45: =F6 -> 20696252
B46: CMTX | D46: =SUMIF(G7:G40,"CMTX",D7:D40) -> 0
B47: CMKTX | D47: =SUMIF(G7:G40,"CMKTX",D7:D40) -> 1000000
B48: Hỗ trợ | D48: =SUMIF(G7:G40,"HO TRO",D7:D40) -> 0
B49: Tiền bán phiếu | C49: =D49/2000 -> 2331 | D49: =SUMIF(G7:G40,"COM",D7:D40) -> 4662000
B50: Tổng chi phí | E50: =E41 -> 25850000
B51: * Tồn quỹ tháng 1/2024 | D51: =SUM(D46:D50) -> 5662000 | E51: =SUM(E46:E50) -> 25850000 | F51: =F45+D51-E51 -> 508252
B53: TỔNG HỢP CHI PHÍ THEO NGÀY
B54: =B2 -> THÁNG 6,7/2023 đến hết THÁNG 1/2024
G55: ĐVT: VNĐ
B56: Ngày | C56: Diễn giải | D56: ĐVT | E56: Khối lượng | F56: Đơn giá | G56: Thành Tiền
B57: 44932 | C57: Thịt heo | D57: kg | E57: 7 | F57: 85000 | G57: 595000
C58: Chuối | D58: kg | E58: 14 | F58: 5000 | G58: 70000
C59: Tổng theo ngày | G59: =SUM(G57:G58) -> 665000
B60: 44991 | C60: Thịt xay | D60: kg | E60: 7 | F60: 85000 | G60: 595000
C61: Đậu khuôn | D61: miếng | E61: 150 | F61: 1000 | G61: 150000
C62: Hành lá | D62: kg | E62: 1 | F62: 27000 | G62: 27000
C63: Nước uống | D63: bình | E63: 1 | F63: 15000 | G63: 15000
C64: Chuối | D64: kg | E64: 14 | F64: 5000 | G64: 70000
C65: Tổng theo ngày | G65: =SUM(G60:G64) -> 857000
B66: 45083 | C66: Chả chiên | D66: kg | E66: 8 | F66: 100000 | G66: 800000
C67: Rau muống | D67: bó | E67: 5 | F67: 10000 | G67: 50000
C68: Tổng theo ngày | G68: =SUM(G66:G67) -> 850000
B69: 45144 | C69: Thịt gà | D69: kg | E69: 18 | F69: 42000 | G69: 756000
C70: Rau muống | D70: bó | E70: 5 | F70: 11000 | G70: 55000
C71: Chuối | D71: kg | E71: 14 | F71: 5000 | G71: 70000
C72: Tổng theo ngày | G72: =SUM(G69:G71) -> 881000
B73: 45205 | C73: Thịt xay | D73: kg | E73: 7 | F73: 85000 | G73: 595000
C74: Mắm ruốc | D74: kg | E74: 1 | F74: 40000 | G74: 40000
C75: Xả xay | D75: kg | E75: 2 | G75: 35000
C76: Chuối | D76: kg | E76: 14 | F76: 5000 | G76: 70000
C77: Tiền nước | G77: 293000
C78: Bí đỏ | D78: kg | E78: 4.3 | F78: 10000 | G78: 43000
C79: Tổng theo ngày | G79: =SUM(G73:G78) -> 1076000
B80: 45090 | C80: Thịt heo | D80: kg | E80: 7 | F80: 85000 | G80: 595000
C81: Dưa cải | D81: kg | E81: 13 | G81: 200000
C82: Hành lá | D82: kg | E82: 1 | F82: 25000 | G82: 25000
C83: Nước uống | D83: bình | E83: 1 | F83: 15000 | G83: 15000
C84: Chuối | D84: kg | E84: 14 | F84: 5000 | G84: 70000
C85: Tổng theo ngày | G85: =SUM(G80:G84) -> 905000
B86: 45092 | C86: Cá nục | D86: kg | E86: 13 | F86: 50000 | G86: 650000
C87: Chuối | D87: kg | E87: 14 | F87: 5000 | G87: 70000
C88: Tổng theo ngày | G88: =SUM(G86:G87) -> 720000
B89: 45094 | C89: Chả cá | D89: kg | E89: 7 | F89: 100000 | G89: 700000
C90: Tổng theo ngày | G90: =SUM(G89) -> 700000
B91: 45097 | C91: Tiền điện thoại | G91: 176000
C92: Chuối | D92: kg | E92: 14 | F92: 5000 | G92: 70000
C93: Tổng theo ngày | G93: =SUM(G91:G92) -> 246000
B94: 45099 | C94: Thịt đùi | D94: kg | E94: 7 | F94: 85000 | G94: 595000
C95: Tiền điện | G95: 78000
C96: Chuối | D96: kg | E96: 14 | F96: 5000 | G96: 70000
C97: Tổng theo ngày | G97: =SUM(G94:G96) -> 743000
B98: 45101 | C98: Thịt heo | D98: kg | E98: 7 | F98: 85000 | G98: 595000
C99: Rau muống | D99: kg | E99: 6 | F99: 11000 | G99: 66000
C100: Nước uống | D100: bình | E100: 1 | F100: 15000 | G100: 15000
C101: Bảng thông báo | G101: 400000
C102: Tổng theo ngày | G102: =SUM(G98:G101) -> 1076000
B103: 45104 | C103: Thịt heo | D103: kg | E103: 7 | F103: 85000 | G103: 595000
C104: Rau muống | D104: kg | E104: 8 | F104: 11000 | G104: 88000
...
