Workbook

Sheet T7.2023
A2: BÁO CÁO QUỸ NỒI CHÁO HUẾ - A LƯỚI THÁNG 7/2023
A4: NGÀY | B4: DIỄN GIẢI | C4: THU | E4: CHI | F4: TỒN
C5: CMTX | D5: CMKTX
A6: Tồn đầu tháng 07/2023 | F6: 5998000
A7: 45109 | B7: Mua thịt heo | E7: 300000 | F7: =F6+C7+D7-E7 -> 5698000
A8: 45109 | B8: Mua khoai tây | E8: 37000 | F8: =F7+C8+D8-E8 -> 5661000
A9: 45109 | B9: Mua cà rốt | E9: 46000 | F9: =F8+C9+D9-E9 -> 5615000
A10: 45109 | B10: Mua bí đỏ | E10: 45000 | F10: =F9+C10+D10-E10 -> 5570000
A11: 45109 | B11: Mua củ hành | E11: 10000 | F11: =F10+C11+D11-E11 -> 5560000
A12: 45109 | B12: Mua đậu cove | E12: 30000 | F12: =F11+C12+D12-E12 -> 5530000
A13: 45109 | B13: Mua hành tây | E13: 13000 | F13: =F12+C13+D13-E13 -> 5517000
A14: 45109 | B14: Mua ớt | E14: 6000 | F14: =F13+C14+D14-E14 -> 5511000
A15: 45109 | B15: Mua hành | E15: 12000 | F15: =F14+C15+D15-E15 -> 5499000
A16: 45109 | B16: Mua mồng tơi | E16: 20000 | F16: =F15+C16+D16-E16 -> 5479000
A17: 45109 | B17: Mua đậu khuôn | E17: 10000 | F17: =F16+C17+D17-E17 -> 5469000
A18: 45112 | B18: Đồng nghiệp USG CMTX T7 | C18: 1500000 | F18: =F17+C18+D18-E18 -> 6969000
A19: 45116 | B19: Mua thịt heo | E19: 200000 | F19: =F18+C19+D19-E19 -> 6769000
A20: 45116 | B20: Mua tiêu | E20: 5000 | F20: =F19+C20+D20-E20 -> 6764000
A21: 45116 | B21: Mua nước mắm | E21: 18000 | F21: =F20+C21+D21-E21 -> 6746000
A22: 45116 | B22: Mua hành lá | E22: 10000 | F22: =F21+C22+D22-E22 -> 6736000
A23: 45116 | B23: Mua hành tây | E23: 10000 | F23: =F22+C23+D23-E23 -> 6726000
A24: 45116 | B24: Mua củ hành | E24: 5000 | F24: =F23+C24+D24-E24 -> 6721000
A25: 45116 | B25: Mua đậu cove | E25: 20000 | F25: =F24+C25+D25-E25 -> 6701000
A26: 45116 | B26: Mua khoai tây | E26: 25000 | F26: =F25+C26+D26-E26 -> 6676000
A27: 45116 | B27: Mua cà rốt | E27: 30000 | F27: =F26+C27+D27-E27 -> 6646000
A28: 45116 | B28: Mua bí đỏ | E28: 30000 | F28: =F27+C28+D28-E28 -> 6616000
A29: 45116 | B29: Mua ớt | E29: 5000 | F29: =F28+C29+D29-E29 -> 6611000
A30: 45116 | B30: Mua đậu khuôn | E30: 10000 | F30: =F29+C30+D30-E30 -> 6601000
A31: 45116 | B31: Mua mồng tơi | E31: 10000 | F31: =F30+C31+D31-E31 -> 6591000
A32: 45116 | B32: Anh(chị) AY CMTX T7 | C32: 400000 | F32: =F31+C32+D32-E32 -> 6991000
A33: 45121 | B33: Cô Hồng CMTX T7,8,9/2023 | C33: 600000 | F33: =F32+C33+D33-E33 -> 7591000
A34: 45123 | B34: Mua thịt heo | E34: 300000 | F34: =F33+C34+D34-E34 -> 7291000
A35: 45123 | B35: Mua khoai tây | E35: 37000 | F35: =F34+C35+D35-E35 -> 7254000
A36: 45123 | B36: Mua cà rốt | E36: 46000 | F36: =F35+C36+D36-E36 -> 7208000
A37: 45123 | B37: Mua mồng tơi | E37: 20000 | F37: =F36+C37+D37-E37 -> 7188000
A38: 45123 | B38: Mua đậu cove | E38: 20000 | F38: =F37+C38+D38-E38 -> 7168000
A39: 45123 | B39: Mua ớt | E39: 5000 | F39: =F38+C39+D39-E39 -> 7163000
A40: 45123 | B40: Mua hành lá | E40: 10000 | F40: =F39+C40+D40-E40 -> 7153000
A41: 45123 | B41: Mua hành củ | E41: 6000 | F41: =F40+C41+D41-E41 -> 7147000
A42: 45123 | B42: Mua bí đỏ | E42: 45000 | F42: =F41+C42+D42-E42 -> 7102000
...

Sheet T8.2023
A2: BÁO CÁO QUỸ NỒI CHÁO HUẾ - A LƯỚI THÁNG 8/2023
A4: NGÀY | B4: DIỄN GIẢI | C4: THU | E4: CHI | F4: TỒN
C5: CMTX | D5: CMKTX
A6: Tồn đầu tháng 08/2023 | F6: ='T7.2023'!C75 -> 6583000
A7: 45140 | B7: Đồng nghiệp USG CMTX T8 | C7: 800000 | F7: =F6+C7+D7-E7 -> 7383000
A8: 45143 | B8: Anh TLC ủng hộ KTX | D8: 510000 | F8: =F7+C8+D8-E8 -> 7893000
A9: 45144 | B9: Mua thịt heo | E9: 300000 | F9: =F8+C9+D9-E9 -> 7593000
A10: 45144 | B10: Mua hành củ | E10: 10000 | F10: =F9+C10+D10-E10 -> 7583000
A11: 45144 | B11: Mua đậu ve | E11: 30000 | F11: =F10+C11+D11-E11 -> 7553000
A12: 45144 | B12: Mua hành tây | E12: 13000 | F12: =F11+C12+D12-E12 -> 7540000
A13: 45144 | B13: Mua bí đỏ | E13: 48000 | F13: =F12+C13+D13-E13 -> 7492000
A14: 45144 | B14: Mua cà rốt | E14: 46000 | F14: =F13+C14+D14-E14 -> 7446000
A15: 45144 | B15: Mua hành lá | E15: 12000 | F15: =F14+C15+D15-E15 -> 7434000
A16: 45144 | B16: Mua mồng tơi | E16: 20000 | F16: =F15+C16+D16-E16 -> 7414000
A17: 45144 | B17: Mua ớt | E17: 5000 | F17: =F16+C17+D17-E17 -> 7409000
A18: 45144 | B18: Mua khuôn đậu | E18: 10000 | F18: =F17+C18+D18-E18 -> 7399000
A19: 45144 | B19: Mua khoai tây | E19: 37000 | F19: =F18+C19+D19-E19 -> 7362000
A20: 45144 | B20: Mua mì chính | E20: 23000 | F20: =F19+C20+D20-E20 -> 7339000
... A61: 45165 | B61: Mua bình gas | E61: 360000 | F61: =F60+C61+D61-E61 -> 5070000
A62: 45166 | B62: Bạn Thu Nhi và bạn CMTX T8 | C62: 400000 | F62: =F61+C62+D62-E62 -> 5470000
A63: Tồng cộng | C63: =SUM(C7:C62) -> 1200000 | D63: =SUM(D7:D62) -> 510000 | E63: =SUM(E7:E62) -> 2823000 | F63: =F6+C63+D63-E63 -> 5470000
A64: Tồn cuối tháng 07/2023 | C64: =F6+C63+D63-E63 -> 5470000

Sheet T9.2023
A2: BÁO CÁO QUỸ NỒI CHÁO HUẾ - A LƯỚI THÁNG 9/2023
A4: NGÀY | B4: DIỄN GIẢI | C4: THU | E4: CHI | F4: TỒN
C5: CMTX | D5: CMKTX
A6: Tồn đầu tháng 09/2023 | F6: ='T8.2023'!C64 -> 5470000
A7: 45172 | B7: Mua 3kg thịt heo | E7: 300000 | F7: =F6+C7+D7-E7 -> 5170000
A8: 45172 | B8: Mua muối | E8: 4000 | F8: =F7+C8+D8-E8 -> 5166000
A9: 45172 | B9: Mua tiêu | E9: 10000 | F9: =F8+C9+D9-E9 -> 5156000
A10: 45172 | B10: Mua bột nêm | E10: 15000 | F10: =F9+C10+D10-E10 -> 5141000
A11: 45172 | B11: Mua nước mắm | E11: 18000 | F11: =F10+C11+D11-E11 -> 5123000
A12: 45172 | B12: Mua 2 kg khoai tây | E12: 60000 | F12: =F11+C12+D12-E12 -> 5063000
A13: 45172 | B13: Mua cà rốt | E13: 55000 | F13: =F12+C13+D13-E13 -> 5008000
A14: 45172 | B14: Mua mồng tơi | E14: 20000 | F14: =F13+C14+D14-E14 -> 4988000
A15: 45172 | B15: Mua đậu ve | E15: 30000 | F15: =F14+C15+D15-E15 -> 4958000
A16: 45172 | B16: Mua hành lá | E16: 10000 | F16: =F15+C16+D16-E16 -> 4948000
A17: 45172 | B17: Mua khoai tây | E17: 10000 | F17: =F16+C17+D17-E17 -> 4938000
A18: 45172 | B18: Mua ớt | E18: 5000 | F18: =F17+C18+D18-E18 -> 4933000
... A21: 45172 | B21: Mua bí đỏ | E21: 47000 | F21: =F20+C21+D21-E21 -> 4861000
A22: 45175 | B22: Đồng nghiệp USG CMTX T9 | C22: 400000 | F22: =F21+C22+D22-E22 -> 5261000
A23: 45177 | B23: Anh (chị) AY CMTX T9 | C23: 200000 | F23: =F22+C23+D23-E23 -> 5461000
A24: 45179 | B24: Mua 4kg thịt heo | E24: 400000 | F24: =F23+C24+D24-E24 -> 5061000
A25: 45179 | B25: Mua bí đỏ | E25: 45000 | F25: =F24+C25+D25-E25 -> 5016000
A26: 45179 | B26: Mua khoai tây + cà rốt | E26: 120000 | F26: =F25+C26+D26-E26 -> 4896000
A27: 45179 | B27: Mua đậu ve | E27: 30000 | F27: =F26+C27+D27-E27 -> 4866000
A28: 45179 | B28: Mua hành lá | E28: 10000 | F28: =F27+C28+D28-E28 -> 4856000
A29: 45179 | B29: Mua hành củ | E29: 15000 | F29: =F28+C29+D29-E29 -> 4841000
A30: 45179 | B30: Mua ớt | E30: 5000 | F30: =F29+C30+D30-E30 -> 4836000
A31: 45179 | B31: Mua hành tây | E31: 10000 | F31: =F30+C31+D31-E31 -> 4826000
A32: 45182 | B32: E Simun CMTX 6 tuần | C32: 1800000 | F32: =F31+C32+D32-E32 -> 6626000
A33: 45186 | B33: Mua 3kg thịt heo | E33: 300000 | F33: =F32+C33+D33-E33 -> 6326000
A34: 45186 | B34: Mua đậu ve | E34: 30000 | F34: =F33+C34+D34-E34 -> 6296000
A35: 45186 | B35: Mua hành củ | E35: 15000 | F35: =F34+C35+D35-E35 -> 6281000
A36: 45186 | B36: Mua hành tây | E36: 10000 | F36: =F35+C36+D36-E36 -> 6271000
A37: 45186 | B37: Mua hành lá | E37: 10000 | F37: =F36+C37+D37-E37 -> 6261000
A38: 45186 | B38: Mua bí đỏ | E38: 45000 | F38: =F37+C38+D38-E38 -> 6216000
A39: 45186 | B39: Mua ớt | E39: 5000 | F39: =F38+C39+D39-E39 -> 6211000
A40: 45186 | B40: Mua khoai + cà rốt | E40: 120000 | F40: =F39+C40+D40-E40 -> 6091000
A41: 45186 | B41: Mua đậu khuôn | E41: 10000 | F41: =F40+C41+D41-E41 -> 6081000
A42: 45186 | B42: Mua mồng tơi | E42: 20000 | F42: =F41+C42+D42-E42 -> 6061000
A43: 45186 | B43: Mua tiêu | E43: 10000 | F43: =F42+C43+D43-E43 -> 6051000
A44: 45186 | B44: Mua hạt nêm | E44: 15000 | F44: =F43+C44+D44-E44 -> 6036000
...

Sheet T10.2023
A2: BÁO CÁO QUỸ NỒI CHÁO HUẾ - A LƯỚI THÁNG 10/2023
A4: NGÀY | B4: DIỄN GIẢI | C4: THU | E4: CHI | F4: TỒN
C5: CMTX | D5: CMKTX
A6: Tồn đầu tháng 10/2023 | F6: ='T9.2023'!C58 -> 5364000
A7: 45200 | B7: Mua 4kg thịt heo | E7: 400000 | F7: =F6+C7+D7-E7 -> 4964000
A8: 45200 | B8: Mua hành củ | E8: 15000 | F8: =F7+C8+D8-E8 -> 4949000
A9: 45200 | B9: Mua ớt | E9: 5000 | F9: =F8+C9+D9-E9 -> 4944000
A10: 45200 | B10: Mua hành tây | E10: 10000 | F10: =F9+C10+D10-E10 -> 4934000
A11: 45200 | B11: Mua hành lá | E11: 10000 | F11: =F10+C11+D11-E11 -> 4924000
A12: 45200 | B12: Mua mồng tời | E12: 30000 | F12: =F11+C12+D12-E12 -> 4894000
A13: 45200 | B13: Mua bí đỏ | E13: 55000 | F13: =F12+C13+D13-E13 -> 4839000
A14: 45200 | B14: Mua khoai tây + cà rốt | E14: 125000 | F14: =F13+C14+D14-E14 -> 4714000
A15: 45200 | B15: Mua đậu ve | E15: 35000 | F15: =F14+C15+D15-E15 -> 4679000
A16: 45200 | B16: Mua đậu khuôn | E16: 15000 | F16: =F15+C16+D16-E16 -> 4664000
A17: 45200 | B17: Mua dầu | E17: 40000 | F17: =F16+C17+D17-E17 -> 4624000
A18: 45200 | B18: Mua mước mắm | E18: 18000 | F18: =F17+C18+D18-E18 -> 4606000
... A21: 45200 | B21: Mua mì | E21: 25000 | F21: =F20+C21+D21-E21 -> 4556000
A22: 45202 | B22: Đồng nghiệp USG CMTX T10 | C22: 1100000 | F22: =F21+C22+D22-E22 -> 5656000
A23: 45206 | B23: Anh (chị) AY CMTX T10 | C23: 200000 | F23: =F22+C23+D23-E23 -> 5856000
A24: 45207 | B24: Mua 4kg Thịt heo | E24: 400000 | F24: =F23+C24+D24-E24 -> 5456000
A25: 45207 | B25: Mua bao tay | E25: 8000 | F25: =F24+C25+D25-E25 -> 5448000
A26: 45207 | B26: Mua khẩu trang | E26: 35000 | F26: =F25+C26+D26-E26 -> 5413000
A27: 45207 | B27: Mua đậu ve | E27: 30000 | F27: =F26+C27+D27-E27 -> 5383000
A28: 45207 | B28: Mua Khoai tây + cà rốt | E28: 115000 | F28: =F27+C28+D28-E28 -> 5268000
A29: 45207 | B29: Mua hành tây | E29: 10000 | F29: =F28+C29+D29-E29 -> 5258000
A30: 45207 | B30: Mua hành củ | E30: 15000 | F30: =F29+C30+D30-E30 -> 5243000
A31: 45207 | B31: Mua ớt | E31: 5000 | F31: =F30+C31+D31-E31 -> 5238000
A32: 45207 | B32: Mua mồng tơi | E32: 20000 | F32: =F31+C32+D32-E32 -> 5218000
A33: 45207 | B33: Mua bí đỏ | E33: 50000 | F33: =F32+C33+D33-E33 -> 5168000
A34: 45207 | B34: Mua hành lá | E34: 10000 | F34: =F33+C34+D34-E34 -> 5158000
A35: 45207 | B35: Mua khuôn đậu | E35: 10000 | F35: =F34+C35+D35-E35 -> 5148000
A36: 45208 | B36: Cô Hồng CMTX T10,11,12/23 | C36: 600000 | F36: =F35+C36+D36-E36 -> 5748000
A37: 45209 | B37: Chị Hồng ủng hộ KTX | C37: 200000 | F37: =F36+C37+D37-E37 -> 5948000
A38: 45209 | B38: Dì Lành ủng hộ KTX | C38: 100000 | F38: =F37+C38+D38-E38 -> 6048000
A39: 45209 | B39: Cô Loan ủng hộ KTX | C39: 200000 | F39: =F38+C39+D39-E39 -> 6248000
A40: 45213 | B40: Mua 3kg thịt heo | E40: 300000 | F40: =F39+C40+D40-E40 -> 5948000
A41: 45213 | B41: Mua mì | E41: 25000 | F41: =F40+C41+D41-E41 -> 5923000
A42: 45213 | B42: Mua hạt nêm | E42: 15000 | F42: =F41+C42+D42-E42 -> 5908000
A43: 45213 | B43: Mua tiêu | E43: 10000 | F43: =F42+C43+D43-E43 -> 5898000
A44: 45213 | B44: Mua muối | E44: 4000 | F44: =F43+C44+D44-E44 -> 5894000
...

Sheet T11.2023
A2: BÁO CÁO QUỸ NỒI CHÁO HUẾ - A LƯỚI THÁNG 11/2023
A4: NGÀY | B4: DIỄN GIẢI | C4: THU | E4: CHI | F4: TỒN
C5: CMTX | D5: CMKTX
A6: Tồn đầu tháng 11/2023 | F6: ='T10.2023'!C82 -> 4249000
A7: 45231 | B7: Đồng nghiệp USG CMTX T11 | C7: 200000 | F7: =F6+C7+D7-E7 -> 4449000
A8: 45234 | B8: Anh ThaiDzuy ủng hộ KTX | C8: 200000 | F8: =F7+C8+D8-E8 -> 4649000
A9: 45234 | B9: Chị Dinh Thi Hong Lam ủng hộ KTX | C9: 200000 | F9: =F8+C9+D9-E9 -> 4849000
A10: 45234 | B10: A/C Nguyen Hoang Thanh ủng hộ KTX | C10: 200000 | F10: =F9+C10+D10-E10 -> 5049000
A11: 45234 | B11: A/C Tran Phu Ha ủng hộ KTX | C11: 200000 | F11: =F10+C11+D11-E11 -> 5249000
A12: 45234 | B12: Chị Thino ủng hộ KTX | C12: 200000 | F12: =F11+C12+D12-E12 -> 5449000
A13: 45235 | B13: Mua thịt heo | E13: 300000 | F13: =F12+C13+D13-E13 -> 5149000
A14: 45235 | B14: Mua khuôn đậu | E14: 10000 | F14: =F13+C14+D14-E14 -> 5139000
A15: 45235 | B15: Mua bí đỏ | E15: 48000 | F15: =F14+C15+D15-E15 -> 5091000
A16: 45235 | B16: Mua hành lá | E16: 10000 | F16: =F15+C16+D16-E16 -> 5081000
A17: 45235 | B17: Mua hành tây | E17: 10000 | F17: =F16+C17+D17-E17 -> 5071000
A18: 45235 | B18: Mua hành củ | E18: 10000 | F18: =F17+C18+D18-E18 -> 5061000
A19: 45235 | B19: Mua ớt | E19: 5000 | F19: =F18+C19+D19-E19 -> 5056000
A20: 45235 | B20: Mua khoai tây + cà rót | E20: 115000 | F20: =F19+C20+D20-E20 -> 4941000
A21: 45235 | B21: Mua đậu ve | E21: 30000 | F21: =F20+C21+D21-E21 -> 4911000
A22: 45235 | B22: Mua mồng tơi | E22: 30000 | F22: =F21+C22+D22-E22 -> 4881000
A23: 45236 | B23: Anh(chị) AY CMTX T11 | C23: 200000 | F23: =F22+C23+D23-E23 -> 5081000
A24: 45242 | B24: Mua dầu 5l | E24: 135000 | F24: =F23+C24+D24-E24 -> 4946000
A25: 45242 | B25: Mua nước mắm | E25: 18000 | F25: =F24+C25+D25-E25 -> 4928000
A26: 45242 | B26: Mua mì chính | E26: 25000 | F26: =F25+C26+D26-E26 -> 4903000
A27: 45242 | B27: Mua bột nêm | E27: 15000 | F27: =F26+C27+D27-E27 -> 4888000
A28: 45242 | B28: Mua muối | E28: 4000 | F28: =F27+C28+D28-E28 -> 4884000
A29: 45242 | B29: Mua tiêu | E29: 10000 | F29: =F28+C29+D29-E29 -> 4874000
A30: 45242 | B30: Mua bí đỏ | E30: 50000 | F30: =F29+C30+D30-E30 -> 4824000
A31: 45242 | B31: Mua mồng tơi | E31: 30000 | F31: =F30+C31+D31-E31 -> 4794000
A32: 45242 | B32: Mua đậu ve | E32: 30000 | F32: =F31+C32+D32-E32 -> 4764000
A33: 45242 | B33: Mua khoai tây + cà rốt | E33: 110000 | F33: =F32+C33+D33-E33 -> 4654000
A34: 45242 | B34: Mua hành củ | E34: 15000 | F34: =F33+C34+D34-E34 -> 4639000
A35: 45242 | B35: Mua hành lá | E35: 10000 | F35: =F34+C35+D35-E35 -> 4629000
... A56: 45256 | B56: Tiền xe | E56: 150000 | F56: =F55+C56+D56-E56 -> 3322000
A57: 45256 | B57: Chị Thu Nhi và ban ủng hộ KTX | C57: 400000 | F57: =F56+C57+D57-E57 -> 3722000
A58: 45257 | B58: MTQ quán cơm Saigon ủng hộ KTX | C58: 5000000 | F58: =F57+C58+D58-E58 -> 8722000
A59: Tồng cộng | C59: =SUM(C7:C58) -> 6800000 | D59: =SUM(D7:D58) -> 0 | E59: =SUM(E7:E58) -> 2327000 | F59: =F6+C59+D59-E59 -> 8722000
A60: Tồn cuối tháng 11/2023 | C60: =F6+C59+D59-E59 -> 8722000

Sheet T12.2023
A2: BÁO CÁO QUỸ NỒI CHÁO HUẾ - A LƯỚI THÁNG 12/2023
A4: NGÀY | B4: DIỄN GIẢI | C4: THU | E4: CHI | F4: TỒN
C5: CMTX | D5: CMKTX
A6: Tồn đầu tháng 12/2023 | F6: ='T11.2023'!C60 -> 8722000
A7: 45262 | B7: Anh(chị) AY CMTX T12 | C7: 200000 | F7: =F6+C7+D7-E7 -> 8922000
A8: 45263 | B8: Mua thịt heo | E8: 400000 | F8: =F7+C8+D8-E8 -> 8522000
A9: 45263 | B9: Mua khuôn đậu | E9: 10000 | F9: =F8+C9+D9-E9 -> 8512000
A10: 45263 | B10: Mua bí đỏ | E10: 45000 | F10: =F9+C10+D10-E10 -> 8467000
A11: 45263 | B11: Mua hành lá | E11: 10000 | F11: =F10+C11+D11-E11 -> 8457000
A12: 45263 | B12: Mua ớt | E12: 5000 | F12: =F11+C12+D12-E12 -> 8452000
A13: 45263 | B13: Mua hành củ | E13: 10000 | F13: =F12+C13+D13-E13 -> 8442000
A14: 45263 | B14: Mua hành tây | E14: 10000 | F14: =F13+C14+D14-E14 -> 8432000
A15: 45263 | B15: Mua khoai tây + cà rót | E15: 110000 | F15: =F14+C15+D15-E15 -> 8322000
A16: 45263 | B16: Mua đậu ve | E16: 30000 | F16: =F15+C16+D16-E16 -> 8292000
A17: 45263 | B17: Mua bao tay | E17: 8000 | F17: =F16+C17+D17-E17 -> 8284000
A18: 45263 | B18: Mua bót giặt | E18: 5000 | F18: =F17+C18+D18-E18 -> 8279000
A19: 45263 | B19: Mua mồng tơi | E19: 30000 | F19: =F18+C19+D19-E19 -> 8249000
A20: 45264 | B20: Chị Tu Anh BVTW Huế ủng hộ KTX | C20: 200000 | F20: =F19+C20+D20-E20 -> 8449000
A21: 45264 | B21: Đồng nghiệp USG CMTX T12 | C21: 200000 | F21: =F20+C21+D21-E21 -> 8649000
A22: 45270 | B22: Mua thịt heo | E22: 300000 | F22: =F21+C22+D22-E22 -> 8349000
A23: 45270 | B23: Mua mồng tơi | E23: 30000 | F23: =F22+C23+D23-E23 -> 8319000
A24: 45270 | B24: Mua khuôn đậu | E24: 10000 | F24: =F23+C24+D24-E24 -> 8309000
A25: 45270 | B25: Mua bí đỏ | E25: 47000 | F25: =F24+C25+D25-E25 -> 8262000
A26: 45270 | B26: Mua đậu ve | E26: 30000 | F26: =F25+C26+D26-E26 -> 8232000
A27: 45270 | B27: Mua hành củ | E27: 10000 | F27: =F26+C27+D27-E27 -> 8222000
A28: 45270 | B28: Mua hành lá | E28: 10000 | F28: =F27+C28+D28-E28 -> 8212000
A29: 45270 | B29: Mua khoai tay + cà rốt | E29: 110000 | F29: =F28+C29+D29-E29 -> 8102000
A30: 45270 | B30: Mua hành tây | E30: 10000 | F30: =F29+C30+D30-E30 -> 8092000
A31: 45270 | B31: Mua ớt | E31: 5000 | F31: =F30+C31+D31-E31 -> 8087000
A32: 45270 | B32: Mua hạt nêm | E32: 15000 | F32: =F31+C32+D32-E32 -> 8072000
A33: 45270 | B33: Mua tiêu | E33: 10000 | F33: =F32+C33+D33-E33 -> 8062000
... A60: 45284 | B60: Mua ớt | E60: 5000 | F60: =F59+C60+D60-E60 -> 6555000
A61: 45285 | B61: Chị Thu Nhi và ban ủng hộ KTX | C61: 400000 | F61: =F60+C61+D61-E61 -> 6955000
A62: 45291 | B62: Mua thịt heo | E62: 400000 | F62: =F61+C62+D62-E62 -> 6555000
A63: 45291 | B63: Mua khuôn đậu | E63: 10000 | F63: =F62+C63+D63-E63 -> 6545000
A64: 45291 | B64: Mua bao tay | E64: 8000 | F64: =F63+C64+D64-E64 -> 6537000
A65: 45291 | B65: Mua khẩu tang | E65: 35000 | F65: =F64+C65+D65-E65 -> 6502000
A66: 45291 | B66: Mua tiêu | E66: 10000 | F66: =F65+C66+D66-E66 -> 6492000
A67: 45291 | B67: Mua đậu ve | E67: 30000 | F67: =F66+C67+D67-E67 -> 6462000
A68: 45291 | B68: Mua hành củ | E68: 10000 | F68: =F67+C68+D68-E68 -> 6452000
...

Sheet T1.2024
A2: BÁO CÁO QUỸ NỒI CHÁO HUẾ - A LƯỚI THÁNG 01/2024
A4: NGÀY | B4: DIỄN GIẢI | C4: THU | E4: CHI | F4: TỒN
C5: CMTX | D5: CMKTX
A6: Tồn đầu tháng 01/2024 | F6: ='T12.2023'!C79 -> 5924000
A7: 45293 | B7: Đồng nghiệp USG CMTX T01/24 | C7: 3400000 | F7: =F6+C7+D7-E7 -> 9324000
A8: 45296 | B8: Cô Hồng CMTX T01,02,3/2024 | C8: 600000 | F8: =F7+C8+D8-E8 -> 9924000
A9: 45298 | B9: Mua thịt heo | E9: 400000 | F9: =F8+C9+D9-E9 -> 9524000
A10: 45298 | B10: Mua khuôn đậu | E10: 10000 | F10: =F9+C10+D10-E10 -> 9514000
A11: 45298 | B11: Mua hành củ | E11: 10000 | F11: =F10+C11+D11-E11 -> 9504000
A12: 45298 | B12: Mua hành lá | E12: 10000 | F12: =F11+C12+D12-E12 -> 9494000
A13: 45298 | B13: Mua hành tây | E13: 10000 | F13: =F12+C13+D13-E13 -> 9484000
A14: 45298 | B14: Mua mồng tơi | E14: 30000 | F14: =F13+C14+D14-E14 -> 9454000
A15: 45298 | B15: Mua khoai tây+cà rót | E15: 110000 | F15: =F14+C15+D15-E15 -> 9344000
A16: 45298 | B16: Mua đậu ve | E16: 30000 | F16: =F15+C16+D16-E16 -> 9314000
A17: 45298 | B17: Mua ớt | E17: 5000 | F17: =F16+C17+D17-E17 -> 9309000
A18: 45298 | B18: Mua bí đỏ | E18: 47000 | F18: =F17+C18+D18-E18 -> 9262000
A19: 45298 | B19: Mua trùm tóc | E19: 15000 | F19: =F18+C19+D19-E19 -> 9247000
A20: 45298 | B20: Mua gạo | E20: 500000 | F20: =F19+C20+D20-E20 -> 8747000
A21: 45302 | B21: Hanh Duong & Giang Dao US ủng hộ KTX | C21: 1941600 | F21: =F20+C21+D21-E21 -> 10688600
A22: 45305 | B22: Mua thịt heo | E22: 300000 | F22: =F21+C22+D22-E22 -> 10388600
A23: 45305 | B23: Mua khuôn đậu | E23: 10000 | F23: =F22+C23+D23-E23 -> 10378600
A24: 45305 | B24: Mua mì chính | E24: 25000 | F24: =F23+C24+D24-E24 -> 10353600
A25: 45305 | B25: Mua tiêu | E25: 10000 | F25: =F24+C25+D25-E25 -> 10343600
A26: 45305 | B26: Mua khoai tây+cà rốt | E26: 115000 | F26: =F25+C26+D26-E26 -> 10228600
A27: 45305 | B27: Mua bí đỏ | E27: 48000 | F27: =F26+C27+D27-E27 -> 10180600
A28: 45305 | B28: Mua mồng tơi | E28: 30000 | F28: =F27+C28+D28-E28 -> 10150600
A29: 45305 | B29: Mua hành củ | E29: 10000 | F29: =F28+C29+D29-E29 -> 10140600
A30: 45305 | B30: Mua đậu ve | E30: 30000 | F30: =F29+C30+D30-E30 -> 10110600
A31: 45305 | B31: Mua hành tây | E31: 10000 | F31: =F30+C31+D31-E31 -> 10100600
A32: 45305 | B32: Mua hành lá | E32: 10000 | F32: =F31+C32+D32-E32 -> 10090600
A33: 45305 | B33: Mua ớt | E33: 5000 | F33: =F32+C33+D33-E33 -> 10085600
... A49: 45312 | B49: Tiền xe | E49: 150000 | F49: =F48+C49+D49-E49 -> 9070600
A50: 45321 | B50: MTQ có số GD 43981.191715 ủng hộ KTX | C50: 200000 | F50: =F49+C50+D50-E50 -> 9270600
A51: Tồng cộng | C51: =SUM(C7:C50) -> 6141600 | D51: =SUM(D7:D50) -> 0 | E51: =SUM(E7:E50) -> 2795000 | F51: =F6+C51+D51-E51 -> 9270600
A52: Tồn cuối tháng 01/2024 | C52: =F6+C51+D51-E51 -> 9270600

Sheet T2-3.2024
A2: BÁO CÁO QUỸ NỒI CHÁO HUẾ - A LƯỚI THÁNG 02,3/2024
A4: NGÀY | B4: DIỄN GIẢI | C4: THU | E4: CHI | F4: TỒN
C5: CMTX | D5: CMKTX
A6: Tồn đầu tháng 02/2024 | F6: ='T1.2024'!C52 -> 9270600
A7: 45323 | B7: Đồng nghiệp USG CMTX T02/24 | C7: 2000000 | F7: =F6+C7+D7-E7 -> 11270600
A8: 45347 | B8: Mua thịt | E8: 300000 | F8: =F7+C8+D8-E8 -> 10970600
A9: 45347 | B9: Mua bí đỏ | E9: 45000 | F9: =F8+C9+D9-E9 -> 10925600
A10: 45347 | B10: Mua đậu ve | E10: 30000 | F10: =F9+C10+D10-E10 -> 10895600
A11: 45347 | B11: Mua khoai tây cà rốt | E11: 110000 | F11: =F10+C11+D11-E11 -> 10785600
A12: 45347 | B12: Mua hành củ | E12: 10000 | F12: =F11+C12+D12-E12 -> 10775600
A13: 45347 | B13: Mua ớt | E13: 5000 | F13: =F12+C13+D13-E13 -> 10770600
A14: 45347 | B14: Mua hành tây | E14: 10000 | F14: =F13+C14+D14-E14 -> 10760600
A15: 45347 | B15: Mua mồng tơi | E15: 25000 | F15: =F14+C15+D15-E15 -> 10735600
A16: 45347 | B16: Mua mì chính | E16: 25000 | F16: =F15+C16+D16-E16 -> 10710600
A17: 45347 | B17: Mua tiêu | E17: 10000 | F17: =F16+C17+D17-E17 -> 10700600
A18: 45347 | B18: Chị Thu Nhi CMTX T02 | C18: 400000 | F18: =F17+C18+D18-E18 -> 11100600
A19: 45351 | B19: Chị Nguyen Thi Lanh ủng hộ KTX | C19: 100000 | F19: =F18+C19+D19-E19 -> 11200600
A20: 45352 | B20: Đồng nghiệp USG CMTX T3/24 | C20: 800000 | F20: =F19+C20+D20-E20 -> 12000600
A21: 45354 | B21: Mua thịt | E21: 300000 | F21: =F20+C21+D21-E21 -> 11700600
A22: 45354 | B22: Mua bí đỏ | E22: 47000 | F22: =F21+C22+D22-E22 -> 11653600
A23: 45354 | B23: Mua đậu ve | E23: 30000 | F23: =F22+C23+D23-E23 -> 11623600
A24: 45354 | B24: Mua hành củ | E24: 10000 | F24: =F23+C24+D24-E24 -> 11613600
A25: 45354 | B25: Mua hành lá | E25: 10000 | F25: =F24+C25+D25-E25 -> 11603600
A26: 45354 | B26: Mua hành tây | E26: 7000 | F26: =F25+C26+D26-E26 -> 11596600
A27: 45354 | B27: Mua khoai tây cà rốt | E27: 110000 | F27: =F26+C27+D27-E27 -> 11486600
A28: 45354 | B28: Mua mồng tơi | E28: 25000 | F28: =F27+C28+D28-E28 -> 11461600
A29: 45354 | B29: Mua khuôn đậu | E29: 10000 | F29: =F28+C29+D29-E29 -> 11451600
A30: 45354 | B30: Mua tiêu | E30: 10000 | F30: =F29+C30+D30-E30 -> 11441600
A31: 45354 | B31: Mua nước mắm | E31: 18000 | F31: =F30+C31+D31-E31 -> 11423600
A32: 45368 | B32: Mua thịt | E32: 400000 | F32: =F31+C32+D32-E32 -> 11023600
... A56: 45382 | B56: Tiền xe | E56: 200000 | F56: =F55+C56+D56-E56 -> 9313600
A57: Tồng cộng | C57: =SUM(C7:C56) -> 3300000 | D57: =SUM(D7:D56) -> 0 | E57: =SUM(E7:E56) -> 3257000 | F57: =F6+C57+D57-E57 -> 9313600
A58: Tồn cuối tháng 03/2024 | C58: =F6+C57+D57-E57 -> 9313600

Sheet T4.2024
A2: BÁO CÁO QUỸ NỒI CHÁO HUẾ - A LƯỚI THÁNG 04/2024
A4: NGÀY | B4: DIỄN GIẢI | C4: THU | E4: CHI | F4: TỒN
C5: CMTX | D5: CMKTX
A6: Tồn đầu tháng 04/2024 | F6: {='T2-3.2024'!C58:F58} -> 9313600 | G6: 0 | H6: 0 | I6: 0
A7: 45384 | B7: Đồng nghiệp USG CMTX T4 | C7: 1000000 | F7: =F6+C7+D7-E7 -> 10313600
A8: 45386 | B8: Chị Thu Nhi ủng hộ KTX | C8: 400000 | F8: =F7+C8+D8-E8 -> 10713600
A9: 45387 | B9: Cô Hồng CMTX T4,5,6/24 | C9: 600000 | F9: =F8+C9+D9-E9 -> 11313600
A10: 45389 | B10: Mua thịt heo | E10: 300000 | F10: =F9+C10+D10-E10 -> 11013600
A11: 45389 | B11: Mua khuôn đậu | E11: 10000 | F11: =F10+C11+D11-E11 -> 11003600
A12: 45389 | B12: Mua mồng tơi | E12: 25000 | F12: =F11+C12+D12-E12 -> 10978600
A13: 45389 | B13: Mua đậu ve | E13: 30000 | F13: =F12+C13+D13-E13 -> 10948600
A14: 45389 | B14: Mua khoai tây + cà rốt | E14: 110000 | F14: =F13+C14+D14-E14 -> 10838600
A15: 45389 | B15: Mua hành củ | E15: 10000 | F15: =F14+C15+D15-E15 -> 10828600
A16: 45389 | B16: Mua hành tây | E16: 7000 | F16: =F15+C16+D16-E16 -> 10821600
A17: 45389 | B17: Mua hành lá | E17: 10000 | F17: =F16+C17+D17-E17 -> 10811600
A18: 45389 | B18: Mua ớt | E18: 5000 | F18: =F17+C18+D18-E18 -> 10806600
A19: 45389 | B19: Mua bí đỏ | E19: 45000 | F19: =F18+C19+D19-E19 -> 10761600
A20: 45396 | B20: Mua thị heo | E20: 400000 | F20: =F19+C20+D20-E20 -> 10361600
A21: 45396 | B21: Mua khuôn đậu | E21: 10000 | F21: =F20+C21+D21-E21 -> 10351600
... A41: 45403 | B41: Tiền nước | E41: 70000 | F41: =F40+C41+D41-E41 -> 9265600
A42: Tồng cộng | C42: =SUM(C7:C41) -> 2000000 | D42: =SUM(D7:D41) -> 0 | E42: =SUM(E7:E41) -> 2048000 | F42: =F6+C42+D42-E42 -> 9265600
A43: Tồn cuối tháng 04/2024 | C43: =F6+C42+D42-E42 -> 9265600

Sheet T5.2024
A2: BÁO CÁO QUỸ NỒI CHÁO HUẾ - A LƯỚI THÁNG 05/2024
A4: NGÀY | B4: DIỄN GIẢI | C4: THU | E4: CHI | F4: TỒN
C5: CMTX | D5: CMKTX
A6: Tồn đầu tháng 05/2024 | F6: ='T4.2024'!C43 -> 9265600
A7: 45416 | B7: Mua thịt heo | E7: 300000 | F7: =F6+C7+D7-E7 -> 8965600
A8: 45416 | B8: Mua khuôn đậu | E8: 10000 | F8: =F7+C8+D8-E8 -> 8955600
A9: 45416 | B9: Mua bí đỏ | E9: 42000 | F9: =F8+C9+D9-E9 -> 8913600
A10: 45416 | B10: Mua đậu ve | E10: 30000 | F10: =F9+C10+D10-E10 -> 8883600
A11: 45416 | B11: Mua mồng tơi | E11: 25000 | F11: =F10+C11+D11-E11 -> 8858600
A12: 45416 | B12: Mua hành lá | E12: 10000 | F12: =F11+C12+D12-E12 -> 8848600
A13: 45416 | B13: Mua hành củ | E13: 10000 | F13: =F12+C13+D13-E13 -> 8838600
A14: 45416 | B14: Mua hành tây | E14: 7000 | F14: =F13+C14+D14-E14 -> 8831600
A15: 45416 | B15: Mua ớt | E15: 5000 | F15: =F14+C15+D15-E15 -> 8826600
A16: 45416 | B16: Mua khoai tây + cà rốt | E16: 110000 | F16: =F15+C16+D16-E16 -> 8716600
A17: 45416 | B17: Mua mì chính | E17: 25000 | F17: =F16+C17+D17-E17 -> 8691600
A18: 45416 | B18: Mua knor | E18: 15000 | F18: =F17+C18+D18-E18 -> 8676600
... A24: 45416 | B24: Mua hành lá | E24: 10000 | F24: =F23+C24+D24-E24 -> 8383600
A25: 45420 | B25: Đồng nghiệp USG CMTX T5 | C25: 200000 | F25: =F24+C25+D25-E25 -> 8583600
A26: 45423 | B26: Mua bì đen | E26: 35000 | F26: =F25+C26+D26-E26 -> 8548600
A27: 45423 | B27: Mua thịt heo | E27: 300000 | F27: =F26+C27+D27-E27 -> 8248600
A28: 45423 | B28: Mua bí đỏ | E28: 45000 | F28: =F27+C28+D28-E28 -> 8203600
A29: 45423 | B29: Mua khuôn đậu | E29: 10000 | F29: =F28+C29+D29-E29 -> 8193600
A30: 45423 | B30: Mua đậu ve | E30: 30000 | F30: =F29+C30+D30-E30 -> 8163600
A31: 45423 | B31: Mua mồng tơi | E31: 25000 | F31: =F30+C31+D31-E31 -> 8138600
A32: 45423 | B32: Mua hành lá | E32: 10000 | F32: =F31+C32+D32-E32 -> 8128600
A33: 45423 | B33: Mua hành củ | E33: 10000 | F33: =F32+C33+D33-E33 -> 8118600
A34: 45423 | B34: Mua hành tây | E34: 7000 | F34: =F33+C34+D34-E34 -> 8111600
A35: 45423 | B35: Mua ớt | E35: 5000 | F35: =F34+C35+D35-E35 -> 8106600
A36: 45423 | B36: Mua khoai tây + cà rốt | E36: 100000 | F36: =F35+C36+D36-E36 -> 8006600
A37: 45423 | B37: Mua nước mắm | E37: 18000 | F37: =F36+C37+D37-E37 -> 7988600
... A40: 45423 | B40: Mua knor to | E40: 45000 | F40: =F39+C40+D40-E40 -> 7919600
A41: 45427 | B41: Chị Phan Thi Xuan ủng hộ KTX | D41: 200000 | F41: =F40+C41+D41-E41 -> 8119600
A42: 45428 | B42: Em Ngoc Mei va nha hao tam ủng hộ KTX | D42: 200000 | F42: =F41+C42+D42-E42 -> 8319600
A43: 45430 | B43: Mua thịt heo | E43: 300000 | F43: =F42+C43+D43-E43 -> 8019600
A44: 45430 | B44: Mua khoai tây + cà rốt | E44: 110000 | F44: =F43+C44+D44-E44 -> 7909600
A45: 45430 | B45: Mua hành lá | E45: 10000 | F45: =F44+C45+D45-E45 -> 7899600
A46: 45430 | B46: Mua hành củ | E46: 10000 | F46: =F45+C46+D46-E46 -> 7889600
A47: 45430 | B47: Mua hành tây | E47: 7000 | F47: =F46+C47+D47-E47 -> 7882600
A48: 45430 | B48: Mua ớt | E48: 5000 | F48: =F47+C48+D48-E48 -> 7877600
A49: 45430 | B49: Mua khuôn đậu | E49: 10000 | F49: =F48+C49+D49-E49 -> 7867600
...

Sheet T6.2024
A2: BÁO CÁO QUỸ NỒI CHÁO HUẾ - A LƯỚI THÁNG 06/2024
A4: NGÀY | B4: DIỄN GIẢI | C4: THU | E4: CHI | F4: TỒN
C5: CMTX | D5: CMKTX
A6: Tồn đầu tháng 06/2024 | F6: ='T5.2024'!F66 -> 7040600
A7: 45445 | B7: Mua thịt heo | E7: 400000 | F7: =F6+C7+D7-E7 -> 6640600
A8: 45445 | B8: Mua khuôn đậu | E8: 10000 | F8: =F7+C8+D8-E8 -> 6630600
A9: 45445 | B9: Mua khoai tây + cà rốt | E9: 110000 | F9: =F8+C9+D9-E9 -> 6520600
A10: 45445 | B10: Mua hành củ | E10: 10000 | F10: =F9+C10+D10-E10 -> 6510600
A11: 45445 | B11: Mua hành lá | E11: 10000 | F11: =F10+C11+D11-E11 -> 6500600
A12: 45445 | B12: Mua ớt | E12: 5000 | F12: =F11+C12+D12-E12 -> 6495600
A13: 45445 | B13: Mua hành tây | E13: 7000 | F13: =F12+C13+D13-E13 -> 6488600
A14: 45445 | B14: Mua mồng tơi | E14: 25000 | F14: =F13+C14+D14-E14 -> 6463600
A15: 45445 | B15: Mua đậu ve | E15: 30000 | F15: =F14+C15+D15-E15 -> 6433600
A16: 45445 | B16: Mua bí đỏ | E16: 45000 | F16: =F15+C16+D16-E16 -> 6388600
A17: 45446 | B17: Đồng nghiệp USG CMTX T6 | C17: 800000 | F17: =F16+C17+D17-E17 -> 7188600
A18: 45446 | B18: Chị Pham Diem Ni ủng hộ KTX | D18: 500000 | F18: =F17+C18+D18-E18 -> 7688600
A19: 45451 | B19: TTAN TriThucVang ủng hộ KTX | D19: 2000000 | F19: =F18+C19+D19-E19 -> 9688600
A20: 45452 | B20: Mua thịt heo | E20: 300000 | F20: =F19+C20+D20-E20 -> 9388600
A21: 45452 | B21: Mua khuôn đậu | E21: 10000 | F21: =F20+C21+D21-E21 -> 9378600
A22: 45452 | B22: Mua khoai tây + cà rốt | E22: 110000 | F22: =F21+C22+D22-E22 -> 9268600
A23: 45452 | B23: Mua hành lá | E23: 10000 | F23: =F22+C23+D23-E23 -> 9258600
A24: 45452 | B24: Mua hành tây | E24: 7000 | F24: =F23+C24+D24-E24 -> 9251600
A25: 45452 | B25: Mua hành củ | E25: 10000 | F25: =F24+C25+D25-E25 -> 9241600
A26: 45452 | B26: Mua dậu ve | E26: 30000 | F26: =F25+C26+D26-E26 -> 9211600
A27: 45452 | B27: Mua ớt | E27: 5000 | F27: =F26+C27+D27-E27 -> 9206600
A28: 45452 | B28: Mua mồng tơi | E28: 25000 | F28: =F27+C28+D28-E28 -> 9181600
A29: 45452 | B29: Mua bí đỏ | E29: 47000 | F29: =F28+C29+D29-E29 -> 9134600
A30: 45454 | B30: A/c AY ủng hộ KTX | D30: 400000 | F30: =F29+C30+D30-E30 -> 9534600
A31: 45459 | B31: Mua thịt heo | E31: 300000 | F31: =F30+C31+D31-E31 -> 9234600
A32: 45459 | B32: Mua khuôn đậu | E32: 10000 | F32: =F31+C32+D32-E32 -> 9224600
A33: 45459 | B33: Mua hành lá | E33: 10000 | F33: =F32+C33+D33-E33 -> 9214600
A34: 45459 | B34: Mua hành tây | E34: 7000 | F34: =F33+C34+D34-E34 -> 9207600
A35: 45459 | B35: Mua hành củ | E35: 10000 | F35: =F34+C35+D35-E35 -> 9197600
A36: 45459 | B36: Mua khoai tây + cà rốt | E36: 110000 | F36: =F35+C36+D36-E36 -> 9087600
A37: 45459 | B37: Mua mồng tơi | E37: 25000 | F37: =F36+C37+D37-E37 -> 9062600
A38: 45459 | B38: Mua ớt | E38: 5000 | F38: =F37+C38+D38-E38 -> 9057600
A39: 45459 | B39: Mua đậu ve | E39: 30000 | F39: =F38+C39+D39-E39 -> 9027600
A40: 45459 | B40: Mua bí đỏ | E40: 45000 | F40: =F39+C40+D40-E40 -> 8982600
A41: 45459 | B41: Mua nước mắm | E41: 50000 | F41: =F40+C41+D41-E41 -> 8932600
A42: 45459 | B42: Mua mì chính | E42: 60000 | F42: =F41+C42+D42-E42 -> 8872600
...

Sheet T7.2024
A2: BÁO CÁO QUỸ NỒI CHÁO HUẾ - A LƯỚI THÁNG 07/2024
A4: NGÀY | B4: DIỄN GIẢI | C4: THU | E4: CHI | F4: TỒN
C5: CMTX | D5: CMKTX
A6: Tồn đầu tháng 07/2024 | F6: ='T6.2024'!C63 -> 8540600
A7: 45474 | B7: Ban Thu Nhi và nguoi than ủng hộ KTX | D7: 400000 | F7: =F6+C7+D7-E7 -> 8940600
A8: 45475 | B8: Đồng nghiệp USG CMTX T7 | C8: 1400000 | F8: =F7+C8+D8-E8 -> 10340600
A9: 45480 | B9: Mua thịt heo | E9: 300000 | F9: =F8+C9+D9-E9 -> 10040600
A10: 45480 | B10: Mua khuôn đậu | E10: 10000 | F10: =F9+C10+D10-E10 -> 10030600
A11: 45480 | B11: Mua khoai tây + cà rốt | E11: 110000 | F11: =F10+C11+D11-E11 -> 9920600
A12: 45480 | B12: Mua ớt | E12: 10000 | F12: =F11+C12+D12-E12 -> 9910600
A13: 45480 | B13: Mua hành lá | E13: 10000 | F13: =F12+C13+D13-E13 -> 9900600
A14: 45480 | B14: Mua hành củ | E14: 10000 | F14: =F13+C14+D14-E14 -> 9890600
A15: 45480 | B15: Mua đậu ve | E15: 30000 | F15: =F14+C15+D15-E15 -> 9860600
A16: 45480 | B16: Mua mồng tơi | E16: 25000 | F16: =F15+C16+D16-E16 -> 9835600
A17: 45480 | B17: Mua hành tây | E17: 7000 | F17: =F16+C17+D17-E17 -> 9828600
A18: 45480 | B18: Mua bí đỏ | E18: 42000 | F18: =F17+C18+D18-E18 -> 9786600
A19: 45486 | B19: Mua thịt heo | E19: 300000 | F19: =F18+C19+D19-E19 -> 9486600
A20: 45486 | B20: Mua khuôn đậu | E20: 10000 | F20: =F19+C20+D20-E20 -> 9476600
... A28: 45486 | B28: Mua bí đỏ | E28: 45000 | F28: =F27+C28+D28-E28 -> 9234600
A29: 45489 | B29: Chị Thu Hien ủng hộ KTX | D29: 400000 | F29: =F28+C29+D29-E29 -> 9634600
A30: 45489 | B30: Chị Nguyen Thi To Uyen ủng hộ KTX | D30: 1000000 | F30: =F29+C30+D30-E30 -> 10634600
A31: 45490 | B31: Chị Van Thi Nhu Ly ủng hộ KTX | D31: 300000 | F31: =F30+C31+D31-E31 -> 10934600
A32: 45493 | B32: Cô Hồng CMTX T7,8,9/24 | C32: 600000 | F32: =F31+C32+D32-E32 -> 11534600
A33: 45494 | B33: Mua thịt heo | E33: 300000 | F33: =F32+C33+D33-E33 -> 11234600
A34: 45494 | B34: Mua khuôn đậu | E34: 10000 | F34: =F33+C34+D34-E34 -> 11224600
A35: 45494 | B35: Mua hành củ | E35: 8000 | F35: =F34+C35+D35-E35 -> 11216600
A36: 45494 | B36: Mua hành tây | E36: 5000 | F36: =F35+C36+D36-E36 -> 11211600
A37: 45494 | B37: Mua hành lá | E37: 7000 | F37: =F36+C37+D37-E37 -> 11204600
A38: 45494 | B38: Mua mồng tơi | E38: 20000 | F38: =F37+C38+D38-E38 -> 11184600
A39: 45494 | B39: Mua đậu ve | E39: 25000 | F39: =F38+C39+D39-E39 -> 11159600
A40: 45494 | B40: Mua khoai tây + cà rốt | E40: 75000 | F40: =F39+C40+D40-E40 -> 11084600
A41: 45494 | B41: Mua ớt | E41: 5000 | F41: =F40+C41+D41-E41 -> 11079600
A42: 45501 | B42: Mua thịt heo | E42: 300000 | F42: =F41+C42+D42-E42 -> 10779600
A43: 45501 | B43: Mua khuôn đậu | E43: 10000 | F43: =F42+C43+D43-E43 -> 10769600
A44: 45501 | B44: Mua hành củ | E44: 10000 | F44: =F43+C44+D44-E44 -> 10759600
... A52: 45501 | B52: Tiền nước | E52: 100000 | F52: =F51+C52+D52-E52 -> 10408600
A53: Tồng cộng | C53: =SUM(C7:C52) -> 2000000 | D53: =SUM(D7:D52) -> 2100000 | E53: =SUM(E7:E52) -> 2232000 | F53: =F6+C53+D53-E53 -> 10408600
A54: Tồn cuối tháng 07/2024 | C54: =F6+C53+D53-E53 -> 10408600

Sheet T8.2024
A2: BÁO CÁO QUỸ NỒI CHÁO HUẾ - A LƯỚI THÁNG 08/2024
A4: NGÀY | B4: DIỄN GIẢI | C4: THU | E4: CHI | F4: TỒN
C5: CMTX | D5: CMKTX
A6: Tồn đầu tháng 08/2024 | F6: ='T7.2024'!C54 -> 10408600
A7: 45507 | B7: Anh Dang Hiep Hoang ủng hộ KTX | D7: 500000 | F7: =F6+C7+D7-E7 -> 10908600
A8: 45510 | B8: Đồng nghiệp USG CMTX T8 | C8: 1200000 | F8: =F7+C8+D8-E8 -> 12108600
A9: 45514 | B9: Mua thịt | E9: 300000 | F9: =F8+C9+D9-E9 -> 11808600
A10: 45514 | B10: Mua tiêu | E10: 10000 | F10: =F9+C10+D10-E10 -> 11798600
A11: 45514 | B11: Mua khuôn đậu | E11: 10000 | F11: =F10+C11+D11-E11 -> 11788600
A12: 45514 | B12: Mua mồng tơi | E12: 25000 | F12: =F11+C12+D12-E12 -> 11763600
A13: 45514 | B13: Mua đậu ve | E13: 30000 | F13: =F12+C13+D13-E13 -> 11733600
A14: 45514 | B14: Mua hành củ | E14: 10000 | F14: =F13+C14+D14-E14 -> 11723600
A15: 45514 | B15: Mua hành lá | E15: 10000 | F15: =F14+C15+D15-E15 -> 11713600
A16: 45514 | B16: Mua hành tây | E16: 7000 | F16: =F15+C16+D16-E16 -> 11706600
A17: 45514 | B17: Mua ớt | E17: 5000 | F17: =F16+C17+D17-E17 -> 11701600
A18: 45514 | B18: Mua khoai tây + cà rốt | E18: 110000 | F18: =F17+C18+D18-E18 -> 11591600
A19: 45514 | B19: Mua bí đỏ | E19: 58000 | F19: =F18+C19+D19-E19 -> 11533600
A20: 45529 | B20: Nha hao tam ủng hộ KTX | D20: 500000 | F20: =F19+C20+D20-E20 -> 12033600
A21: 45529 | B21: Mua thịt | E21: 300000 | F21: =F20+C21+D21-E21 -> 11733600
A22: 45529 | B22: Mua knor | E22: 75000 | F22: =F21+C22+D22-E22 -> 11658600
A23: 45529 | B23: Mua tiêu | E23: 20000 | F23: =F22+C23+D23-E23 -> 11638600
A24: 45529 | B24: Mua mồng tơi | E24: 20000 | F24: =F23+C24+D24-E24 -> 11618600
A25: 45529 | B25: Mua khuôn dậu | E25: 10000 | F25: =F24+C25+D25-E25 -> 11608600
A26: 45529 | B26: Mua đậu ve | E26: 20000 | F26: =F25+C26+D26-E26 -> 11588600
A27: 45529 | B27: Mua hành củ | E27: 8000 | F27: =F26+C27+D27-E27 -> 11580600
A28: 45529 | B28: Mua hành lá | E28: 5000 | F28: =F27+C28+D28-E28 -> 11575600
A29: 45529 | B29: Mua hành tây | E29: 5000 | F29: =F28+C29+D29-E29 -> 11570600
A30: 45529 | B30: Mua ớt | E30: 5000 | F30: =F29+C30+D30-E30 -> 11565600
A31: 45529 | B31: Mua bí đỏ | E31: 35000 | F31: =F30+C31+D31-E31 -> 11530600
A32: 45529 | B32: Mua khoai tây + cà rốt | E32: 85000 | F32: =F31+C32+D32-E32 -> 11445600
... A36: 45529 | B36: Mua gạo | E36: 450000 | F36: =F35+C36+D36-E36 -> 10751600
A37: Tồng cộng | C37: =SUM(C7:C36) -> 1200000 | D37: =SUM(D7:D36) -> 1000000 | E37: =SUM(E7:E36) -> 1857000 | F37: =F6+C37+D37-E37 -> 10751600
A38: Tồn cuối tháng 08/2024 | C38: =F6+C37+D37-E37 -> 10751600

Sheet T9.2024
A2: BÁO CÁO QUỸ NỒI CHÁO HUẾ - A LƯỚI THÁNG 09/2024
A4: NGÀY | B4: DIỄN GIẢI | C4: THU | E4: CHI | F4: TỒN
C5: CMTX | D5: CMKTX
A6: Tồn đầu tháng 09/2024 | F6: ='T8.2024'!C38 -> 10751600
A7: 45550 | B7: Chị Ngoc Thanh ủng hộ KTX | D7: 200000 | F7: =F6+C7+D7-E7 -> 10951600
A8: 45554 | B8: Đồng nghiệp USG CMTX T9 | C8: 500000 | F8: =F7+C8+D8-E8 -> 11451600
A9: 45564 | B9: Anh Truong Van Tuan ủng hộ KTX | D9: 1000000 | F9: =F8+C9+D9-E9 -> 12451600
A10: 45543 | B10: Mua thịt | E10: 300000 | F10: =F9+C10+D10-E10 -> 12151600
A11: 45543 | B11: Mua đậu ve | E11: 20000 | F11: =F10+C11+D11-E11 -> 12131600
A12: 45543 | B12: Mua khuôn đậu | E12: 10000 | F12: =F11+C12+D12-E12 -> 12121600
A13: 45543 | B13: Mua mồng tơi | E13: 18000 | F13: =F12+C13+D13-E13 -> 12103600
A14: 45543 | B14: Mua hành lá | E14: 7000 | F14: =F13+C14+D14-E14 -> 12096600
A15: 45543 | B15: Mua hành củ | E15: 8000 | F15: =F14+C15+D15-E15 -> 12088600
A16: 45543 | B16: Mua hành tây | E16: 5000 | F16: =F15+C16+D16-E16 -> 12083600
A17: 45543 | B17: Mua ớt | E17: 5000 | F17: =F16+C17+D17-E17 -> 12078600
A18: 45543 | B18: Mua bí đỏ | E18: 35000 | F18: =F17+C18+D18-E18 -> 12043600
A19: 45543 | B19: Mua khoai tây + cà rốt | E19: 75000 | F19: =F18+C19+D19-E19 -> 11968600
A20: 45549 | B20: Mua thịt | E20: 300000 | F20: =F19+C20+D20-E20 -> 11668600
A21: 45549 | B21: Mua khuôn đậu | E21: 10000 | F21: =F20+C21+D21-E21 -> 11658600
... A55: 45563 | B55: Mua gạo | E55: 400000 | F55: =F54+C55+D55-E55 -> 9563600
A56: Tồng cộng | C56: =SUM(C7:C55) -> 500000 | D56: =SUM(D7:D55) -> 1200000 | E56: =SUM(E7:E55) -> 2888000 | F56: =F6+C56+D56-E56 -> 9563600
A57: Tồn cuối tháng 09/2024 | C57: =F6+C56+D56-E56 -> 9563600

Sheet T10.2024
A2: BÁO CÁO QUỸ NỒI CHÁO HUẾ - A LƯỚI THÁNG 10/2024
A4: NGÀY | B4: DIỄN GIẢI | C4: THU | E4: CHI | F4: TỒN
C5: CMTX | D5: CMKTX
A6: Tồn đầu tháng 10/2024 | F6: ='T9.2024'!F56 -> 9563600
A7: 45569 | B7: MTQ có số GD 548001.58023.235635 ủng hộ KTX | D7: 1000000 | F7: =F6+C7+D7-E7 -> 10563600
A8: 45569 | B8: Đồng nghiệp USG CMTX T10 | C8: 1000000 | F8: =F7+C8+D8-E8 -> 11563600
A9: 45570 | B9: Mua thịt | E9: 400000 | F9: =F8+C9+D9-E9 -> 11163600
A10: 45570 | B10: Mua dầu | E10: 160000 | F10: =F9+C10+D10-E10 -> 11003600
A11: 45570 | B11: Mua tiêu | E11: 20000 | F11: =F10+C11+D11-E11 -> 10983600
A12: 45570 | B12: Mua hạt nêm | E12: 45000 | F12: =F11+C12+D12-E12 -> 10938600
A13: 45570 | B13: Mua khoai tây + cà rốt | E13: 110000 | F13: =F12+C13+D13-E13 -> 10828600
A14: 45570 | B14: Mua bí đỏ | E14: 42000 | F14: =F13+C14+D14-E14 -> 10786600
A15: 45570 | B15: Mua ớt | E15: 5000 | F15: =F14+C15+D15-E15 -> 10781600
A16: 45570 | B16: Mua đậu ve | E16: 30000 | F16: =F15+C16+D16-E16 -> 10751600
A17: 45570 | B17: Mua mồng tơi | E17: 25000 | F17: =F16+C17+D17-E17 -> 10726600
A18: 45570 | B18: Mua hành tây | E18: 7000 | F18: =F17+C18+D18-E18 -> 10719600
A19: 45570 | B19: Mua hành củ | E19: 10000 | F19: =F18+C19+D19-E19 -> 10709600
A20: 45570 | B20: Mua hành lá | E20: 10000 | F20: =F19+C20+D20-E20 -> 10699600
... A37: 45577 | B37: Mua gas | E37: 440000 | F37: =F36+C37+D37-E37 -> 8748600
A38: Tồng cộng | C38: =SUM(C7:C37) -> 1000000 | D38: =SUM(D7:D37) -> 1000000 | E38: =SUM(E7:E37) -> 2815000 | F38: =F6+C38+D38-E38 -> 8748600
A39: Tồn cuối tháng 10/2024 | C39: =F6+C38+D38-E38 -> 8748600

Sheet T11.2024
A2: BÁO CÁO QUỸ NỒI CHÁO HUẾ - A LƯỚI THÁNG 11/2024
A4: NGÀY | B4: DIỄN GIẢI | C4: THU | E4: CHI | F4: TỒN
C5: CMTX | D5: CMKTX
A6: Tồn đầu tháng 11/2024 | F6: ='T10.2024'!F38 -> 8748600
A7: 45599 | B7: Mua ớt | E7: 10000 | F7: =F6+C7+D7-E7 -> 8738600
A8: 45599 | B8: Mua thịt | E8: 300000 | F8: =F7+C8+D8-E8 -> 8438600
A9: 45599 | B9: Mua khuôn đậu | E9: 10000 | F9: =F8+C9+D9-E9 -> 8428600
A10: 45599 | B10: Mua tiêu | E10: 20000 | F10: =F9+C10+D10-E10 -> 8408600
A11: 45599 | B11: Mua mồng tơi | E11: 30000 | F11: =F10+C11+D11-E11 -> 8378600
A12: 45599 | B12: Mua bí đỏ | E12: 40000 | F12: =F11+C12+D12-E12 -> 8338600
A13: 45599 | B13: Mua hành củ | E13: 10000 | F13: =F12+C13+D13-E13 -> 8328600
A14: 45599 | B14: Mua đậu ve | E14: 32000 | F14: =F13+C14+D14-E14 -> 8296600
A15: 45599 | B15: Mua khoai tây + cà rốt | E15: 110000 | F15: =F14+C15+D15-E15 -> 8186600
A16: 45599 | B16: Mua hành tây | E16: 15000 | F16: =F15+C16+D16-E16 -> 8171600
A17: 45599 | B17: Mua hành lá | E17: 25000 | F17: =F16+C17+D17-E17 -> 8146600
A18: 45599 | B18: Mua ớt | E18: 10000 | F18: =F17+C18+D18-E18 -> 8136600
A19: 45600 | B19: Đồng nghiệp USG CMTX T11 | C19: 500000 | F19: =F18+C19+D19-E19 -> 8636600
A20: 45604 | B20: Chị Do Thi Thu Hue ủng hộ KTX | D20: 300000 | F20: =F19+C20+D20-E20 -> 8936600
A21: 45606 | B21: Mua thịt | E21: 300000 | F21: =F20+C21+D21-E21 -> 8636600
A22: 45606 | B22: Mua khuôn đậu | E22: 10000 | F22: =F21+C22+D22-E22 -> 8626600
A23: 45606 | B23: Mua muối | E23: 4000 | F23: =F22+C23+D23-E23 -> 8622600
A24: 45606 | B24: Mua dầu | E24: 165000 | F24: =F23+C24+D24-E24 -> 8457600
A25: 45606 | B25: Mua bí đỏ | E25: 38000 | F25: =F24+C25+D25-E25 -> 8419600
A26: 45606 | B26: Mua mồng tơi | E26: 30000 | F26: =F25+C26+D26-E26 -> 8389600
A27: 45606 | B27: Mua đậu ve | E27: 30000 | F27: =F26+C27+D27-E27 -> 8359600
A28: 45606 | B28: Mua hành củ | E28: 10000 | F28: =F27+C28+D28-E28 -> 8349600
A29: 45606 | B29: Mua khoai tây + cà rốt | E29: 110000 | F29: =F28+C29+D29-E29 -> 8239600
A30: 45606 | B30: Mua hành lá | E30: 25000 | F30: =F29+C30+D30-E30 -> 8214600
A31: 45606 | B31: Mua ớt | E31: 10000 | F31: =F30+C31+D31-E31 -> 8204600
A32: 45606 | B32: Mua hành tây | E32: 15000 | F32: =F31+C32+D32-E32 -> 8189600
... A54: 45619 | B54: Mua khoai tây + cà rốt | E54: 110000 | F54: =F53+C54+D54-E54 -> 6382600
A55: 45620 | B55: Chị Thu Nhi ủng hộ KTX | D55: 400000 | F55: =F54+C55+D55-E55 -> 6782600
A56: Tồng cộng | C56: =SUM(C7:C55) -> 500000 | D56: =SUM(D7:D55) -> 700000 | E56: =SUM(E7:E55) -> 3166000 | F56: =F6+C56+D56-E56 -> 6782600
A57: Tồn cuối tháng 11/2024 | C57: =F6+C56+D56-E56 -> 6782600

Sheet T12.2024
A2: BÁO CÁO QUỸ NỒI CHÁO HUẾ - A LƯỚI THÁNG 12/2024
A4: NGÀY | B4: DIỄN GIẢI | C4: THU | E4: CHI | F4: TỒN
C5: CMTX | D5: CMKTX
A6: Tồn đầu tháng 12/2024 | F6: ='T11.2024'!F56 -> 6782600
A7: 45631 | B7: Đồng nghiệp USG CMTX T12 | C7: 500000 | F7: =F6+C7+D7-E7 -> 7282600
A8: 45633 | B8: Mua thịt | E8: 300000 | F8: =F7+C8+D8-E8 -> 6982600
A9: 45633 | B9: Mua khuôn đậu | E9: 10000 | F9: =F8+C9+D9-E9 -> 6972600
A10: 45633 | B10: Mua mồng tơi | E10: 30000 | F10: =F9+C10+D10-E10 -> 6942600
A11: 45633 | B11: Mua bí đỏ | E11: 42000 | F11: =F10+C11+D11-E11 -> 6900600
A12: 45633 | B12: Mua hành lá | E12: 25000 | F12: =F11+C12+D12-E12 -> 6875600
A13: 45633 | B13: Mua hành củ | E13: 10000 | F13: =F12+C13+D13-E13 -> 6865600
A14: 45633 | B14: Mua hành tây | E14: 15000 | F14: =F13+C14+D14-E14 -> 6850600
A15: 45633 | B15: Mua ớt | E15: 5000 | F15: =F14+C15+D15-E15 -> 6845600
A16: 45633 | B16: Mua khoai tây + cà rốt | E16: 110000 | F16: =F15+C16+D16-E16 -> 6735600
A17: 45633 | B17: Mua đậu ve | E17: 30000 | F17: =F16+C17+D17-E17 -> 6705600
A18: 45647 | B18: Mua mì chính | E18: 58000 | F18: =F17+C18+D18-E18 -> 6647600
A19: 45647 | B19: Mua hạt nêm | E19: 45000 | F19: =F18+C19+D19-E19 -> 6602600
... A43: 45655 | B43: Mua nước | E43: 100000 | F43: =F42+C43+D43-E43 -> 4988600
A44: Tồng cộng | C44: =SUM(C7:C43) -> 500000 | D44: =SUM(D7:D43) -> 0 | E44: =SUM(E7:E43) -> 2294000 | F44: =F6+C44+D44-E44 -> 4988600
A45: Tồn cuối tháng 12/2024 | C45: =F6+C44+D44-E44 -> 4988600
