Workbook

Sheet Thống kê ủng hộ
B2: NTCM - THỐNG KÊ ỦNG HỘ Hỗ trợ đồng bào vùng lũ Hữu Lũng - Lạng Sơn 2025 (Tính đến 03h39 ngày 14/10/2025)
B3: STT | C3: NT | D3: TÊN/ NICK | E3: SỐ TIỀN | F3: STT | G3: NT | H3: TÊN/ NICK | I3: SỐ TIỀN
B4: 1 | C4: 09/10 | D4: Do Minh Quang | E4: 500000 | F4: 24 | G4: 09/10 | H4: TU ALNY | I4: 300000
B5: 2 | C5: 09/10 | D5: Nguyen Thi Thoi | E5: 500000 | F5: 25 | G5: 09/10 | H5: Pham Le Di | I5: 200000
B6: 3 | C6: 09/10 | D6: Trinh Thi Dieu Thuong | E6: 500000 | F6: 26 | G6: 09/10 | H6: Jessie Nguyen (Nguyen Thi Thuy Tien) | I6: 10000000
B7: 4 | C7: 09/10 | D7: Vu Ngoc Thuy | E7: 500000 | F7: 27 | G7: 09/10 | H7: Tepty | I7: 500000
B8: 5 | C8: 09/10 | D8: Le Nhat Minh | E8: 500000 | F8: 28 | G8: 09/10 | H8: Vo Thi Quynh Mai | I8: 500000
B9: 6 | C9: 09/10 | D9: Duong Thuy An | E9: 500000 | F9: 29 | G9: 09/10 | H9: Ha Trong Duc | I9: 500000
B10: 7 | C10: 09/10 | D10: Pham Thi Linh Duong | E10: 1000000 | F10: 30 | G10: 09/10 | H10: GD Hai An (Lam Y Khue) | I10: 1000000
B11: 8 | C11: 09/10 | D11: LXVu (Le Xuan Vu) | E11: 300000 | F11: 31 | G11: 09/10 | H11: Pham Thi Ngoan | I11: 200000
B12: 9 | C12: 09/10 | D12: Huynh Ngoc Ngan | E12: 300000 | F12: 32 | G12: 09/10 | H12: Do Kim Ngan | I12: 1000000
B13: 10 | C13: 09/10 | D13: Nguyen Thi Thuy Hang | E13: 400000 | F13: 33 | G13: 10/10 | H13: Binh Quoc Viet Do | I13: 3000000
B14: 11 | C14: 09/10 | D14: Van Nguyen (Nguyen Anh Dao) | E14: 1000000 | F14: 34 | G14: 10/10 | H14: Ha va ae (Hoang Manh Ha) | I14: 1500000
B15: 12 | C15: 09/10 | D15: Maisa Phan (Nguyen Anh Dao) | E15: 2000000 | F15: 35 | G15: 10/10 | H15: Bui Thi Loan | I15: 500000
... B26: 23 | C26: 09/10 | D26: Me Ti Tom (Tran Thi Thu Phuong) | E26: 300000 | F26: 46 | G26: 14/10 | H26: Nguyen Thi Thu Hien (bạn anh ThaiDzuy) | I26: 2000000
D27: TỔNG CỘNG | H27: =SUM(E4:E26)+SUM(I4:I26) -> 55300000 | I27: VNĐ
C28: 10/10 | D28: Tạm ứng lần 1 từ quỹ 1501 | H28: 30000000 | I28: VNĐ
C29: 15/10 | D29: Tạm ứng lần 2 từ quỹ 1501 | H29: 25300000 | I29: VNĐ
I30: VNĐ
I31: VNĐ
I32: VNĐ
D33: Còn lại tại quỹ 1501 | H33: =H27-SUM(H28:H32) -> 0 | I33: VNĐ

Sheet Quyết toán chi phí
B2: NTCM - QUYẾT TOÁN CHI PHÍ Hỗ trợ đồng bào vùng lũ Hữu Lũng - Lạng Sơn 2025
B3: STT | C3: Nội dung | D3: Đơn vị tính | E3: Số lượng | F3: Đơn giá | G3: Thành tiền
B4: 1 | C4: Gạo ăn (gạo bắc thơm) | D4: Kg | E4: 10 | F4: 17000 | G4: =E4*F4 -> 170000 | I4: =G4*$G$12 -> 18700000
B5: 2 | C5: Mỳ tôm hảo hảo (30 gói/thùng) | D5: Thùng | E5: 1 | F5: 114500 | G5: =E5*F5 -> 114500 | I5: =G5*$G$12 -> 12595000
B6: 3 | C6: Bột giặt ô mô 770g | D6: Gói | E6: 1 | F6: 34000 | G6: =E6*F6 -> 34000 | I6: =G6*$G$12 -> 3740000
B7: 4 | C7: Hạt nêm Ajo-ngon | D7: Gói | E7: 1 | F7: 25500 | G7: =E7*F7 -> 25500 | I7: =G7*$G$12 -> 2805000
B8: 5 | C8: Nước mắm Nam ngư | D8: Chai | E8: 1 | F8: 31500 | G8: =E8*F8 -> 31500 | I8: =G8*$G$12 -> 3465000
B9: 6 | C9: Bột canh Hải châu 190g | D9: Gói | E9: 1 | F9: 3800 | G9: =E9*F9 -> 3800 | I9: =G9*$G$12 -> 418000
B10: 7 | C10: Dầu nành Simply 1 lít | D10: Chai | E10: 1 | F10: 53500 | G10: =E10*F10 -> 53500 | I10: =G10*$G$12 -> 5885000
C11: Đơn giá 1 suất quà | G11: =SUM(G4:G10) -> 432800
C12: Số suất quà | G12: 110
C13: Tổng chi phí 110 SUẤT | G13: =G11*G12 -> 47608000
B15: 20 SUẤT QUÀ CHO HỘ CÓ TRẺ EM
B16: 1 | C16: Mì tôm | D16: Thùng | E16: =E39/20 -> 1 | F16: Đại Đoàn Gia uh
B17: 2 | C17: Sữa | D17: Thùng | E17: =E40/20 -> 0.5 | F17: Đại Đoàn Gia uh
B18: 3 | C18: Vở ô ly | D18: Quyển | E18: =E41/20 -> 3 | F18: Đại Đoàn Gia uh
B19: 4 | C19: Gạo | D19: Kg | E19: =E42/20 -> 5 | F19: Đại Đoàn Gia uh
B20: 5 | C20: Gạo | D20: Kg | E20: 5 | F20: =F4 -> 17000 | G20: =E20*F20 -> 85000 | I20: =G20*$G$27 -> 1700000
B21: 6 | C21: Bột giặt ô mô 770g | D21: Gói | E21: 1 | F21: 34000 | G21: =E21*F21 -> 34000 | I21: =G21*$G$27 -> 680000
B22: 7 | C22: Hạt nêm Ajo-ngon | D22: Gói | E22: 1 | F22: 25500 | G22: =E22*F22 -> 25500 | I22: =G22*$G$27 -> 510000
B23: 8 | C23: Nước mắm Nam ngư | D23: Chai | E23: 1 | F23: 31500 | G23: =E23*F23 -> 31500 | I23: =G23*$G$27 -> 630000
B24: 9 | C24: Bột canh Hải châu 190g | D24: Gói | E24: 1 | F24: 3800 | G24: =E24*F24 -> 3800 | I24: =G24*$G$27 -> 76000
B25: 10 | C25: Dầu nành Simply 1 lít | D25: Chai | E25: 1 | F25: 53500 | G25: =E25*F25 -> 53500 | I25: =G25*$G$27 -> 1070000
C26: Đơn giá 1 suất quà | G26: =SUM(G16:G25) -> 233300
C27: Số suất quà | G27: 20
C28: Tổng chi phí 20 SUẤT | G28: =G26*G27 -> 4666000
B30: TỔNG CHI PHÍ 130 SUẤT QUÀ | G30: =G13+G28 -> 52274000
B31: TỔNG TIỀN ỦNG HỘ | G31: ='Thống kê ủng hộ'!H27 -> 55300000
B32: CÒN DƯ | G32: =G31-G30 -> 3026000
B38: CTY ĐẠI ĐOÀN GIA UH HIỆN VẬT
B39: 1 | C39: Mì tôm | D39: Thùng | E39: 20
B40: 2 | C40: Sữa | D40: Thùng | E40: 10
B41: 3 | C41: Vở ô ly | D41: Quyển | E41: 60
B42: 4 | C42: Gạo | D42: Kg | E42: 100

Sheet Báo cáo thu chi
B2: NTCM - BÁO CÁO THU CHI Hỗ trợ đồng bào vùng lũ Hữu Lũng - Lạng Sơn 2025
B3: STT | C3: NT | D3: NỘI DUNG | E3: THU | F3: CHI | G3: Người nhận tiền
B4: 1 | C4: ='Thống kê ủng hộ'!C28 -> 10/10 | D4: ='Thống kê ủng hộ'!D28:G28 -> Tạm ứng lần 1 từ quỹ 1501 | E4: ='Thống kê ủng hộ'!H28 -> 30000000
B5: 2 | C5: ='Thống kê ủng hộ'!C29 -> 15/10 | D5: ='Thống kê ủng hộ'!D29:G29 -> Tạm ứng lần 2 từ quỹ 1501 | E5: ='Thống kê ủng hộ'!H29 -> 25300000
B6: 3 | C6: 15/10 | D6: Thanh toán tiền mua gạo | F6: 20400000 | G6: CTK: Nguyen Thi Hoan STK: 103875301698 NH Vietinbank
B7: 4 | C7: 15/10 | D7: Thanh toán tiền mua 130 suất quà (mì tôm, bột giặt, hạt nêm, nước mắm, bột canh, dầu ăn) | F7: 31874000 | G7: CTK: Nguyen Trung Kien STK: 109875424215 NH Vietinbank
B8: 5 | C8: 16/10 | D8: Chuyển tiền dư lại quỹ 1501 | F8: 3026000
B9: 6
B10: 7
B11: 8
B12: 9
D13: TỔNG CỘNG | E13: =SUM(E4:E12) -> 55300000 | F13: =SUM(F4:F12) -> 55300000
D14: Còn lại tại quỹ chương trình | E14: =E13-F13 -> 0
