Workbook

Sheet T1.24
A1: BÁO CÁO THU CHI NỒI CHÁO ĐĂK LĂK THÁNG 01/2024
G2: ĐVT: đồng
A3: Ngày | B3: Chi tiết | C3: Thu | E3: Chi | G3: Tồn
C4: CMTX | D4: CMKTX | E4: NC Cư Pui | F4: NC Yang Mao
A5: Tồn đầu tháng 01/2024 | G5: ='[1]T12.23'!G88 -> 56055400
A6: 45293 | B6: Nhóm bạn Van Trang Hoa CMTX T01 | C6: 2600000 | G6: =G5+C6+D6-E6-F6 -> 58655400
A7: 45293 | B7: Đồng nghiệp USG CMTX T01 | C7: 20000000 | G7: =G6+C7+D7-E7-F7 -> 78655400
A8: 45298 | B8: Mua 16kg thịt nạc heo | E8: 1520000 | G8: =G7+C8+D8-E8-F8 -> 77135400
A9: 45298 | B9: Mua 12kg bí đỏ | E9: 180000 | G9: =G8+C9+D9-E9-F9 -> 76955400
A10: 45298 | B10: Mua 20kg gạo | E10: 320000 | G10: =G9+C10+D10-E10-F10 -> 76635400
A11: 45298 | B11: Mua 12kg rau ngót | E11: 144000 | G11: =G10+C11+D11-E11-F11 -> 76491400
A12: 45298 | B12: Tiền củi điện nước 4 nồi | E12: 60000 | G12: =G11+C12+D12-E12-F12 -> 76431400
A13: 45298 | B13: Mua dầu ăn | E13: 112000 | G13: =G12+C13+D13-E13-F13 -> 76319400
A14: 45298 | B14: Mua muối + hạt nêm | E14: 48000 | G14: =G13+C14+D14-E14-F14 -> 76271400
A15: 45298 | B15: Mua 8kg thịt nạc heo | E15: 640000 | G15: =G14+C15+D15-E15-F15 -> 75631400
A16: 45298 | B16: Mua 5kg bí đỏ | E16: 50000 | G16: =G15+C16+D16-E16-F16 -> 75581400
A17: 45298 | B17: Mua 15kg gạo | E17: 255000 | G17: =G16+C17+D17-E17-F17 -> 75326400
A18: 45298 | B18: Mua 1kg rau ngò | E18: 15000 | G18: =G17+C18+D18-E18-F18 -> 75311400
A19: 45298 | B19: Mua 1 chai dầu ăn | E19: 10000 | G19: =G18+C19+D19-E19-F19 -> 75301400
A20: 45298 | B20: Mua muối + hạt nêm | E20: 10000 | G20: =G19+C20+D20-E20-F20 -> 75291400
A21: 45298 | B21: Mua 5kg thịt gà | F21: 300000 | G21: =G20+C21+D21-E21-F21 -> 74991400
A22: 45298 | B22: Mua 2kg rau má | F22: 40000 | G22: =G21+C22+D22-E22-F22 -> 74951400
A23: 45298 | B23: Mua 4kg bí đỏ | F23: 60000 | G23: =G22+C23+D23-E23-F23 -> 74891400
A24: 45298 | B24: Mua 5kg gạo | F24: 80000 | G24: =G23+C24+D24-E24-F24 -> 74811400
A25: 45298 | B25: Tiền củi điện nước 1 nồi | F25: 15000 | G25: =G24+C25+D25-E25-F25 -> 74796400
A26: 45298 | B26: Mua bột ngọt, hạt nêm | F26: 10000 | G26: =G25+C26+D26-E26-F26 -> 74786400
A27: 45298 | B27: Mua dầu ăn | F27: 10000 | G27: =G26+C27+D27-E27-F27 -> 74776400
A28: 45305 | B28: Nhóm GOM ủng hộ KTX | D28: 10000000 | G28: =G27+C28+D28-E28-F28 -> 84776400
A29: 45305 | B29: Mua 16kg thịt nạc heo | E29: 1520000 | G29: =G28+C29+D29-E29-F29 -> 83256400
A30: 45305 | B30: Mua 12kg bí đỏ | E30: 180000 | G30: =G29+C30+D30-E30-F30 -> 83076400
A31: 45305 | B31: Mua 20kg gạo | E31: 320000 | G31: =G30+C31+D31-E31-F31 -> 82756400
A32: 45305 | B32: Mua 12kg rau ngót | E32: 144000 | G32: =G31+C32+D32-E32-F32 -> 82612400
A33: 45305 | B33: Tiền củi điện nước 4 nồi | E33: 60000 | G33: =G32+C33+D33-E33-F33 -> 82552400
A34: 45305 | B34: Mua muối + hạt nêm | E34: 48000 | G34: =G33+C34+D34-E34-F34 -> 82504400
A35: 45305 | B35: Mua 8kg thịt nạc heo | E35: 640000 | G35: =G34+C35+D35-E35-F35 -> 81864400
A36: 45305 | B36: Mua 5kg bí đỏ | E36: 50000 | G36: =G35+C36+D36-E36-F36 -> 81814400
A37: 45305 | B37: Mua 15kg gạo | E37: 255000 | G37: =G36+C37+D37-E37-F37 -> 81559400
A38: 45305 | B38: Mua 1kg rau ngò | E38: 15000 | G38: =G37+C38+D38-E38-F38 -> 81544400
A39: 45305 | B39: Mua 1 chai dầu ăn | E39: 10000 | G39: =G38+C39+D39-E39-F39 -> 81534400
A40: 45305 | B40: Mua muối + hạt nêm | E40: 10000 | G40: =G39+C40+D40-E40-F40 -> 81524400
A41: 45305 | B41: Bảng hiệu 6 điểm nấu | E41: 900000 | G41: =G40+C41+D41-E41-F41 -> 80624400
A42: 45305 | B42: Mua 3kg thịt nạc heo xay | F42: 300000 | G42: =G41+C42+D42-E42-F42 -> 80324400
A43: 45305 | B43: Mua 1.4kg rau má | F43: 28000 | G43: =G42+C43+D43-E43-F43 -> 80296400
A44: 45305 | B44: Mua 5kg gạo | F44: 80000 | G44: =G43+C44+D44-E44-F44 -> 80216400
A45: 45305 | B45: Mua 3.5kg bí đỏ | F45: 52500 | G45: =G44+C45+D45-E45-F45 -> 80163900
A46: 45305 | B46: Tiền củi điện nước 1 nồi | F46: 15000 | G46: =G45+C46+D46-E46-F46 -> 80148900
A47: 45305 | B47: Mua bột ngọt, hạt nêm | F47: 10000 | G47: =G46+C47+D47-E47-F47 -> 80138900
A48: 45305 | B48: Mua dầu ăn | F48: 10000 | G48: =G47+C48+D48-E48-F48 -> 80128900
A49: 45312 | B49: Mua 16kg thịt nạc heo | E49: 1520000 | G49: =G48+C49+D49-E49-F49 -> 78608900
A50: 45312 | B50: Mua 12kg bí đỏ | E50: 180000 | G50: =G49+C50+D50-E50-F50 -> 78428900
A51: 45312 | B51: Mua 20kg gạo | E51: 320000 | G51: =G50+C51+D51-E51-F51 -> 78108900
A52: 45312 | B52: Mua 12kg rau ngót | E52: 144000 | G52: =G51+C52+D52-E52-F52 -> 77964900
A53: 45312 | B53: Tiền củi điện nước 4 nồi | E53: 60000 | G53: =G52+C53+D53-E53-F53 -> 77904900
A54: 45312 | B54: Mua muối + hạt nêm | E54: 48000 | G54: =G53+C54+D54-E54-F54 -> 77856900
A55: 45312 | B55: Mua 8kg thịt nạc heo | E55: 640000 | G55: =G54+C55+D55-E55-F55 -> 77216900
A56: 45312 | B56: Mua 5kg bí đỏ | E56: 50000 | G56: =G55+C56+D56-E56-F56 -> 77166900
A57: 45312 | B57: Mua 15kg gạo | E57: 255000 | G57: =G56+C57+D57-E57-F57 -> 76911900
A58: 45312 | B58: Mua 1.5kg rau ngò | E58: 20000 | G58: =G57+C58+D58-E58-F58 -> 76891900
A59: 45312 | B59: Mua 1 chai dầu ăn | E59: 10000 | G59: =G58+C59+D59-E59-F59 -> 76881900
A60: 45312 | B60: Mua muối + hạt nêm | E60: 10000 | G60: =G59+C60+D60-E60-F60 -> 76871900
A61: 45312 | B61: Mua 5kg thịt gà | F61: 300000 | G61: =G60+C61+D61-E61-F61 -> 76571900
A62: 45312 | B62: Mua 1.4kg rau má | F62: 28000 | G62: =G61+C62+D62-E62-F62 -> 76543900
A63: 45312 | B63: Mua 3.5kg bí đỏ | F63: 52500 | G63: =G62+C63+D63-E63-F63 -> 76491400
A64: 45312 | B64: Mua 6kg gạo | F64: 96000 | G64: =G63+C64+D64-E64-F64 -> 76395400
A65: 45312 | B65: Tiền củi điện nước 1 nồi | F65: 15000 | G65: =G64+C65+D65-E65-F65 -> 76380400
A66: 45312 | B66: Mua bột ngọt, hạt nêm | F66: 10000 | G66: =G65+C66+D66-E66-F66 -> 76370400
A67: 45312 | B67: Mua dầu ăn | F67: 10000 | G67: =G66+C67+D67-E67-F67 -> 76360400
A68: 45319 | B68: Mua 16kg thịt nạc heo | E68: 1520000 | G68: =G67+C68+D68-E68-F68 -> 74840400
A69: 45319 | B69: Mua 12kg bí đỏ | E69: 180000 | G69: =G68+C69+D69-E69-F69 -> 74660400
A70: 45319 | B70: Mua 20kg gạo | E70: 320000 | G70: =G69+C70+D70-E70-F70 -> 74340400
A71: 45319 | B71: Mua 12kg rau ngót | E71: 144000 | G71: =G70+C71+D71-E71-F71 -> 74196400
A72: 45319 | B72: Tiền củi điện nước 4 nồi | E72: 60000 | G72: =G71+C72+D72-E72-F72 -> 74136400
A73: 45319 | B73: Mua muối + hạt nêm | E73: 48000 | G73: =G72+C73+D73-E73-F73 -> 74088400
A74: 45319 | B74: Mua 3kg thịt nạc heo xay | F74: 300000 | G74: =G73+C74+D74-E74-F74 -> 73788400
A75: 45319 | B75: Mua 2kg rau má | F75: 40000 | G75: =G74+C75+D75-E75-F75 -> 73748400
A76: 45319 | B76: Mua 6kg gạo | F76: 96000 | G76: =G75+C76+D76-E76-F76 -> 73652400
A77: 45319 | B77: Mua 3.5kg bí đỏ | F77: 52500 | G77: =G76+C77+D77-E77-F77 -> 73599900
A78: 45319 | B78: Tiền củi điện nước 1 nồi | F78: 15000 | G78: =G77+C78+D78-E78-F78 -> 73584900
A79: 45319 | B79: Mua bột ngọt, hạt nêm | F79: 10000 | G79: =G78+C79+D79-E79-F79 -> 73574900
A80: 45319 | B80: Mua dầu ăn | F80: 10000 | G80: =G79+C80+D80-E80-F80 -> 73564900
A81: Tồn cuối tháng 01/2024 | C81: =SUM(C6:C80) -> 22600000 | D81: =SUM(D6:D80) -> 10000000 | E81: =SUM(E6:E80) -> 13045000 | F81: =SUM(F6:F80) -> 2045500 | G81: =G5+C82-E82 -> 73564900
C82: =SUM(C81:D81) -> 32600000 | E82: =E81+F81 -> 15090500

Sheet T2.24
A1: BÁO CÁO THU CHI NỒI CHÁO ĐĂK LĂK THÁNG 02/2024
G2: ĐVT: đồng
A3: Ngày | B3: Chi tiết | C3: Thu | E3: Chi | G3: Tồn
C4: CMTX | D4: CMKTX | E4: NC Cư Pui | F4: NC Yang Mao
A5: Tồn đầu tháng 02/2024 | G5: ='T1.24'!G81 -> 73564900
A6: 45323 | B6: Đồng nghiệp USG CMTX T02 | C6: 14600000 | G6: =G5+C6+D6-E6-F6 -> 88164900
A7: 45327 | B7: Nhóm Van Trang Hoa CMTX T02 | C7: 2600000 | G7: =G6+C7+D7-E7-F7 -> 90764900
A8: 45326 | B8: Mua 16kg thịt nạc heo | E8: 1520000 | G8: =G7+C8+D8-E8-F8 -> 89244900
A9: 45326 | B9: Mua 12kg bí đỏ | E9: 180000 | G9: =G8+C9+D9-E9-F9 -> 89064900
A10: 45326 | B10: Mua 20kg gạo | E10: 320000 | G10: =G9+C10+D10-E10-F10 -> 88744900
A11: 45326 | B11: Mua 12kg rau ngót | E11: 144000 | G11: =G10+C11+D11-E11-F11 -> 88600900
A12: 45326 | B12: Tiền củi điện nước 4 nồi | E12: 60000 | G12: =G11+C12+D12-E12-F12 -> 88540900
A13: 45326 | B13: Mua muối + hạt nêm | E13: 48000 | G13: =G12+C13+D13-E13-F13 -> 88492900
A14: 45326 | B14: Mua dầu ăn | E14: 112000 | G14: =G13+C14+D14-E14-F14 -> 88380900
A15: 45347 | B15: Mua 16kg thịt nạc heo | E15: 1520000 | G15: =G14+C15+D15-E15-F15 -> 86860900
A16: 45347 | B16: Mua 12kg bí đỏ | E16: 180000 | G16: =G15+C16+D16-E16-F16 -> 86680900
A17: 45347 | B17: Mua 20kg gạo | E17: 340000 | G17: =G16+C17+D17-E17-F17 -> 86340900
A18: 45347 | B18: Mua 12kg rau ngót | E18: 144000 | G18: =G17+C18+D18-E18-F18 -> 86196900
A19: 45347 | B19: Tiền củi điện nước 4 nồi | E19: 60000 | G19: =G18+C19+D19-E19-F19 -> 86136900
A20: 45347 | B20: Mua muối + hạt nêm | E20: 48000 | G20: =G19+C20+D20-E20-F20 -> 86088900
A21: 45326 | B21: Mua 5kg thịt gà | F21: 300000 | G21: =G20+C21+D21-E21-F21 -> 85788900
A22: 45326 | B22: Mua 2kg rau má | F22: 40000 | G22: =G21+C22+D22-E22-F22 -> 85748900
A23: 45326 | B23: Mua 5kg gạo | F23: 80000 | G23: =G22+C23+D23-E23-F23 -> 85668900
A24: 45326 | B24: Mua 4kg bí đỏ | F24: 60000 | G24: =G23+C24+D24-E24-F24 -> 85608900
A25: 45326 | B25: Tiền củi điện nước 1 nồi | F25: 15000 | G25: =G24+C25+D25-E25-F25 -> 85593900
A26: 45326 | B26: Mua bột ngọt, hạt nêm | F26: 10000 | G26: =G25+C26+D26-E26-F26 -> 85583900
A27: 45326 | B27: Mua dầu ăn | F27: 10000 | G27: =G26+C27+D27-E27-F27 -> 85573900
A28: Tồn cuối tháng 2/2024 | C28: =SUM(C6:C27) -> 17200000 | D28: =SUM(D6:D27) -> 0 | E28: =SUM(E6:E27) -> 4676000 | F28: =SUM(F6:F27) -> 515000 | G28: =G5+C29-E29 -> 85573900
C29: =SUM(C28:D28) -> 17200000 | E29: =E28+F28 -> 5191000

Sheet T3.24
A1: BÁO CÁO THU CHI NỒI CHÁO ĐĂK LĂK THÁNG 03/2024
G2: ĐVT: đồng
A3: Ngày | B3: Chi tiết | C3: Thu | E3: Chi | G3: Tồn
C4: CMTX | D4: CMKTX | E4: NC Cư Pui | F4: NC Yang Mao
A5: Tồn đầu tháng 03/2024 | G5: ='T2.24'!G28 -> 85573900
A6: 45352 | B6: Đồng nghiệp USG CMTX T3 | C6: 4600000 | G6: =G5+C6+D6-E6-F6 -> 90173900
A7: 45354 | B7: Mua 7.7kg thịt nạc heo | E7: 639100 | G7: =G6+C7+D7-E7-F7 -> 89534800
A8: 45354 | B8: Mua 5kg cà rốt | E8: 75000 | G8: =G7+C8+D8-E8-F8 -> 89459800
A9: 45354 | B9: Mua 15kg gạo | E9: 240000 | G9: =G8+C9+D9-E9-F9 -> 89219800
A10: 45354 | B10: Mua 2 kg rau ngò | E10: 30000 | G10: =G9+C10+D10-E10-F10 -> 89189800
A11: 45354 | B11: Tiền củi điện nước 2 nồi | E11: 30000 | G11: =G10+C11+D11-E11-F11 -> 89159800
A12: 45354 | B12: Mua 1 chai dầu ăn | E12: 10000 | G12: =G11+C12+D12-E12-F12 -> 89149800
A13: 45354 | B13: Mua hạt nêm | E13: 5000 | G13: =G12+C13+D13-E13-F13 -> 89144800
A14: 45354 | B14: Mua 16kg thịt nạc heo | E14: 1440000 | G14: =G13+C14+D14-E14-F14 -> 87704800
A15: 45354 | B15: Mua 12kg bí đỏ | E15: 180000 | G15: =G14+C15+D15-E15-F15 -> 87524800
A16: 45354 | B16: Mua 20kg gạo | E16: 320000 | G16: =G15+C16+D16-E16-F16 -> 87204800
A17: 45354 | B17: Mua 12kg rau ngót | E17: 144000 | G17: =G16+C17+D17-E17-F17 -> 87060800
A18: 45354 | B18: Tiền củi điện nước 4 nồi | E18: 60000 | G18: =G17+C18+D18-E18-F18 -> 87000800
... A20: 45354 | B20: Mua muối + hạt nêm | E20: 48000 | G20: =G19+C20+D20-E20-F20 -> 86912800
A21: 45354 | B21: Mua 5kg thịt gà | F21: 300000 | G21: =G20+C21+D21-E21-F21 -> 86612800
A22: 45354 | B22: Mua 2kg rau má | F22: 40000 | G22: =G21+C22+D22-E22-F22 -> 86572800
A23: 45354 | B23: Mua 4kg bí đỏ | F23: 60000 | G23: =G22+C23+D23-E23-F23 -> 86512800
A24: 45354 | B24: Mua 4kg gạo | F24: 64000 | G24: =G23+C24+D24-E24-F24 -> 86448800
A25: 45354 | B25: Tiền củi điện nước 1 nồi | F25: 15000 | G25: =G24+C25+D25-E25-F25 -> 86433800
A26: 45354 | B26: Mua bột ngọt, hạt nêm | F26: 10000 | G26: =G25+C26+D26-E26-F26 -> 86423800
A27: 45354 | B27: Mua dầu ăn | F27: 10000 | G27: =G26+C27+D27-E27-F27 -> 86413800
A28: 45354 | B28: Nhóm Van Trang Hoa CMTX T3 | C28: 2600000 | G28: =G27+C28+D28-E28-F28 -> 89013800
A29: 45361 | B29: Mua 7.5kg thịt nạc heo | E29: 637500 | G29: =G28+C29+D29-E29-F29 -> 88376300
A30: 45361 | B30: Mua 5kg cà rốt | E30: 75000 | G30: =G29+C30+D30-E30-F30 -> 88301300
A31: 45361 | B31: Mua 15kg gạo | E31: 240000 | G31: =G30+C31+D31-E31-F31 -> 88061300
A32: 45361 | B32: Mua 2 kg rau ngò | E32: 30000 | G32: =G31+C32+D32-E32-F32 -> 88031300
A33: 45361 | B33: Mua 1 chai dầu ăn | E33: 10000 | G33: =G32+C33+D33-E33-F33 -> 88021300
A34: 45361 | B34: Mua hạt nêm | E34: 5000 | G34: =G33+C34+D34-E34-F34 -> 88016300
A35: 45361 | B35: Mua 16kg thịt nạc heo | E35: 1440000 | G35: =G34+C35+D35-E35-F35 -> 86576300
A36: 45361 | B36: Mua 12kg bí đỏ | E36: 180000 | G36: =G35+C36+D36-E36-F36 -> 86396300
A37: 45361 | B37: Mua 20kg gạo | E37: 320000 | G37: =G36+C37+D37-E37-F37 -> 86076300
A38: 45361 | B38: Mua 12kg rau ngót | E38: 144000 | G38: =G37+C38+D38-E38-F38 -> 85932300
A39: 45361 | B39: Tiền củi điện nước 4 nồi | E39: 60000 | G39: =G38+C39+D39-E39-F39 -> 85872300
A40: 45361 | B40: Mua dầu ăn | E40: 40000 | G40: =G39+C40+D40-E40-F40 -> 85832300
... A47: 45368 | B47: Mua hạt nêm | E47: 5000 | G47: =G46+C47+D47-E47-F47 -> 84771800
A48: 45375 | B48: Mua 3kg thịt heo | F48: 300000 | G48: =G47+C48+D48-E48-F48 -> 84471800
A49: 45375 | B49: Mua 2kg rau má | F49: 40000 | G49: =G48+C49+D49-E49-F49 -> 84431800
A50: 45375 | B50: Mua 3kg bí đỏ | F50: 45000 | G50: =G49+C50+D50-E50-F50 -> 84386800
A51: 45375 | B51: Mua 5kg gạo | F51: 80000 | G51: =G50+C51+D51-E51-F51 -> 84306800
A52: 45375 | B52: Tiền củi điện nước 1 nồi | F52: 15000 | G52: =G51+C52+D52-E52-F52 -> 84291800
A53: 45375 | B53: Mua bột ngọt, hạt nêm | F53: 10000 | G53: =G52+C53+D53-E53-F53 -> 84281800
A54: 45375 | B54: Mua dầu ăn | F54: 10000 | G54: =G53+C54+D54-E54-F54 -> 84271800
A55: 45368 | B55: Mua 7.5kg thịt nạc heo | E55: 652500 | G55: =G54+C55+D55-E55-F55 -> 83619300
A56: 45376 | B56: Mua 5kg cà rốt | E56: 75000 | G56: =G54+C56+D56-E56-F56 -> 84196800
A57: 45376 | B57: Mua 15kg gạo | E57: 240000 | G57: =G56+C57+D57-E57-F57 -> 83956800
A58: 45376 | B58: Mua 2 kg rau ngò | E58: 30000 | G58: =G57+C58+D58-E58-F58 -> 83926800
A59: 45376 | B59: Mua 1 chai dầu ăn | E59: 10000 | G59: =G58+C59+D59-E59-F59 -> 83916800
A60: 45376 | B60: Mua hạt nêm | E60: 5000 | G60: =G59+C60+D60-E60-F60 -> 83911800
A61: 45382 | B61: Mua 16kg thịt nạc heo | E61: 1440000 | G61: =G60+C61+D61-E61-F61 -> 82471800
A62: 45382 | B62: Mua 12kg bí đỏ | E62: 180000 | G62: =G61+C62+D62-E62-F62 -> 82291800
A63: 45382 | B63: Mua 20kg gạo | E63: 320000 | G63: =G62+C63+D63-E63-F63 -> 81971800
A64: 45382 | B64: Mua 12kg rau ngót | E64: 144000 | G64: =G63+C64+D64-E64-F64 -> 81827800
A65: 45382 | B65: Tiền củi điện nước 4 nồi | E65: 60000 | G65: =G64+C65+D65-E65-F65 -> 81767800
A66: 45382 | B66: Mua dầu ăn | E66: 40000 | G66: =G65+C66+D66-E66-F66 -> 81727800
A67: 45382 | B67: Mua muối + hạt nêm | E67: 48000 | G67: =G66+C67+D67-E67-F67 -> 81679800
A68: 45382 | B68: Mua 3kg thịt heo | F68: 300000 | G68: =G67+C68+D68-E68-F68 -> 81379800
A69: 45382 | B69: Mua 2kg rau má | F69: 40000 | G69: =G68+C69+D69-E69-F69 -> 81339800
A70: 45382 | B70: Mua 3.5kg bí đỏ | F70: 52500 | G70: =G69+C70+D70-E70-F70 -> 81287300
A71: 45382 | B71: Mua 5kg gạo | F71: 80000 | G71: =G70+C71+D71-E71-F71 -> 81207300
A72: 45382 | B72: Tiền củi điện nước 1 nồi | F72: 15000 | G72: =G71+C72+D72-E72-F72 -> 81192300
A73: 45382 | B73: Mua bột ngọt, hạt nêm | F73: 10000 | G73: =G72+C73+D73-E73-F73 -> 81182300
A74: 45382 | B74: Mua dầu ăn | F74: 10000 | G74: =G73+C74+D74-E74-F74 -> 81172300
A75: Tồn cuối tháng 03/2024 | C75: =SUM(C6:C74) -> 7200000 | D75: =SUM(D6:D74) -> 0 | E75: =SUM(E6:E74) -> 10747600 | F75: =SUM(F6:F74) -> 1506500 | G75: =G5+C76-E76 -> 80519800
C76: =SUM(C75:D75) -> 7200000 | E76: =E75+F75 -> 12254100

Sheet T4.24
A1: BÁO CÁO THU CHI NỒI CHÁO ĐĂK LĂK THÁNG 04/2024
G2: ĐVT: đồng
A3: Ngày | B3: Chi tiết | C3: Thu | E3: Chi | G3: Tồn
C4: CMTX | D4: CMKTX | E4: NC Cư Pui | F4: NC Yang Mao
A5: Tồn đầu tháng 04/2024 | G5: ='T3.24'!G75 -> 80519800
A6: 45384 | B6: Đồng nghiệp USG CMTX T4 | C6: 5500000 | G6: =G5+C6+D6-E6-F6 -> 86019800
A7: 45384 | B7: Nhóm Van Trang Hoa CMTX T4 | C7: 2600000 | G7: =G6+C7+D7-E7-F7 -> 88619800
A8: 45389 | B8: Mua 14.2 kg gà | E8: 823600 | G8: =G7+C8+D8-E8-F8 -> 87796200
A9: 45389 | B9: Mua 5kg bí đỏ | E9: 50000 | G9: =G8+C9+D9-E9-F9 -> 87746200
A10: 45389 | B10: Mua 15kg gạo | E10: 232500 | G10: =G9+C10+D10-E10-F10 -> 87513700
A11: 45389 | B11: Mua 16kg thịt nạc heo | E11: 1520000 | G11: =G10+C11+D11-E11-F11 -> 85993700
A12: 45389 | B12: Mua 12kg bí đỏ | E12: 180000 | G12: =G11+C12+D12-E12-F12 -> 85813700
A13: 45389 | B13: Mua 20kg gạo | E13: 360000 | G13: =G12+C13+D13-E13-F13 -> 85453700
A14: 45389 | B14: Mua 12kg rau ngót | E14: 144000 | G14: =G13+C14+D14-E14-F14 -> 85309700
A15: 45389 | B15: Tiền củi điện nước 4 nồi | E15: 60000 | G15: =G14+C15+D15-E15-F15 -> 85249700
A16: 45389 | B16: Mua muối hạt nêm | E16: 44000 | G16: =G15+C16+D16-E16-F16 -> 85205700
A17: 45389 | B17: Mua 5kg thịt gà | F17: 300000 | G17: =G16+C17+D17-E17-F17 -> 84905700
A18: 45389 | B18: Mua 2kg rau má | F18: 40000 | G18: =G17+C18+D18-E18-F18 -> 84865700
A19: 45389 | B19: Mua 4kg bí đỏ | F19: 60000 | G19: =G18+C19+D19-E19-F19 -> 84805700
A20: 45389 | B20: Mua 4kg gạo | F20: 64000 | G20: =G19+C20+D20-E20-F20 -> 84741700
A21: 45389 | B21: Tiền củi điện nước 1 nồi | F21: 15000 | G21: =G20+C21+D21-E21-F21 -> 84726700
A22: 45389 | B22: Mua bột ngọt, hạt nêm | F22: 10000 | G22: =G21+C22+D22-E22-F22 -> 84716700
A23: 45389 | B23: Mua dầu ăn | F23: 10000 | G23: =G22+C23+D23-E23-F23 -> 84706700
A24: 45396 | B24: Mua 7.5kg thịt nạc heo | E24: 637500 | G24: =G23+C24+D24-E24-F24 -> 84069200
A25: 45396 | B25: Mua 5kg bí đỏ | E25: 60000 | G25: =G24+C25+D25-E25-F25 -> 84009200
A26: 45396 | B26: Mua 15 kg gạo | E26: 240000 | G26: =G25+C26+D26-E26-F26 -> 83769200
A27: 45396 | B27: Mua muối+ hạt nêm | E27: 5000 | G27: =G26+C27+D27-E27-F27 -> 83764200
A28: 45396 | B28: Mua 16kg thịt nạc heo | E28: 1440000 | G28: =G27+C28+D28-E28-F28 -> 82324200
A29: 45396 | B29: Mua 12kg bí đỏ | E29: 180000 | G29: =G28+C29+D29-E29-F29 -> 82144200
A30: 45396 | B30: Mua 20kg gạo | E30: 320000 | G30: =G29+C30+D30-E30-F30 -> 81824200
A31: 45396 | B31: Mua 12kg rau ngót | E31: 144000 | G31: =G30+C31+D31-E31-F31 -> 81680200
A32: 45396 | B32: Tiền củi điện nước 4 nồi | E32: 60000 | G32: =G31+C32+D32-E32-F32 -> 81620200
A33: 45396 | B33: Mua muối hạt nêm | E33: 44000 | G33: =G32+C33+D33-E33-F33 -> 81576200
A34: 45396 | B34: Mua 3kg thịt heo | F34: 300000 | G34: =G33+C34+D34-E34-F34 -> 81276200
A35: 45396 | B35: Mua 2kg rau má | F35: 40000 | G35: =G34+C35+D35-E35-F35 -> 81236200
A36: 45396 | B36: Mua 3kg bí đỏ | F36: 45000 | G36: =G35+C36+D36-E36-F36 -> 81191200
A37: 45396 | B37: Mua 5kg gạo | F37: 80000 | G37: =G36+C37+D37-E37-F37 -> 81111200
A38: 45396 | B38: Tiền củi điện nước 1 nồi | F38: 15000 | G38: =G37+C38+D38-E38-F38 -> 81096200
A39: 45396 | B39: Mua bột ngọt, hạt nêm | F39: 10000 | G39: =G38+C39+D39-E39-F39 -> 81086200
A40: 45396 | B40: Mua dầu ăn | F40: 10000 | G40: =G39+C40+D40-E40-F40 -> 81076200
A41: 45403 | B41: Mua 16kg thịt nạc heo | E41: 1520000 | G41: =G40+C41+D41-E41-F41 -> 79556200
A42: 45403 | B42: Mua 12kg bí đỏ | E42: 180000 | G42: =G41+C42+D42-E42-F42 -> 79376200
A43: 45403 | B43: Mua 20kg gạo | E43: 320000 | G43: =G42+C43+D43-E43-F43 -> 79056200
A44: 45403 | B44: Mua 12kg rau ngót | E44: 144000 | G44: =G43+C44+D44-E44-F44 -> 78912200
A45: 45403 | B45: Tiền củi điện nước 4 nồi | E45: 60000 | G45: =G44+C45+D45-E45-F45 -> 78852200
A46: 45403 | B46: Mua muối hạt nêm | E46: 44000 | G46: =G45+C46+D46-E46-F46 -> 78808200
A47: 45403 | B47: Mua 5kg thịt gà | F47: 300000 | G47: =G46+C47+D47-E47-F47 -> 78508200
A48: 45403 | B48: Mua 2kg rau má | F48: 40000 | G48: =G47+C48+D48-E48-F48 -> 78468200
A49: 45403 | B49: Mua 3.5kg bí đỏ | F49: 52500 | G49: =G48+C49+D49-E49-F49 -> 78415700
A50: 45403 | B50: Mua 5kg gạo | F50: 80000 | G50: =G49+C50+D50-E50-F50 -> 78335700
A51: 45403 | B51: Tiền củi điện nước 1 nồi | F51: 15000 | G51: =G50+C51+D51-E51-F51 -> 78320700
A52: 45403 | B52: Mua bột ngọt, hạt nêm | F52: 10000 | G52: =G51+C52+D52-E52-F52 -> 78310700
A53: 45403 | B53: Mua dầu ăn | F53: 10000 | G53: =G52+C53+D53-E53-F53 -> 78300700
A54: 45409 | B54: Mua 7kg thịt nạc heo | E54: 630000 | G54: =G53+C54+D54-E54-F54 -> 77670700
A55: 45409 | B55: Mua 5kg bí đỏ | E55: 50000 | G55: =G54+C55+D55-E55-F55 -> 77620700
A56: 45409 | B56: Mua 15 kg gạo | E56: 217500 | G56: =G55+C56+D56-E56-F56 -> 77403200
A57: 45409 | B57: Mua muối+ hạt nêm | E57: 20000 | G57: =G56+C57+D57-E57-F57 -> 77383200
A58: 45409 | B58: Mua 16kg thịt nạc heo | E58: 1520000 | G58: =G57+C58+D58-E58-F58 -> 75863200
A59: 45409 | B59: Mua 12kg bí đỏ | E59: 180000 | G59: =G58+C59+D59-E59-F59 -> 75683200
A60: 45409 | B60: Mua 20kg gạo | E60: 320000 | G60: =G59+C60+D60-E60-F60 -> 75363200
A61: 45409 | B61: Mua 12kg rau ngót | E61: 144000 | G61: =G60+C61+D61-E61-F61 -> 75219200
A62: 45409 | B62: Tiền củi điện nước 4 nồi | E62: 60000 | G62: =G61+C62+D62-E62-F62 -> 75159200
A63: 45409 | B63: Mua muối hạt nêm | E63: 44000 | G63: =G62+C63+D63-E63-F63 -> 75115200
A64: 45410 | B64: Mua 3kg thịt heo | F64: 300000 | G64: =G63+C64+D64-E64-F64 -> 74815200
A65: 45410 | B65: Mua 2kg rau má | F65: 40000 | G65: =G64+C65+D65-E65-F65 -> 74775200
A66: 45410 | B66: Mua 3kg bí đỏ | F66: 45000 | G66: =G65+C66+D66-E66-F66 -> 74730200
A67: 45410 | B67: Mua 5kg gạo | F67: 80000 | G67: =G66+C67+D67-E67-F67 -> 74650200
A68: 45410 | B68: Tiền củi điện nước 1 nồi | F68: 15000 | G68: =G67+C68+D68-E68-F68 -> 74635200
A69: 45410 | B69: Mua bột ngọt, hạt nêm | F69: 10000 | G69: =G68+C69+D69-E69-F69 -> 74625200
A70: 45410 | B70: Mua dầu ăn | F70: 10000 | G70: =G69+C70+D70-E70-F70 -> 74615200
A71: Tồn cuối tháng 04/2024 | C71: =SUM(C6:C70) -> 8100000 | D71: =SUM(D6:D70) -> 0 | E71: =SUM(E6:E70) -> 11998100 | F71: =SUM(F6:F70) -> 2006500 | G71: =G5+C72-E72 -> 74615200
C72: =SUM(C71:D71) -> 8100000 | E72: =E71+F71 -> 14004600

Sheet T5.24
A1: BÁO CÁO THU CHI NỒI CHÁO ĐĂK LĂK THÁNG 05/2024
G2: ĐVT: đồng
A3: Ngày | B3: Chi tiết | C3: Thu | E3: Chi | G3: Tồn
C4: CMTX | D4: CMKTX | E4: NC Cư Pui | F4: NC Yang Mao
A5: Tồn đầu tháng 05/2024 | G5: ='T4.24'!G71 -> 74615200
A6: 45414 | B6: Nhóm bạn Van Trang Hoa CMTX T5 | C6: 2600000 | G6: =G5+C6+D6-E6-F6 -> 77215200
A7: 45417 | B7: Mua 16kg thịt nạc heo | E7: 1600000 | G7: =G6+C7+D7-E7-F7 -> 75615200
A8: 45417 | B8: Mua 12kg bí đỏ | E8: 180000 | G8: =G7+C8+D8-E8-F8 -> 75435200
A9: 45417 | B9: Mua 20kg gạo | E9: 360000 | G9: =G8+C9+D9-E9-F9 -> 75075200
A10: 45417 | B10: Mua 12kg rau ngót | E10: 144000 | G10: =G9+C10+D10-E10-F10 -> 74931200
A11: 45417 | B11: Mua muối + hạt nên 4 gói | E11: 44000 | G11: =G10+C11+D11-E11-F11 -> 74887200
A12: 45417 | B12: Tiền củi điện nước 4 nồi | E12: 60000 | G12: =G11+C12+D12-E12-F12 -> 74827200
A13: 45417 | B13: Mua 5kg thịt gà | F13: 300000 | G13: =G12+C13+D13-E13-F13 -> 74527200
A14: 45417 | B14: Mua 2kg rau má | F14: 40000 | G14: =G13+C14+D14-E14-F14 -> 74487200
A15: 45417 | B15: Mua 4kg bí đỏ | F15: 60000 | G15: =G14+C15+D15-E15-F15 -> 74427200
A16: 45417 | B16: Mua 4kg gạo | F16: 64000 | G16: =G15+C16+D16-E16-F16 -> 74363200
A17: 45417 | B17: Tiền củi điện nước 1 nồi | F17: 15000 | G17: =G16+C17+D17-E17-F17 -> 74348200
A18: 45417 | B18: Mua bột ngọt, hạt nêm | F18: 10000 | G18: =G17+C18+D18-E18-F18 -> 74338200
A19: 45417 | B19: Mua dầu ăn | F19: 10000 | G19: =G18+C19+D19-E19-F19 -> 74328200
A20: 45420 | B20: Đồng nghiệp USG CMTX T5 | C20: 1600000 | G20: =G19+C20+D20-E20-F20 -> 75928200
A21: 45424 | B21: Mua 6kg thịt mạc heo | E21: 600000 | G21: =G20+C21+D21-E21-F21 -> 75328200
A22: 45424 | B22: Mua 6kg bí đỏ | E22: 60000 | G22: =G21+C22+D22-E22-F22 -> 75268200
A23: 45424 | B23: Mua 15kg gạo | E23: 225000 | G23: =G22+C23+D23-E23-F23 -> 75043200
A24: 45424 | B24: Mua muối hạt nên 2 gói | E24: 20000 | G24: =G23+C24+D24-E24-F24 -> 75023200
A25: 45424 | B25: Mua 3kg thịt nạc heo | F25: 300000 | G25: =G24+C25+D25-E25-F25 -> 74723200
A26: 45424 | B26: Mua 2.3kg rau cải | F26: 46000 | G26: =G25+C26+D26-E26-F26 -> 74677200
A27: 45424 | B27: Mua 3kg bí đỏ | F27: 45000 | G27: =G26+C27+D27-E27-F27 -> 74632200
A28: 45424 | B28: Mua 5kg gạo | F28: 80000 | G28: =G27+C28+D28-E28-F28 -> 74552200
A29: 45424 | B29: Tiền củi điện nước 1 nồi | F29: 15000 | G29: =G28+C29+D29-E29-F29 -> 74537200
A30: 45424 | B30: Mua bột ngọt, hạt nêm | F30: 10000 | G30: =G29+C30+D30-E30-F30 -> 74527200
A31: 45424 | B31: Mua dầu ăn | F31: 10000 | G31: =G30+C31+D31-E31-F31 -> 74517200
A32: 45431 | B32: Mua 16kg thịt nạc heo | E32: 1600000 | G32: =G31+C32+D32-E32-F32 -> 72917200
A33: 45431 | B33: Mua 12kg bí đỏ | E33: 180000 | G33: =G32+C33+D33-E33-F33 -> 72737200
A34: 45431 | B34: Mua 20kg gạo | E34: 360000 | G34: =G33+C34+D34-E34-F34 -> 72377200
A35: 45431 | B35: Mua 12kg rau ngót | E35: 144000 | G35: =G34+C35+D35-E35-F35 -> 72233200
A36: 45431 | B36: Mua muối + hạt nên 4 gói | E36: 44000 | G36: =G35+C36+D36-E36-F36 -> 72189200
A37: 45431 | B37: Tiền củi điện nước 4 nồi | E37: 60000 | G37: =G36+C37+D37-E37-F37 -> 72129200
A38: 45433 | B38: Mua 3kg thịt nạc heo | F38: 300000 | G38: =G37+C38+D38-E38-F38 -> 71829200
A39: 45433 | B39: Mua 1.5kg rau ngót | F39: 30000 | G39: =G38+C39+D39-E39-F39 -> 71799200
A40: 45433 | B40: Mua 3.5kg bí đỏ | F40: 52500 | G40: =G39+C40+D40-E40-F40 -> 71746700
A41: 45433 | B41: Mua 5kg gạo | F41: 80000 | G41: =G40+C41+D41-E41-F41 -> 71666700
A42: 45433 | B42: Tiền củi điện nước 1 nồi | F42: 15000 | G42: =G41+C42+D42-E42-F42 -> 71651700
A43: 45433 | B43: Mua bột ngọt, hạt nêm | F43: 10000 | G43: =G42+C43+D43-E43-F43 -> 71641700
A44: 45433 | B44: Mua dầu ăn | F44: 10000 | G44: =G43+C44+D44-E44-F44 -> 71631700
A45: 45438 | B45: Mua 6.2kg thịt mạc heo | E45: 620000 | G45: =G44+C45+D45-E45-F45 -> 71011700
A46: 45438 | B46: Mua 6.6kg bí đỏ | E46: 66000 | G46: =G45+C46+D46-E46-F46 -> 70945700
A47: 45438 | B47: Mua 15kg gạo | E47: 225000 | G47: =G46+C47+D47-E47-F47 -> 70720700
A48: 45438 | B48: Mua muối hạt nên 1.5 gói | E48: 15000 | G48: =G47+C48+D48-E48-F48 -> 70705700
A49: 45438 | B49: Mua 16kg thịt nạc heo | E49: 1600000 | G49: =G48+C49+D49-E49-F49 -> 69105700
A50: 45438 | B50: Mua 12kg bí đỏ | E50: 180000 | G50: =G49+C50+D50-E50-F50 -> 68925700
A51: 45438 | B51: Mua 20kg gạo | E51: 360000 | G51: =G50+C51+D51-E51-F51 -> 68565700
A52: 45438 | B52: Mua 12kg rau ngót | E52: 144000 | G52: =G51+C52+D52-E52-F52 -> 68421700
A53: 45438 | B53: Mua muối + hạt nên 6 gói | E53: 66000 | G53: =G52+C53+D53-E53-F53 -> 68355700
A54: 45438 | B54: Tiền củi điện nước 4 nồi | E54: 60000 | G54: =G53+C54+D54-E54-F54 -> 68295700
A55: 45440 | B55: Mua 3kg thịt nạc heo | F55: 300000 | G55: =G54+C55+D55-E55-F55 -> 67995700
A56: 45440 | B56: Mua 1kg rau má | F56: 20000 | G56: =G55+C56+D56-E56-F56 -> 67975700
A57: 45440 | B57: Mua 3kg bí đỏ | F57: 45000 | G57: =G56+C57+D57-E57-F57 -> 67930700
A58: 45440 | B58: Mua 5kg gạo | F58: 80000 | G58: =G57+C58+D58-E58-F58 -> 67850700
A59: 45440 | B59: Tiền củi điện nước 1 nồi | F59: 15000 | G59: =G58+C59+D59-E59-F59 -> 67835700
A60: 45440 | B60: Mua bột ngọt, hạt nêm | F60: 10000 | G60: =G59+C60+D60-E60-F60 -> 67825700
A61: 45440 | B61: Mua dầu ăn | F61: 10000 | G61: =G60+C61+D61-E61-F61 -> 67815700
A62: Tồn cuối tháng 05/2024 | C62: =SUM(C6:C61) -> 4200000 | D62: =SUM(D6:D61) -> 0 | E62: =SUM(E6:E61) -> 9017000 | F62: =SUM(F6:F61) -> 1982500 | G62: =G5+C63-E63 -> 67815700
C63: =SUM(C62:D62) -> 4200000 | E63: =E62+F62 -> 10999500

Sheet T6.24
A1: BÁO CÁO THU CHI NỒI CHÁO ĐĂK LĂK THÁNG 06/2024
G2: ĐVT: đồng
A3: Ngày | B3: Chi tiết | C3: Thu | E3: Chi | G3: Tồn
C4: CMTX | D4: CMKTX | E4: NC Cư Pui | F4: NC Yang Mao
A5: Tồn đầu tháng 06/2024 | G5: ='T5.24'!G62 -> 67815700
A6: 45445 | B6: Mua 6.7kg thịt nạc heo | E6: 636500 | G6: =G5+C6+D6-E6-F6 -> 67179200
A7: 45445 | B7: Mua 15kg gạo | E7: 228000 | G7: =G6+C7+D7-E7-F7 -> 66951200
A8: 45445 | B8: Mua 2kg rau ngò + rau ngót | E8: 30000 | G8: =G7+C8+D8-E8-F8 -> 66921200
A9: 45445 | B9: Mua dầu ăn | E9: 10000 | G9: =G8+C9+D9-E9-F9 -> 66911200
A10: 45445 | B10: Mua muối+ hạt nêm | E10: 10000 | G10: =G9+C10+D10-E10-F10 -> 66901200
A11: 45445 | B11: Mua 15kg thịt nạc heo | E11: 1650000 | G11: =G10+C11+D11-E11-F11 -> 65251200
A12: 45445 | B12: Mua 10kg bí đỏ | E12: 180000 | G12: =G11+C12+D12-E12-F12 -> 65071200
A13: 45445 | B13: Mua 20kg gạo | E13: 360000 | G13: =G12+C13+D13-E13-F13 -> 64711200
A14: 45445 | B14: Mua 12kg rau ngót | E14: 144000 | G14: =G13+C14+D14-E14-F14 -> 64567200
A15: 45445 | B15: Tiền củi điện nước 4 nồi | E15: 60000 | G15: =G14+C15+D15-E15-F15 -> 64507200
A16: 45445 | B16: Mua muối+ hạt nêm | E16: 44000 | G16: =G15+C16+D16-E16-F16 -> 64463200
A17: 45445 | B17: Mua 5kg thịt gà | F17: 300000 | G17: =G16+C17+D17-E17-F17 -> 64163200
A18: 45445 | B18: Mua 2kg rau má | F18: 40000 | G18: =G17+C18+D18-E18-F18 -> 64123200
A19: 45445 | B19: Mua 4kg bí đỏ | F19: 60000 | G19: =G18+C19+D19-E19-F19 -> 64063200
A20: 45445 | B20: Mua 4kg gạo | F20: 64000 | G20: =G19+C20+D20-E20-F20 -> 63999200
A21: 45445 | B21: Tiền củi điện nước 1 nồi | F21: 15000 | G21: =G20+C21+D21-E21-F21 -> 63984200
A22: 45445 | B22: Mua bột ngọt+ hạt nêm | F22: 10000 | G22: =G21+C22+D22-E22-F22 -> 63974200
A23: 45445 | B23: Mua dầu ăn | F23: 10000 | G23: =G22+C23+D23-E23-F23 -> 63964200
A24: 45446 | B24: Đồng nghiệp USG CMTX T6 | C24: 4000000 | G24: =G23+C24+D24-E24-F24 -> 67964200
A25: 45447 | B25: Nhóm Van Trang Hoa CMTX T6 | C25: 2600000 | G25: =G24+C25+D25-E25-F25 -> 70564200
A26: 45451 | B26: TTAN TriThucVang ủng hộ KTX | D26: 2000000 | G26: =G25+C26+D26-E26-F26 -> 72564200
A27: 45452 | B27: Mua 15kg thịt nạc heo | E27: 1650000 | G27: =G26+C27+D27-E27-F27 -> 70914200
A28: 45452 | B28: Mua 10kg bí đỏ | E28: 180000 | G28: =G27+C28+D28-E28-F28 -> 70734200
A29: 45452 | B29: Mua 20kg gạo | E29: 360000 | G29: =G28+C29+D29-E29-F29 -> 70374200
A30: 45452 | B30: Mua 12kg rau ngót | E30: 144000 | G30: =G29+C30+D30-E30-F30 -> 70230200
A31: 45452 | B31: Tiền củi điện nước 4 nồi | E31: 60000 | G31: =G30+C31+D31-E31-F31 -> 70170200
A32: 45452 | B32: Mua muối+ hạt nêm | E32: 44000 | G32: =G31+C32+D32-E32-F32 -> 70126200
A33: 45452 | B33: Mua 3kg thịt nạc xay | F33: 300000 | G33: =G32+C33+D33-E33-F33 -> 69826200
A34: 45452 | B34: Mua 2.3kg rau cải | F34: 46000 | G34: =G33+C34+D34-E34-F34 -> 69780200
A35: 45452 | B35: Mua 3kg bí đỏ | F35: 45000 | G35: =G34+C35+D35-E35-F35 -> 69735200
A36: 45452 | B36: Mua 5kg gạo | F36: 80000 | G36: =G35+C36+D36-E36-F36 -> 69655200
A37: 45452 | B37: Tiền củi điện nước 1 nồi | F37: 15000 | G37: =G36+C37+D37-E37-F37 -> 69640200
A38: 45452 | B38: Mua bột ngọt+ hạt nêm | F38: 10000 | G38: =G37+C38+D38-E38-F38 -> 69630200
A39: 45452 | B39: Mua dầu ăn | F39: 10000 | G39: =G38+C39+D39-E39-F39 -> 69620200
A40: 45459 | B40: Mua 15kg thịt nạc heo | E40: 1650000 | G40: =G39+C40+D40-E40-F40 -> 67970200
A41: 45459 | B41: Mua 10kg bí đỏ | E41: 180000 | G41: =G40+C41+D41-E41-F41 -> 67790200
A42: 45459 | B42: Mua 20kg gạo | E42: 360000 | G42: =G41+C42+D42-E42-F42 -> 67430200
A43: 45459 | B43: Mua 12kg rau ngót | E43: 144000 | G43: =G42+C43+D43-E43-F43 -> 67286200
A44: 45459 | B44: Tiền củi điện nước 4 nồi | E44: 60000 | G44: =G43+C44+D44-E44-F44 -> 67226200
A45: 45459 | B45: Mua muối+ hạt nêm | E45: 44000 | G45: =G44+C45+D45-E45-F45 -> 67182200
A46: 45459 | B46: Mua 3kg thịt nạc xay | F46: 300000 | G46: =G45+C46+D46-E46-F46 -> 66882200
A47: 45459 | B47: Mua 1.5kg rau ngót | F47: 30000 | G47: =G46+C47+D47-E47-F47 -> 66852200
A48: 45459 | B48: Mua 3.5kg bí đỏ | F48: 52500 | G48: =G47+C48+D48-E48-F48 -> 66799700
A49: 45459 | B49: Mua 5kg gạo | F49: 80000 | G49: =G48+C49+D49-E49-F49 -> 66719700
A50: 45459 | B50: Tiền củi điện nước 1 nồi | F50: 15000 | G50: =G49+C50+D50-E50-F50 -> 66704700
A51: 45459 | B51: Mua bột ngọt+ hạt nêm | F51: 10000 | G51: =G50+C51+D51-E51-F51 -> 66694700
A52: 45459 | B52: Mua dầu ăn | F52: 10000 | G52: =G51+C52+D52-E52-F52 -> 66684700
A53: 45465 | B53: Mua 5kg thịt gà | F53: 350000 | G53: =G52+C53+D53-E53-F53 -> 66334700
A54: 45465 | B54: Mua 1kg rau má | F54: 20000 | G54: =G53+C54+D54-E54-F54 -> 66314700
A55: 45465 | B55: Mua 3kg bí đỏ | F55: 45000 | G55: =G54+C55+D55-E55-F55 -> 66269700
A56: 45465 | B56: Mua 5kg gạo | F56: 80000 | G56: =G55+C56+D56-E56-F56 -> 66189700
A57: 45465 | B57: Tiền củi điện nước 1 nồi | F57: 15000 | G57: =G56+C57+D57-E57-F57 -> 66174700
... A59: 45465 | B59: Mua dầu ăn | F59: 10000 | G59: =G58+C59+D59-E59-F59 -> 66154700
A60: 45465 | B60: A/c MVA SG ủng hộ KTX | D60: 500000 | G60: =G59+C60+D60-E60-F60 -> 66654700
A61: 45465 | B61: A/c Bom Ben MVA ủng hộ KTX | D61: 200000 | G61: =G60+C61+D61-E61-F61 -> 66854700
A62: 45466 | B62: Mua 15kg thịt nạc heo | E62: 1650000 | G62: =G61+C62+D62-E62-F62 -> 65204700
A63: 45466 | B63: Mua 10kg bí đỏ | E63: 180000 | G63: =G62+C63+D63-E63-F63 -> 65024700
A64: 45466 | B64: Mua 20kg gạo | E64: 360000 | G64: =G63+C64+D64-E64-F64 -> 64664700
A65: 45466 | B65: Mua 12kg rau ngót | E65: 144000 | G65: =G64+C65+D65-E65-F65 -> 64520700
A66: 45466 | B66: Tiền củi điện nước 4 nồi | E66: 60000 | G66: =G65+C66+D66-E66-F66 -> 64460700
A67: 45466 | B67: Mua muối+ hạt nêm | E67: 44000 | G67: =G66+C67+D67-E67-F67 -> 64416700
A68: 45473 | B68: Mua 6.2kg thịt nạc heo | E68: 620000 | G68: =G67+C68+D68-E68-F68 -> 63796700
A69: 45473 | B69: Mua 2.5kg bí đỏ | E69: 37500 | G69: =G68+C69+D69-E69-F69 -> 63759200
A70: 45473 | B70: Mua 14kg gạo | E70: 212800 | G70: =G69+C70+D70-E70-F70 -> 63546400
A71: 45473 | B71: Mua 2kg rau ngò + rau ngót | E71: 20000 | G71: =G70+C71+D71-E71-F71 -> 63526400
A72: 45473 | B72: Mua 2kg cà rốt | E72: 60000 | G72: =G71+C72+D72-E72-F72 -> 63466400
A73: 45473 | B73: Mua muối + hạt nêm | E73: 10000 | G73: =G72+C73+D73-E73-F73 -> 63456400
A74: 45473 | B74: Mua 3kg thịt nạc xay | F74: 300000 | G74: =G73+C74+D74-E74-F74 -> 63156400
A75: 45473 | B75: Mua 1kg rau má | F75: 20000 | G75: =G74+C75+D75-E75-F75 -> 63136400
A76: 45473 | B76: Mua 3kg bí đỏ | F76: 45000 | G76: =G75+C76+D76-E76-F76 -> 63091400
A77: 45473 | B77: Mua 5kg gạo | F77: 80000 | G77: =G76+C77+D77-E77-F77 -> 63011400
A78: 45473 | B78: Tiền củi điện nước 1 nồi | F78: 15000 | G78: =G77+C78+D78-E78-F78 -> 62996400
A79: 45473 | B79: Mua bột ngọt+ hạt nêm | F79: 10000 | G79: =G78+C79+D79-E79-F79 -> 62986400
A80: 45473 | B80: Mua dầu ăn | F80: 10000 | G80: =G79+C80+D80-E80-F80 -> 62976400
A81: Tồn cuối tháng 06/2024 | C81: =SUM(C6:C80) -> 6600000 | D81: =SUM(D6:D80) -> 2700000 | E81: =SUM(E6:E80) -> 11626800 | F81: =SUM(F6:F80) -> 2512500 | G81: =G5+C82-E82 -> 62976400
C82: =SUM(C81:D81) -> 9300000 | E82: =E81+F81 -> 14139300

Sheet T7.24
A1: BÁO CÁO THU CHI NỒI CHÁO ĐĂK LĂK THÁNG 07/2024
G2: ĐVT: đồng
A3: Ngày | B3: Chi tiết | C3: Thu | E3: Chi | G3: Tồn
C4: CMTX | D4: CMKTX | E4: NC Cư Pui | F4: NC Yang Mao
A5: Tồn đầu tháng 07/2024 | G5: ='T6.24'!G81 -> 62976400
A6: 45475 | B6: Đồng nghiệp USG CMTX T7 | C6: 7000000 | G6: =G5+C6+D6-E6-F6 -> 69976400
A7: 45475 | B7: Nhóm Van Trang Hoa CMTX T7 | C7: 2600000 | G7: =G6+C7+D7-E7-F7 -> 72576400
A8: 45480 | B8: Mua 5kg thịt gà | F8: 300000 | G8: =G7+C8+D8-E8-F8 -> 72276400
A9: 45480 | B9: Mua 2kg rau má | F9: 40000 | G9: =G8+C9+D9-E9-F9 -> 72236400
A10: 45480 | B10: Mua 4kg bí đỏ | F10: 60000 | G10: =G9+C10+D10-E10-F10 -> 72176400
A11: 45480 | B11: Mua 4kg gạo | F11: 64000 | G11: =G10+C11+D11-E11-F11 -> 72112400
A12: 45480 | B12: Tiền củi điện nước 1 nồi | F12: 15000 | G12: =G11+C12+D12-E12-F12 -> 72097400
A13: 45480 | B13: Mua bột ngọt + hạt nêm | F13: 10000 | G13: =G12+C13+D13-E13-F13 -> 72087400
A14: 45480 | B14: Mua dầu ăn | F14: 10000 | G14: =G13+C14+D14-E14-F14 -> 72077400
A15: 45487 | B15: Mua 7kg thịt nạc heo | E15: 686000 | G15: =G14+C15+D15-E15-F15 -> 71391400
A16: 45487 | B16: Mua 5kg bí đỏ | E16: 100000 | G16: =G15+C16+D16-E16-F16 -> 71291400
A17: 45487 | B17: Mua 15kg gạo | E17: 228000 | G17: =G16+C17+D17-E17-F17 -> 71063400
A18: 45487 | B18: Mua 12kg thịt nạc heo | E18: 1320000 | G18: =G17+C18+D18-E18-F18 -> 69743400
A19: 45487 | B19: Mua 10kg bí đỏ | E19: 200000 | G19: =G18+C19+D19-E19-F19 -> 69543400
A20: 45487 | B20: Mua 20kg gạo | E20: 360000 | G20: =G19+C20+D20-E20-F20 -> 69183400
A21: 45487 | B21: Mua 10kg rau ngót | E21: 100000 | G21: =G20+C21+D21-E21-F21 -> 69083400
A22: 45487 | B22: Tiền củi điện nước 4 nồi | E22: 60000 | G22: =G21+C22+D22-E22-F22 -> 69023400
A23: 45487 | B23: Mua dầu ăn | E23: 100000 | G23: =G22+C23+D23-E23-F23 -> 68923400
A24: 45487 | B24: Mua muối + hạt nêm | E24: 44000 | G24: =G23+C24+D24-E24-F24 -> 68879400
A25: 45487 | B25: Mua 3kg thịt nạc xay | F25: 300000 | G25: =G24+C25+D25-E25-F25 -> 68579400
A26: 45487 | B26: Mua 2.3kg rau cải | F26: 46000 | G26: =G25+C26+D26-E26-F26 -> 68533400
A27: 45487 | B27: Mua 3kg bí đỏ | F27: 45000 | G27: =G26+C27+D27-E27-F27 -> 68488400
A28: 45487 | B28: Mua 5kg gạo | F28: 80000 | G28: =G27+C28+D28-E28-F28 -> 68408400
A29: 45487 | B29: Tiền củi điện nước 1 nồi | F29: 15000 | G29: =G28+C29+D29-E29-F29 -> 68393400
A30: 45487 | B30: Mua bột ngọt + hạt nêm | F30: 10000 | G30: =G29+C30+D30-E30-F30 -> 68383400
A31: 45487 | B31: Mua dầu ăn | F31: 10000 | G31: =G30+C31+D31-E31-F31 -> 68373400
A32: 45489 | B32: Chị Nguyen Thi To Uyen ủng hộ KTX | D32: 1000000 | G32: =G31+C32+D32-E32-F32 -> 69373400
A33: 45489 | B33: A/c LinhMalena ủng hộ KTX | D33: 500000 | G33: =G32+C33+D33-E33-F33 -> 69873400
A34: 45494 | B34: Mua 12kg thịt nạc heo | E34: 1320000 | G34: =G33+C34+D34-E34-F34 -> 68553400
A35: 45494 | B35: Mua 10kg bí đỏ | E35: 180000 | G35: =G34+C35+D35-E35-F35 -> 68373400
A36: 45494 | B36: Mua 20kg gạo | E36: 360000 | G36: =G35+C36+D36-E36-F36 -> 68013400
A37: 45494 | B37: Mua 10kg rau ngót | E37: 100000 | G37: =G36+C37+D37-E37-F37 -> 67913400
A38: 45494 | B38: Tiền củi điện nước 4 nồi | E38: 60000 | G38: =G37+C38+D38-E38-F38 -> 67853400
A39: 45494 | B39: Mua muối + hạt nêm | E39: 44000 | G39: =G38+C39+D39-E39-F39 -> 67809400
A40: 45501 | B40: Mua 7kg thịt nạc heo | E40: 665000 | G40: =G39+C40+D40-E40-F40 -> 67144400
A41: 45501 | B41: Mua 5.2kg bí đỏ | E41: 62400 | G41: =G40+C41+D41-E41-F41 -> 67082000
A42: 45501 | B42: Mua 15kg gạo | E42: 225000 | G42: =G41+C42+D42-E42-F42 -> 66857000
A43: 45501 | B43: Mua dầu ăn | E43: 10000 | G43: =G42+C43+D43-E43-F43 -> 66847000
A44: 45501 | B44: Mua muối + hạt nêm | E44: 10000 | G44: =G43+C44+D44-E44-F44 -> 66837000
A45: 45501 | B45: Mua 12kg thịt nạc heo | E45: 1320000 | G45: =G44+C45+D45-E45-F45 -> 65517000
... A50: 45501 | B50: Mua muối+ hạt nêm | E50: 44000 | G50: =G49+C50+D50-E50-F50 -> 64809000
A51: Tồn cuối tháng 07/2024 | C51: =SUM(C6:C50) -> 9600000 | D51: =SUM(D6:D50) -> 1500000 | E51: =SUM(E6:E50) -> 8262400 | F51: =SUM(F6:F50) -> 1005000 | G51: =G5+C52-E52 -> 64809000
C52: =SUM(C51:D51) -> 11100000 | E52: =E51+F51 -> 9267400

Sheet T8.24
A1: BÁO CÁO THU CHI NỒI CHÁO ĐĂK LĂK THÁNG 08/2024
G2: ĐVT: đồng
A3: Ngày | B3: Chi tiết | C3: Thu | E3: Chi | G3: Tồn
C4: CMTX | D4: CMKTX | E4: NC Cư Pui | F4: NC Yang Mao
A5: Tồn đầu tháng 08/2024 | G5: ='T7.24'!G51 -> 64809000
A6: 45508 | B6: Mua 16kg thịt nạc heo | E6: 1760000 | G6: =G5+C6+D6-E6-F6 -> 63049000
A7: 45508 | B7: Mua 10kg bí đỏ | E7: 180000 | G7: =G6+C7+D7-E7-F7 -> 62869000
A8: 45508 | B8: Mua 20kg gạo | E8: 360000 | G8: =G7+C8+D8-E8-F8 -> 62509000
A9: 45508 | B9: Mua 10kg rau ngót | E9: 100000 | G9: =G8+C9+D9-E9-F9 -> 62409000
A10: 45508 | B10: Tiền củi điện nước 4 nồi | E10: 60000 | G10: =G9+C10+D10-E10-F10 -> 62349000
A11: 45508 | B11: Muối+ hạt nêm | E11: 44000 | G11: =G10+C11+D11-E11-F11 -> 62305000
A12: 45508 | B12: Mua 5kg thịt gà | F12: 300000 | G12: =G11+C12+D12-E12-F12 -> 62005000
A13: 45508 | B13: Mua 2kg rau má | F13: 40000 | G13: =G12+C13+D13-E13-F13 -> 61965000
A14: 45508 | B14: Mua 4kg bí đỏ | F14: 60000 | G14: =G13+C14+D14-E14-F14 -> 61905000
A15: 45508 | B15: Mua 4kg gạo | F15: 64000 | G15: =G14+C15+D15-E15-F15 -> 61841000
A16: 45508 | B16: Tiền củi điện nước 1 nồi | F16: 15000 | G16: =G15+C16+D16-E16-F16 -> 61826000
A17: 45508 | B17: Mua bột ngọt + hạt nêm | F17: 10000 | G17: =G16+C17+D17-E17-F17 -> 61816000
A18: 45508 | B18: Mua dầu ăn | F18: 10000 | G18: =G17+C18+D18-E18-F18 -> 61806000
A19: 45510 | B19: Đồng nghiệp USG CMTX T8 | C19: 7100000 | G19: =G18+C19+D19-E19-F19 -> 68906000
A20: 45510 | B20: Chị Trang Hoa ủng hộ CMTX T8 | C20: 1700000 | G20: =G19+C20+D20-E20-F20 -> 70606000
A21: 45515 | B21: Mua 8.5kg thịt gà | E21: 467500 | G21: =G20+C21+D21-E21-F21 -> 70138500
A22: 45515 | B22: Mua 4kg bí đỏ | E22: 40000 | G22: =G21+C22+D22-E22-F22 -> 70098500
A23: 45515 | B23: Mua 15kg gạo | E23: 225000 | G23: =G22+C23+D23-E23-F23 -> 69873500
A24: 45515 | B24: Mua muối + hạt nêm | E24: 20000 | G24: =G23+C24+D24-E24-F24 -> 69853500
A25: 45515 | B25: Mua 12kg thịt nạc heo | E25: 1320000 | G25: =G24+C25+D25-E25-F25 -> 68533500
A26: 45515 | B26: Mua 10kg bí đỏ | E26: 200000 | G26: =G25+C26+D26-E26-F26 -> 68333500
A27: 45515 | B27: Mua 20kg gạo | E27: 360000 | G27: =G26+C27+D27-E27-F27 -> 67973500
A28: 45515 | B28: Mua 10kg rau ngót | E28: 100000 | G28: =G27+C28+D28-E28-F28 -> 67873500
A29: 45515 | B29: Tiền củi điện nước 4 nồi | E29: 60000 | G29: =G28+C29+D29-E29-F29 -> 67813500
A30: 45515 | B30: Mua dầu ăn | E30: 100000 | G30: =G29+C30+D30-E30-F30 -> 67713500
A31: 45515 | B31: Mua muối + hạt nêm | E31: 44000 | G31: =G30+C31+D31-E31-F31 -> 67669500
A32: 45522 | B32: Mua 12kg thịt nạc heo | E32: 1320000 | G32: =G31+C32+D32-E32-F32 -> 66349500
... A37: 45522 | B37: Muối+ hạt nêm | E37: 44000 | G37: =G36+C37+D37-E37-F37 -> 65641500
A38: 45529 | B38: Mua 3kg thịt nạc xay | F38: 300000 | G38: =G37+C38+D38-E38-F38 -> 65341500
A39: 45529 | B39: Mua 2.3kg rau cải | F39: 46000 | G39: =G38+C39+D39-E39-F39 -> 65295500
A40: 45529 | B40: Mua 3kg bí đỏ | F40: 45000 | G40: =G39+C40+D40-E40-F40 -> 65250500
A41: 45529 | B41: Mua 5kg gạo | F41: 80000 | G41: =G40+C41+D41-E41-F41 -> 65170500
A42: 45529 | B42: Tiền củi điện nước 1 nồi | F42: 15000 | G42: =G41+C42+D42-E42-F42 -> 65155500
A43: 45529 | B43: Mua bột ngọt+ hạt nêm | F43: 10000 | G43: =G42+C43+D43-E43-F43 -> 65145500
A44: 45529 | B44: Mua dầu ăn | F44: 10000 | G44: =G43+C44+D44-E44-F44 -> 65135500
A45: Tồn cuối tháng 08/2024 | C45: =SUM(C6:C44) -> 8800000 | D45: =SUM(D6:D44) -> 0 | E45: =SUM(E6:E44) -> 7468500 | F45: =SUM(F6:F44) -> 1005000 | G45: =G5+C46-E46 -> 65135500
C46: =SUM(C45:D45) -> 8800000 | E46: =E45+F45 -> 8473500

Sheet T9.24
A1: BÁO CÁO THU CHI NỒI CHÁO ĐĂK LĂK THÁNG 09/2024
G2: ĐVT: đồng
A3: Ngày | B3: Chi tiết | C3: Thu | E3: Chi | G3: Tồn
C4: CMTX | D4: CMKTX | E4: NC Cư Pui | F4: NC Yang Mao
A5: Tồn đầu tháng 09/2024 | G5: ='T8.24'!G45 -> 65135500
A6: 45536 | B6: Mua 12kg thịt nạc heo | E6: 1320000 | G6: =G5+C6+D6-E6-F6 -> 63815500
A7: 45536 | B7: Mua 10kg bí đỏ | E7: 180000 | G7: =G6+C7+D7-E7-F7 -> 63635500
A8: 45536 | B8: Mua 20kg gạo | E8: 360000 | G8: =G7+C8+D8-E8-F8 -> 63275500
A9: 45536 | B9: Mua 10kg rau ngót | E9: 100000 | G9: =G8+C9+D9-E9-F9 -> 63175500
A10: 45536 | B10: Tiền củi điện nước 4 nồi | E10: 60000 | G10: =G9+C10+D10-E10-F10 -> 63115500
A11: 45536 | B11: Mua muối + hạt nêm | E11: 44000 | G11: =G10+C11+D11-E11-F11 -> 63071500
A12: 45536 | B12: Mua 5kg thịt gà | F12: 300000 | G12: =G11+C12+D12-E12-F12 -> 62771500
A13: 45536 | B13: Mua 2kg rau má | F13: 40000 | G13: =G12+C13+D13-E13-F13 -> 62731500
A14: 45536 | B14: Mua 4kg bí đỏ | F14: 60000 | G14: =G13+C14+D14-E14-F14 -> 62671500
A15: 45536 | B15: Mua 4kg gạo | F15: 64000 | G15: =G14+C15+D15-E15-F15 -> 62607500
A16: 45536 | B16: Tiền củi điện nước 1 nồi | F16: 15000 | G16: =G15+C16+D16-E16-F16 -> 62592500
A17: 45536 | B17: Mua bột ngọt + hạt nêm | F17: 10000 | G17: =G16+C17+D17-E17-F17 -> 62582500
A18: 45536 | B18: Mua dầu ăn | F18: 10000 | G18: =G17+C18+D18-E18-F18 -> 62572500
A19: 45539 | B19: Nhóm bạn Van Trang Hoa CMTX T9 | C19: 2600000 | G19: =G18+C19+D19-E19-F19 -> 65172500
A20: 45543 | B20: Mua 12kg thịt nạc heo | E20: 1320000 | G20: =G19+C20+D20-E20-F20 -> 63852500
A21: 45543 | B21: Mua 10kg bí đỏ | E21: 200000 | G21: =G20+C21+D21-E21-F21 -> 63652500
A22: 45543 | B22: Mua 20kg gạo | E22: 360000 | G22: =G21+C22+D22-E22-F22 -> 63292500
A23: 45543 | B23: Mua 10kg rau ngót | E23: 100000 | G23: =G22+C23+D23-E23-F23 -> 63192500
A24: 45543 | B24: Tiền củi điện nước 4 nồi | E24: 60000 | G24: =G23+C24+D24-E24-F24 -> 63132500
A25: 45543 | B25: Mua dầu ăn | E25: 100000 | G25: =G24+C25+D25-E25-F25 -> 63032500
A26: 45543 | B26: Mua muối + hạt nêm | E26: 44000 | G26: =G25+C26+D26-E26-F26 -> 62988500
A27: 45543 | B27: Mua 3kg thịt nạc xay | F27: 300000 | G27: =G26+C27+D27-E27-F27 -> 62688500
A28: 45543 | B28: Mua 2.3kg rau cải | F28: 46000 | G28: =G27+C28+D28-E28-F28 -> 62642500
A29: 45543 | B29: Mua 3kg bí đỏ | F29: 45000 | G29: =G28+C29+D29-E29-F29 -> 62597500
A30: 45543 | B30: Mua 5kg gạo | F30: 80000 | G30: =G29+C30+D30-E30-F30 -> 62517500
A31: 45543 | B31: Tiền củi điện nước 1 nồi | F31: 15000 | G31: =G30+C31+D31-E31-F31 -> 62502500
A32: 45543 | B32: Mua bột ngọt+ hạt nêm | F32: 10000 | G32: =G31+C32+D32-E32-F32 -> 62492500
A33: 45543 | B33: Mua dầu ăn | F33: 10000 | G33: =G32+C33+D33-E33-F33 -> 62482500
A34: 45550 | B34: Mua 12kg thịt nạc heo | E34: 1320000 | G34: =G33+C34+D34-E34-F34 -> 61162500
A35: 45550 | B35: Mua 10kg bí đỏ | E35: 100000 | G35: =G34+C35+D35-E35-F35 -> 61062500
A36: 45550 | B36: Mua 20kg gạo | E36: 360000 | G36: =G35+C36+D36-E36-F36 -> 60702500
A37: 45550 | B37: Mua 12kg rau ngót | E37: 144000 | G37: =G36+C37+D37-E37-F37 -> 60558500
A38: 45550 | B38: Tiền củi điện nước 4 nồi | E38: 60000 | G38: =G37+C38+D38-E38-F38 -> 60498500
A39: 45550 | B39: Mua muối + hạt nêm | E39: 44000 | G39: =G38+C39+D39-E39-F39 -> 60454500
A40: 45554 | B40: Đồng nghiệp USG CMTX T9 | C40: 1600000 | G40: =G39+C40+D40-E40-F40 -> 62054500
A41: 45557 | B41: Mua 12kg thịt nạc heo | E41: 1320000 | G41: =G40+C41+D41-E41-F41 -> 60734500
A42: 45557 | B42: Mua 10kg bí đỏ | E42: 100000 | G42: =G41+C42+D42-E42-F42 -> 60634500
A43: 45557 | B43: Mua 20kg gạo | E43: 360000 | G43: =G42+C43+D43-E43-F43 -> 60274500
A44: 45557 | B44: Mua 12kg rau ngót | E44: 144000 | G44: =G43+C44+D44-E44-F44 -> 60130500
A45: 45557 | B45: Tiền củi điện nước 4 nồi | E45: 60000 | G45: =G44+C45+D45-E45-F45 -> 60070500
A46: 45557 | B46: Mua muối + hạt nêm | E46: 44000 | G46: =G45+C46+D46-E46-F46 -> 60026500
A47: Tồn cuối tháng 09/2024 | C47: =SUM(C6:C46) -> 4200000 | D47: =SUM(D6:D46) -> 0 | E47: =SUM(E6:E46) -> 8304000 | F47: =SUM(F6:F46) -> 1005000 | G47: =G5+C48-E48 -> 60026500
C48: =SUM(C47:D47) -> 4200000 | E48: =E47+F47 -> 9309000

Sheet T10.24
A1: BÁO CÁO THU CHI NỒI CHÁO ĐĂK LĂK THÁNG 10/2024
G2: ĐVT: đồng
A3: Ngày | B3: Chi tiết | C3: Thu | E3: Chi | G3: Tồn
C4: CMTX | D4: CMKTX | E4: NC Cư Pui | F4: NC Yang Mao
A5: Tồn đầu tháng 10/2024 | G5: ='T9.24'!G47 -> 60026500
A6: 45567 | B6: Nhóm bạn Van Trang Hoa CMTX T10 | C6: 2600000 | G6: =G5+C6+D6-E6-F6 -> 62626500
A7: 45569 | B7: Đồng nghiệp USG CMTX T10 | C7: 4000000 | G7: =G6+C7+D7-E7-F7 -> 66626500
A8: 45571 | B8: Mua 12kg gà | E8: 732000 | G8: =G7+C8+D8-E8-F8 -> 65894500
A9: 45571 | B9: Mua 5kg cà rốt | E9: 75000 | G9: =G8+C9+D9-E9-F9 -> 65819500
A10: 45571 | B10: Mua 13kg gạo | E10: 184600 | G10: =G9+C10+D10-E10-F10 -> 65634900
A11: 45571 | B11: Mua 1kg rau ngò + rau ngót | E11: 15000 | G11: =G10+C11+D11-E11-F11 -> 65619900
A12: 45571 | B12: Mua 1 chai dầu ăn | E12: 10000 | G12: =G11+C12+D12-E12-F12 -> 65609900
A13: 45571 | B13: Mua muối + hạt nêm | E13: 10000 | G13: =G12+C13+D13-E13-F13 -> 65599900
A14: 45571 | B14: Mua 12kg thịt heo | E14: 1320000 | G14: =G13+C14+D14-E14-F14 -> 64279900
A15: 45571 | B15: Mua 10kg bí đỏ | E15: 180000 | G15: =G14+C15+D15-E15-F15 -> 64099900
A16: 45571 | B16: Mua 20kg gạo | E16: 360000 | G16: =G15+C16+D16-E16-F16 -> 63739900
A17: 45571 | B17: Mua 10kg rau ngót | E17: 100000 | G17: =G16+C17+D17-E17-F17 -> 63639900
A18: 45571 | B18: Tiền củi điện nước 4 nồi | E18: 60000 | G18: =G17+C18+D18-E18-F18 -> 63579900
A19: 45571 | B19: Mua muối + hạt nêm | E19: 44000 | G19: =G18+C19+D19-E19-F19 -> 63535900
... A42: 45592 | B42: Mua muối + hạt nêm | E42: 44000 | G42: =G41+C42+D42-E42-F42 -> 56527900
A43: Tồn cuối tháng 10/2024 | C43: =SUM(C6:C42) -> 6600000 | D43: =SUM(D6:D42) -> 0 | E43: =SUM(E6:E42) -> 10098600 | F43: =SUM(F6:F42) -> 0 | G43: =G5+C44-E44 -> 56527900
C44: =SUM(C43:D43) -> 6600000 | E44: =E43+F43 -> 10098600

Sheet T11,12.24
A1: BÁO CÁO THU CHI NỒI CHÁO ĐĂK LĂK THÁNG 11,12/2024
G2: ĐVT: đồng
A3: Ngày | B3: Chi tiết | C3: Thu | E3: Chi | G3: Tồn
C4: CMTX | D4: CMKTX | E4: NC Cư Pui | F4: NC Yang Mao
A5: Tồn đầu tháng 11/2024 | G5: ='T10.24'!G43 -> 56527900
A6: 45599 | B6: Nhóm bạn Van Trang Hoa CMTX T11 | C6: 2600000 | G6: =G5+C6+D6-E6-F6 -> 59127900
A7: 45599 | B7: Mua 12kg thịt heo | E7: 1320000 | G7: =G6+C7+D7-E7-F7 -> 57807900
A8: 45599 | B8: Mua 10kg bí đỏ | E8: 180000 | G8: =G7+C8+D8-E8-F8 -> 57627900
A9: 45599 | B9: Mua 20kg gạo | E9: 360000 | G9: =G8+C9+D9-E9-F9 -> 57267900
A10: 45599 | B10: Mua 10kg rau ngót | E10: 100000 | G10: =G9+C10+D10-E10-F10 -> 57167900
A11: 45599 | B11: Tiền củi điện nước 4 nồi | E11: 60000 | G11: =G10+C11+D11-E11-F11 -> 57107900
A12: 45599 | B12: Mua muối + hạt nêm | E12: 44000 | G12: =G11+C12+D12-E12-F12 -> 57063900
A13: 45600 | B13: Đồng nghiệp USG CMTX T11 | C13: 1800000 | G13: =G12+C13+D13-E13-F13 -> 58863900
A14: 45606 | B14: Mua 12kg thịt heo | E14: 1320000 | G14: =G13+C14+D14-E14-F14 -> 57543900
A15: 45606 | B15: Mua 10kg bí đỏ | E15: 100000 | G15: =G14+C15+D15-E15-F15 -> 57443900
A16: 45606 | B16: Mua 20kg gạo | E16: 360000 | G16: =G15+C16+D16-E16-F16 -> 57083900
A17: 45606 | B17: Mua 12kg rau ngót | E17: 144000 | G17: =G16+C17+D17-E17-F17 -> 56939900
A18: 45606 | B18: Tiền củi điện nước 4 nồi | E18: 60000 | G18: =G17+C18+D18-E18-F18 -> 56879900
A19: 45606 | B19: Mua muối + hạt nêm | E19: 44000 | G19: =G18+C19+D19-E19-F19 -> 56835900
A20: 45629 | B20: Nhóm bạn Van Trang Hoa CMTX T12 | C20: 2600000 | G20: =G19+C20+D20-E20-F20 -> 59435900
A21: 45630 | B21: Đồng nghiệp USG CMTX T12 | C21: 1900000 | G21: =G20+C21+D21-E21-F21 -> 61335900
A22: 45634 | B22: Mua 12kg thịt heo | E22: 1320000 | G22: =G21+C22+D22-E22-F22 -> 60015900
A23: 45634 | B23: Mua 10kg bí đỏ | E23: 200000 | G23: =G22+C23+D23-E23-F23 -> 59815900
A24: 45634 | B24: Mua 20kg gạo | E24: 360000 | G24: =G23+C24+D24-E24-F24 -> 59455900
A25: 45634 | B25: Mua 10kg rau ngót | E25: 100000 | G25: =G24+C25+D25-E25-F25 -> 59355900
A26: 45634 | B26: Tiền củi điện nước 4 nồi | E26: 60000 | G26: =G25+C26+D26-E26-F26 -> 59295900
A27: 45634 | B27: Mua muối + hạt nêm | E27: 44000 | G27: =G26+C27+D27-E27-F27 -> 59251900
A28: 45634 | B28: Mua dầu ăn | E28: 100000 | G28: =G27+C28+D28-E28-F28 -> 59151900
A29: Tồn cuối tháng 12/2024 | C29: =SUM(C6:C28) -> 8900000 | D29: =SUM(D6:D28) -> 0 | E29: =SUM(E6:E28) -> 6276000 | F29: =SUM(F6:F28) -> 0 | G29: =G5+C30-E30 -> 59151900
C30: =SUM(C29:D29) -> 8900000 | E30: =E29+F29 -> 6276000

Sheet T1.25
A1: BÁO CÁO THU CHI NỒI CHÁO ĐĂK LĂK THÁNG 1/2025
G2: ĐVT: đồng
A3: Ngày | B3: Chi tiết | C3: Thu | E3: Chi | G3: Tồn
C4: CMTX | D4: CMKTX | E4: NC Cư Pui | F4: NC Yang Mao
A5: Tồn đầu tháng 1/2025 | G5: ='T11,12.24'!G28 -> 59151900
A6: 45662 | B6: Mua 12kg thịt heo | E6: 1320000 | G6: =G5+C6+D6-E6-F6 -> 57831900
A7: 45662 | B7: Mua 10kg bí đỏ | E7: 180000 | G7: =G6+C7+D7-E7-F7 -> 57651900
A8: 45662 | B8: Mua 20kg gạo | E8: 360000 | G8: =G7+C8+D8-E8-F8 -> 57291900
A9: 45662 | B9: Mua 10kg rau ngót | E9: 100000 | G9: =G8+C9+D9-E9-F9 -> 57191900
A10: 45662 | B10: Tiền củi điện nước 4 nồi | E10: 60000 | G10: =G9+C10+D10-E10-F10 -> 57131900
A11: 45662 | B11: Mua muối + hạt nêm | E11: 44000 | G11: =G10+C11+D11-E11-F11 -> 57087900
A12: 45663 | B12: Đồng nghiệp USG CMTX T01 | C12: 32000000 | G12: =G11+C12+D12-E12-F12 -> 89087900
A13: 45665 | B13: Nhóm Van Trang Hoa CMTX T01 | C13: 2600000 | G13: =G12+C13+D13-E13-F13 -> 91687900
A14: 45669 | B14: Mua 12kg thịt heo | E14: 1320000 | G14: =G13+C14+D14-E14-F14 -> 90367900
A15: 45669 | B15: Mua 10kg bí đỏ | E15: 200000 | G15: =G14+C15+D15-E15-F15 -> 90167900
A16: 45669 | B16: Mua 20kg gạo | E16: 360000 | G16: =G15+C16+D16-E16-F16 -> 89807900
A17: 45669 | B17: Mua 10kg rau ngót | E17: 100000 | G17: =G16+C17+D17-E17-F17 -> 89707900
A18: 45669 | B18: Tiền củi điện nước 4 nồi | E18: 60000 | G18: =G17+C18+D18-E18-F18 -> 89647900
A19: 45669 | B19: Mua muối + hạt nêm | E19: 44000 | G19: =G18+C19+D19-E19-F19 -> 89603900
A20: 45669 | B20: Mua dầu ăn | E20: 100000 | G20: =G19+C20+D20-E20-F20 -> 89503900
A21: 45676 | B21: Mua 6.6kg thịt heo | E21: 660000 | G21: =G20+C21+D21-E21-F21 -> 88843900
A22: 45676 | B22: Mua 4.3kg bí đỏ | E22: 51600 | G22: =G21+C22+D22-E22-F22 -> 88792300
A23: 45676 | B23: Mua 15kg gạo | E23: 225000 | G23: =G22+C23+D23-E23-F23 -> 88567300
A24: 45676 | B24: Mua dầu ăn | E24: 10000 | G24: =G23+C24+D24-E24-F24 -> 88557300
A25: 45676 | B25: Mua muối + hạt nêm | E25: 10000 | G25: =G24+C25+D25-E25-F25 -> 88547300
A26: Tồn cuối tháng 1/2025 | C26: =SUM(C6:C25) -> 34600000 | D26: =SUM(D6:D25) -> 0 | E26: =SUM(E6:E25) -> 5204600 | F26: =SUM(F6:F25) -> 0 | G26: =G5+C27-E27 -> 88547300
C27: =SUM(C26:D26) -> 34600000 | E27: =E26+F26 -> 5204600

Sheet T4.25
A1: BÁO CÁO THU CHI NỒI CHÁO ĐĂK LĂK THÁNG 3,4/2025
G2: ĐVT: đồng
A3: Ngày | B3: Chi tiết | C3: Thu | E3: Chi | G3: Tồn
C4: CMTX | D4: CMKTX | E4: NC Cư Pui | F4: NC Yang Mao
A5: Tồn đầu tháng 3/2025 | G5: ='T1.25'!G26 -> 88547300
A6: 45720 | B6: Nhóm Van Trang Hoa CMTX T2 | C6: 2600000 | G6: =G5+C6+D6-E6-F6 -> 91147300
A7: 45748 | B7: Đồng nghiệp USG CMTX T3,4 | C7: 8600000 | G7: =G6+C7+D7-E7-F7 -> 99747300
A8: 45766 | B8: Mua thịt nạc heo | E8: 735000 | G8: =G7+C8+D8-E8-F8 -> 99012300
A9: 45766 | B9: Mua bí đỏ | E9: 36000 | G9: =G8+C9+D9-E9-F9 -> 98976300
A10: 45766 | B10: Mua gạo | E10: 195000 | G10: =G9+C10+D10-E10-F10 -> 98781300
A11: 45766 | B11: Mua rau ngò rau ngót | E11: 15000 | G11: =G10+C11+D11-E11-F11 -> 98766300
A12: 45766 | B12: Mua dầu ăn | E12: 10000 | G12: =G11+C12+D12-E12-F12 -> 98756300
A13: 45766 | B13: Mua muối hạt nêm | E13: 10000 | G13: =G12+C13+D13-E13-F13 -> 98746300
A14: Tồn cuối tháng 4/2025 | C14: =SUM(C6:C13) -> 11200000 | D14: =SUM(D6:D13) -> 0 | E14: =SUM(E6:E13) -> 1001000 | F14: =SUM(F6:F13) -> 0 | G14: =G5+C15-E15 -> 98746300
C15: =SUM(C14:D14) -> 11200000 | E15: =E14+F14 -> 1001000

Sheet T5.25
A1: BÁO CÁO THU CHI NỒI CHÁO ĐĂK LĂK THÁNG 5/2025
G2: ĐVT: đồng
A3: Ngày | B3: Chi tiết | C3: Thu | E3: Chi | G3: Tồn
C4: CMTX | D4: CMKTX | E4: NC Cư Pui | F4: NC Yang Mao
A5: Tồn đầu tháng 5/2025 | G5: ='T4.25'!G14 -> 98746300
A6: 45781 | B6: Mua thịt nạc heo | E6: 735000 | G6: =G5+C6+D6-E6-F6 -> 98011300
A7: 45781 | B7: Mua bí đỏ | E7: 36000 | G7: =G6+C7+D7-E7-F7 -> 97975300
A8: 45781 | B8: Mua gạo | E8: 195000 | G8: =G7+C8+D8-E8-F8 -> 97780300
A9: 45781 | B9: Mua rau ngò rau ngót | E9: 15000 | G9: =G8+C9+D9-E9-F9 -> 97765300
A10: 45781 | B10: Mua dầu ăn | E10: 10000 | G10: =G9+C10+D10-E10-F10 -> 97755300
A11: 45781 | B11: Mua muối hạt nêm | E11: 10000 | G11: =G10+C11+D11-E11-F11 -> 97745300
A12: 45789 | B12: Đồng nghiệp USG CMTX T5 | C12: 1500000 | G12: =G11+C12+D12-E12-F12 -> 99245300
A13: 45789 | B13: Nhóm Van Trang Hoa CMTX T5 | C13: 2600000 | G13: =G12+C13+D13-E13-F13 -> 101845300
A14: Tồn cuối tháng 5/2025 | C14: =SUM(C6:C13) -> 4100000 | D14: =SUM(D6:D13) -> 0 | E14: =SUM(E6:E13) -> 1001000 | F14: =SUM(F6:F13) -> 0 | G14: =G5+C15-E15 -> 101845300
C15: =SUM(C14:D14) -> 4100000 | E15: =E14+F14 -> 1001000

Sheet T6.25
A1: BÁO CÁO THU CHI NỒI CHÁO ĐĂK LĂK THÁNG 6/2025
G2: ĐVT: đồng
A3: Ngày | B3: Chi tiết | C3: Thu | E3: Chi | G3: Tồn
C4: CMTX | D4: CMKTX | E4: NC Cư Pui | F4: NC Yang Mao
A5: Tồn đầu tháng 6/2025 | G5: ='T5.25'!G14 -> 101845300
A6: 45809 | B6: Nhóm Van Trang Hoa CMTX T6 | C6: 2600000 | G6: =G5+C6+D6-E6-F6 -> 104445300
A7: 45816 | B7: Mua thịt nạc heo | E7: 735000 | G7: =G6+C7+D7-E7-F7 -> 103710300
A8: 45816 | B8: Mua bí đỏ | E8: 36000 | G8: =G7+C8+D8-E8-F8 -> 103674300
A9: 45816 | B9: Mua gạo | E9: 195000 | G9: =G8+C9+D9-E9-F9 -> 103479300
A10: 45816 | B10: Mua rau ngò rau ngót | E10: 15000 | G10: =G9+C10+D10-E10-F10 -> 103464300
A11: 45816 | B11: Mua dầu ăn | E11: 10000 | G11: =G10+C11+D11-E11-F11 -> 103454300
A12: 45816 | B12: Mua muối hạt nêm | E12: 10000 | G12: =G11+C12+D12-E12-F12 -> 103444300
A13: 45838 | B13: Đồng nghiệp USG CMTX T6,7 | C13: 3000000 | G13: =G12+C13+D13-E13-F13 -> 106444300
A14: Tồn cuối tháng 6/2025 | C14: =SUM(C6:C13) -> 5600000 | D14: =SUM(D6:D13) -> 0 | E14: =SUM(E6:E13) -> 1001000 | F14: =SUM(F6:F13) -> 0 | G14: =G5+C15-E15 -> 106444300
C15: =SUM(C14:D14) -> 5600000 | E15: =E14+F14 -> 1001000

Sheet T7.25
A1: BÁO CÁO THU CHI NỒI CHÁO ĐĂK LĂK THÁNG 7/2025
G2: ĐVT: đồng
A3: Ngày | B3: Chi tiết | C3: Thu | E3: Chi | G3: Tồn
C4: CMTX | D4: CMKTX | E4: NC Cư Pui | F4: NC Yang Mao
A5: Tồn đầu tháng 7/2025 | G5: ='T6.25'!G14 -> 106444300
A6: 45664 | B6: Nhóm Van Trang Hoa CMTX T7 | C6: 2600000 | G6: =G5+C6+D6-E6-F6 -> 109044300
A7: 45846 | B7: Mua thịt nạc heo | E7: 735000 | G7: =G6+C7+D7-E7-F7 -> 108309300
A8: 45846 | B8: Mua bí đỏ | E8: 36000 | G8: =G7+C8+D8-E8-F8 -> 108273300
A9: 45846 | B9: Mua gạo | E9: 195000 | G9: =G8+C9+D9-E9-F9 -> 108078300
A10: 45846 | B10: Mua rau ngò rau ngót | E10: 15000 | G10: =G9+C10+D10-E10-F10 -> 108063300
A11: 45846 | B11: Mua dầu ăn | E11: 10000 | G11: =G10+C11+D11-E11-F11 -> 108053300
A12: 45846 | B12: Mua muối hạt nêm | E12: 10000 | G12: =G11+C12+D12-E12-F12 -> 108043300
A13: 45858 | B13: Mua thịt nạc heo | E13: 693000 | G13: =G12+C13+D13-E13-F13 -> 107350300
A14: 45858 | B14: Mua bí đỏ | E14: 72000 | G14: =G13+C14+D14-E14-F14 -> 107278300
A15: 45858 | B15: Mua gạo | E15: 225000 | G15: =G14+C15+D15-E15-F15 -> 107053300
A16: 45858 | B16: Mua rau ngò rau ngót | E16: 25500 | G16: =G15+C16+D16-E16-F16 -> 107027800
A17: 45858 | B17: Mua dầu ăn | E17: 10000 | G17: =G16+C17+D17-E17-F17 -> 107017800
A18: 45858 | B18: Mua muối hạt nêm | E18: 10000 | G18: =G17+C18+D18-E18-F18 -> 107007800
A19: Tồn cuối tháng 7/2025 | C19: =SUM(C6:C18) -> 2600000 | D19: =SUM(D6:D18) -> 0 | E19: =SUM(E6:E18) -> 2036500 | F19: =SUM(F6:F18) -> 0 | G19: =G5+C20-E20 -> 107007800
C20: =SUM(C19:D19) -> 2600000 | E20: =E19+F19 -> 2036500
