Workbook

Sheet T1.2021
A2: BÁO CÁO QUỸ NỒI CHÁO HUẾ THÁNG 01/2021
A4: NGÀY | B4: DIỄN GIẢI | C4: THU | E4: CHI | F4: TỒN
C5: CMTX | D5: CMKTX
A6: Tồn đầu tháng 01/2021 | F6: 19221332
A7: 44199 | B7: Mua rau củ | E7: 168000 | F7: =F6+C7+D7-E7 -> 19053332
A8: 44199 | B8: Mua thịt | E8: 250000 | F8: =F7+C8+D8-E8 -> 18803332
A9: 44199 | B9: Tiền xe chở nồi cháo | E9: 50000 | F9: =F8+C9+D9-E9 -> 18753332
A10: 44199 | B10: Mua 10kg gạo | E10: 130000 | F10: =F9+C10+D10-E10 -> 18623332
A11: 44199 | B11: Mua 2 cái khăn | E11: 10000 | F11: =F10+C11+D11-E11 -> 18613332
A12: 44202 | B12: Đồng nghiệp USG & Friends CMTX T01 | C12: 2500000 | F12: =F11+C12+D12-E12 -> 21113332
A13: 44206 | B13: Mua rau củ | E13: 170000 | F13: =F12+C13+D13-E13 -> 20943332
A14: 44206 | B14: Mua thịt | E14: 250000 | F14: =F13+C14+D14-E14 -> 20693332
A15: 44206 | B15: Tiền xe chở nồi cháo | E15: 50000 | F15: =F14+C15+D15-E15 -> 20643332
A16: 44206 | B16: Mua tiêu | E16: 20000 | F16: =F15+C16+D16-E16 -> 20623332
A17: 44213 | B17: Mua rau củ | E17: 175000 | F17: =F16+C17+D17-E17 -> 20448332
A18: 44213 | B18: Mua thịt | E18: 250000 | F18: =F17+C18+D18-E18 -> 20198332
A19: 44213 | B19: Tiền xe chở nồi cháo | E19: 50000 | F19: =F18+C19+D19-E19 -> 20148332
A20: 44220 | B20: Mua rau củ | E20: 165000 | F20: =F19+C20+D20-E20 -> 19983332
A21: 44220 | B21: Mua thịt | E21: 250000 | F21: =F20+C21+D21-E21 -> 19733332
A22: 44220 | B22: Tiền xe chở nồi cháo | E22: 50000 | F22: =F21+C22+D22-E22 -> 19683332
A23: 44220 | B23: Mua gạo | E23: 140000 | F23: =F22+C23+D23-E23 -> 19543332
A24: 44220 | B24: Mua tiêu | E24: 20000 | F24: =F23+C24+D24-E24 -> 19523332
... A26: 44220 | B26: Mua 100 phong bì | E26: 18000 | F26: =F25+C26+D26-E26 -> 19365332
A27: 44225 | B27: Đồng nghiệp USG & Friends CMTX T02 | C27: 2200000 | F27: =F26+C27+D27-E27 -> 21565332
A28: Tồng cộng | C28: =SUM(C7:C27) -> 4700000 | D28: =SUM(D7:D27) -> 0 | E28: =SUM(E7:E27) -> 2356000 | F28: =F6+C28+D28-E28 -> 21565332
A29: Tồn cuối tháng 01/2021 | C29: =F6+C28+D28-E28 -> 21565332

Sheet T2.2021
A2: BÁO CÁO QUỸ NỒI CHÁO HUẾ THÁNG 02/2021
A4: NGÀY | B4: DIỄN GIẢI | C4: THU | E4: CHI | F4: TỒN
C5: CMTX | D5: CMKTX
A6: Tồn đầu tháng 02/2021 | F6: ='T1.2021'!C29 -> 21565332
B7: Không phát sinh ủng hộ và chi phí | F7: =F6+C7+D7-E7 -> 21565332
A9: Tồng cộng | C9: =SUM(C7:C8) -> 0 | D9: =SUM(D7:D8) -> 0 | E9: =SUM(E7:E8) -> 0 | F9: =F6+C9+D9-E9 -> 21565332
A10: Tồn cuối tháng 02/2021 | C10: =F6+C9+D9-E9 -> 21565332

Sheet T3.2021
A2: BÁO CÁO QUỸ NỒI CHÁO HUẾ THÁNG 03/2021
A4: NGÀY | B4: DIỄN GIẢI | C4: THU | E4: CHI | F4: TỒN
C5: CMTX | D5: CMKTX
A6: Tồn đầu tháng 03/2021 | F6: ='T2.2021'!C10 -> 21565332
A7: 44256 | B7: Đồng nghiệp USG & Friends CMTX T3 | C7: 600000 | F7: =F6+C7+D7-E7 -> 22165332
A8: 44281 | B8: TV Vu Ly ủng hộ KTX | D8: 1121400 | F8: =F7+C8+D8-E8 -> 23286732
B9: Không phát sinh chi phí | F9: =F8+C9+D9-E9 -> 23286732
A11: Tồng cộng | C11: =SUM(C7:C10) -> 600000 | D11: =SUM(D7:D10) -> 1121400 | E11: =SUM(E7:E10) -> 0 | F11: =F6+C11+D11-E11 -> 23286732
A12: Tồn cuối tháng 03/2021 | C12: =F6+C11+D11-E11 -> 23286732

Sheet T4.2021
A2: BÁO CÁO QUỸ NỒI CHÁO HUẾ THÁNG 04/2021
A4: NGÀY | B4: DIỄN GIẢI | C4: THU | E4: CHI | F4: TỒN
C5: CMTX | D5: CMKTX
A6: Tồn đầu tháng 04/2021 | F6: ='T3.2021'!C12 -> 23286732
A7: 44287 | B7: Đồng nghiệp USG & Friends CMTX T4 | C7: 600000 | F7: =F6+C7+D7-E7 -> 23886732
A8: 44293 | B8: Chị Nguyễn Thị Diệu Huyền CMTX T02,3,4/2021 | C8: 1500000 | F8: =F7+C8+D8-E8 -> 25386732
A9: 44297 | B9: Anh(chị) Ong Tu Van ủng hộ KTX | D9: 2000000 | F9: =F8+C9+D9-E9 -> 27386732
A10: 44297 | B10: TV Hiếu Tranly ủng hộ KTX | D10: 441700 | F10: =F9+C10+D10-E10 -> 27828432
B11: Không phát sinh chi phí | F11: =F10+C11+D11-E11 -> 27828432
F12: =F11+C12+D12-E12 -> 27828432
A13: Tồng cộng | C13: =SUM(C7:C12) -> 2100000 | D13: =SUM(D7:D12) -> 2441700 | E13: =SUM(E7:E12) -> 0 | F13: =F6+C13+D13-E13 -> 27828432
A14: Tồn cuối tháng 04/2021 | C14: =F6+C13+D13-E13 -> 27828432

Sheet T5.2021
A2: BÁO CÁO QUỸ NỒI CHÁO HUẾ THÁNG 05/2021
A4: NGÀY | B4: DIỄN GIẢI | C4: THU | E4: CHI | F4: TỒN
C5: CMTX | D5: CMKTX
A6: Tồn đầu tháng 05/2021 | F6: ='T4.2021'!C14 -> 27828432
A7: 44321 | B7: Yard Sale ủng hộ KTX | D7: 500000 | F7: =F6+C7+D7-E7 -> 28328432
F8: =F7+C8+D8-E8 -> 28328432
A9: Tồng cộng | C9: =SUM(C7:C8) -> 0 | D9: =SUM(D7:D8) -> 500000 | E9: =SUM(E7:E8) -> 0 | F9: =F6+C9+D9-E9 -> 28328432
A10: Tồn cuối tháng 05/2021 | C10: =F6+C9+D9-E9 -> 28328432

Sheet T6.2021
A2: BÁO CÁO QUỸ NỒI CHÁO HUẾ THÁNG 06/2021
A4: NGÀY | B4: DIỄN GIẢI | C4: THU | E4: CHI | F4: TỒN
C5: CMTX | D5: CMKTX
A6: Tồn đầu tháng 06/2021 | F6: ='T5.2021'!C10 -> 28328432
A7: 44373 | B7: TV Vu Ly ủng hộ KTX | D7: 645200 | F7: =F6+C7+D7-E7 -> 28973632
F8: =F7+C8+D8-E8 -> 28973632
A9: Tồng cộng | C9: =SUM(C7:C8) -> 0 | D9: =SUM(D7:D8) -> 645200 | E9: =SUM(E7:E8) -> 0 | F9: =F6+C9+D9-E9 -> 28973632
A10: Tồn cuối tháng 06/2021 | C10: =F6+C9+D9-E9 -> 28973632

Sheet T2.2022
A2: BÁO CÁO QUỸ NỒI CHÁO HUẾ THÁNG 02/202
A4: NGÀY | B4: DIỄN GIẢI | C4: THU | E4: CHI | F4: TỒN
C5: CMTX | D5: CMKTX
A6: Tồn đầu tháng 02/2022 | F6: ='T6.2021'!C10 -> 28973632
A7: 44604 | B7: Chị Nguyen Thi Dieu Huyen CMTX từ T04/21 đến T01/22 | C7: 5500000 | F7: =F6+C7+D7-E7 -> 34473632
F8: =F7+C8+D8-E8 -> 34473632
A9: Tồng cộng | C9: =SUM(C7:C8) -> 5500000 | D9: =SUM(D7:D8) -> 0 | E9: =SUM(E7:E8) -> 0 | F9: =F6+C9+D9-E9 -> 34473632
A10: Tồn cuối tháng 02/2022 | C10: =F6+C9+D9-E9 -> 34473632

Sheet T6.2022
A2: BÁO CÁO QUỸ NỒI CHÁO HUẾ THÁNG 06/2022
A4: NGÀY | B4: DIỄN GIẢI | C4: THU | E4: CHI | F4: TỒN
C5: CMTX | D5: CMKTX
A6: Tồn đầu tháng 06/2022 | F6: ='T2.2022'!C10 -> 34473632
A7: 44724 | B7: Mua gia vị các loại | E7: 275000 | F7: =F6+C7+D7-E7 -> 34198632
A8: 44724 | B8: Mua làn + bưng nồi | E8: 70000 | F8: =F7+C8+D8-E8 -> 34128632
A9: 44724 | B9: Mua thịt | E9: 250000 | F9: =F8+C9+D9-E9 -> 33878632
A10: 44724 | B10: Mua rau củ | E10: 187000 | F10: =F9+C10+D10-E10 -> 33691632
A11: 44724 | B11: Mua 10kg gạo | E11: 140000 | F11: =F10+C11+D11-E11 -> 33551632
A12: 44724 | B12: Mua máy xay | E12: 180000 | F12: =F11+C12+D12-E12 -> 33371632
A13: 44724 | B13: Mua bếp khò | E13: 500000 | F13: =F12+C13+D13-E13 -> 32871632
A14: 44724 | B14: Mua bình gas | E14: 420000 | F14: =F13+C14+D14-E14 -> 32451632
A15: 44724 | B15: Tiền xích lô chở cháo | E15: 80000 | F15: =F14+C15+D15-E15 -> 32371632
A16: 44731 | B16: Mua rau củ | E16: 170000 | F16: =F15+C16+D16-E16 -> 32201632
A17: 44731 | B17: Mua thịt | E17: 250000 | F17: =F16+C17+D17-E17 -> 31951632
A18: 44731 | B18: Mua bộ hộp | E18: 35000 | F18: =F17+C18+D18-E18 -> 31916632
... A21: 44731 | B21: Tiền xích lô chở cháo | E21: 80000 | F21: =F20+C21+D21-E21 -> 31556632
A22: 44735 | B22: Chị Tran Thi Quynh Anh ủng hộ KTX | D22: 1500000 | F22: =F21+C22+D22-E22 -> 33056632
A23: 44738 | B23: Mua rau củ | E23: 178000 | F23: =F22+C23+D23-E23 -> 32878632
A24: 44738 | B24: Mua giấy | E24: 10000 | F24: =F23+C24+D24-E24 -> 32868632
A25: 44738 | B25: Tiền xích lô chở cháo | E25: 80000 | F25: =F24+C25+D25-E25 -> 32788632
A26: 44738 | B26: Mua thịt | E26: 250000 | F26: =F25+C26+D26-E26 -> 32538632
A27: 44779 | B27: ANh Vu Ly ủng hộ KTX | D27: 1000000 | F27: =F26+C27+D27-E27 -> 33538632
A28: 44871 | B28: Anh ThaiDzuy ủng hộ KTX | D28: 500000 | F28: =F27+C28+D28-E28 -> 34038632
A29: Tồng cộng | C29: =SUM(C7:C28) -> 0 | D29: =SUM(D7:D28) -> 3000000 | E29: =SUM(E7:E28) -> 3435000 | F29: =F6+C29+D29-E29 -> 34038632
A30: Tồn cuối tháng 06/2022 | C30: =F6+C29+D29-E29 -> 34038632

Sheet T7.2022
A2: BÁO CÁO QUỸ NỒI CHÁO HUẾ THÁNG 07/2022
A4: NGÀY | B4: DIỄN GIẢI | C4: THU | E4: CHI | F4: TỒN
C5: CMTX | D5: CMKTX
A6: Tồn đầu tháng 07/2022 | F6: ='T6.2022'!C30 -> 34038632
A7: 44745 | B7: Mua thịt | E7: 250000 | F7: =F6+C7+D7-E7 -> 33788632
A8: 44745 | B8: Mua rau củ | E8: 172000 | F8: =F7+C8+D8-E8 -> 33616632
A9: 44745 | B9: Mua 10kg gạo | E9: 135000 | F9: =F8+C9+D9-E9 -> 33481632
A10: 44745 | B10: Mua kéo + bao tay + bột canh | E10: 45000 | F10: =F9+C10+D10-E10 -> 33436632
A11: 44745 | B11: Tiền xích lô chở nồi cháo | E11: 80000 | F11: =F10+C11+D11-E11 -> 33356632
A12: 44745 | B12: Bịch nước 20lit | E12: 15000 | F12: =F11+C12+D12-E12 -> 33341632
A13: 44752 | B13: Chị Tran Thi Quynh Anh ủng hộ KTX | D13: 2000000 | F13: =F12+C13+D13-E13 -> 35341632
A14: 44752 | B14: Mua rau củ | E14: 180000 | F14: =F13+C14+D14-E14 -> 35161632
A15: 44752 | B15: Mua thịt | E15: 250000 | F15: =F14+C15+D15-E15 -> 34911632
A16: 44752 | B16: Tiền xích lô chở nồi cháo | E16: 80000 | F16: =F15+C16+D16-E16 -> 34831632
A17: 44759 | B17: Mua thịt | E17: 250000 | F17: =F16+C17+D17-E17 -> 34581632
A18: 44759 | B18: Mua rau củ | E18: 175000 | F18: =F17+C18+D18-E18 -> 34406632 | H18: g
A19: 44759 | B19: Mua dầu ăn, nước mắm, tiêu | E19: 84000 | F19: =F18+C19+D19-E19 -> 34322632
A20: 44759 | B20: Tiền xích lô chở nồi cháo | E20: 80000 | F20: =F19+C20+D20-E20 -> 34242632
A21: 44766 | B21: Mua thịt | E21: 250000 | F21: =F20+C21+D21-E21 -> 33992632
A22: 44766 | B22: Mua rau củ | E22: 178000 | F22: =F21+C22+D22-E22 -> 33814632
A23: 44766 | B23: Mua 10kg gạo | E23: 135000 | F23: =F22+C23+D23-E23 -> 33679632
A24: 44766 | B24: Tiền xích lô chở nồi cháo | E24: 80000 | F24: =F23+C24+D24-E24 -> 33599632
A25: 44771 | B25: Anh Vu Ly ủng hộ KTX | D25: 3500000 | F25: =F24+C25+D25-E25 -> 37099632
A26: 44773 | B26: Mua thịt | E26: 250000 | F26: =F25+C26+D26-E26 -> 36849632
A27: 44773 | B27: Mua rau củ | E27: 180000 | F27: =F26+C27+D27-E27 -> 36669632
A28: 44773 | B28: Mua bột ngọt + hạt nêm + tiêu + muối | E28: 87000 | F28: =F27+C28+D28-E28 -> 36582632
A29: 44773 | B29: Tiền xích lô chở nồi cháo | E29: 80000 | F29: =F28+C29+D29-E29 -> 36502632
A30: Tồng cộng | C30: =SUM(C7:C29) -> 0 | D30: =SUM(D7:D29) -> 5500000 | E30: =SUM(E7:E29) -> 3036000 | F30: =F6+C30+D30-E30 -> 36502632
A31: Tồn cuối tháng 07/2022 | C31: =F6+C30+D30-E30 -> 36502632

Sheet T8.2022
A2: BÁO CÁO QUỸ NỒI CHÁO HUẾ THÁNG 8/2022
A4: NGÀY | B4: DIỄN GIẢI | C4: THU | E4: CHI | F4: TỒN
C5: CMTX | D5: CMKTX
A6: Tồn đầu tháng 8/2022 | F6: ='T7.2022'!C31 -> 36502632
A7: 44780 | B7: Mua thịt | E7: 250000 | F7: =F6+C7+D7-E7 -> 36252632
A8: 44780 | B8: Mua rau củ | E8: 187000 | F8: =F7+C8+D8-E8 -> 36065632
A9: 44780 | B9: Tiền xe chở cháo | E9: 80000 | F9: =F8+C9+D9-E9 -> 35985632
A10: 44787 | B10: Mua rau củ | E10: 190000 | F10: =F9+C10+D10-E10 -> 35795632
A11: 44787 | B11: Mua thịt | E11: 250000 | F11: =F10+C11+D11-E11 -> 35545632
A12: 44787 | B12: Mau gia vị (dầu ăn, nước mắm, tiêu, hạt nêm, 2 gói bột canh | E12: 168000 | F12: =F11+C12+D12-E12 -> 35377632
A13: 44787 | B13: Mau gạo | E13: 135000 | F13: =F12+C13+D13-E13 -> 35242632
A14: 44787 | B14: Tiền xe chở cháo | E14: 80000 | F14: =F13+C14+D14-E14 -> 35162632
A15: 44794 | B15: Mua rau củ | E15: 190000 | F15: =F14+C15+D15-E15 -> 34972632
A16: 44794 | B16: Mua thịt | E16: 250000 | F16: =F15+C16+D16-E16 -> 34722632
A17: 44794 | B17: Tiền xe chở cháo | E17: 80000 | F17: =F16+C17+D17-E17 -> 34642632
A18: Tồng cộng | C18: =SUM(C7:C17) -> 0 | D18: =SUM(D7:D17) -> 0 | E18: =SUM(E7:E17) -> 1860000 | F18: =F6+C18+D18-E18 -> 34642632
A19: Tồn cuối tháng 8/2022 | C19: =F6+C18+D18-E18 -> 34642632

Sheet T9.2022
A2: BÁO CÁO QUỸ NỒI CHÁO HUẾ THÁNG 9/2022
A4: NGÀY | B4: DIỄN GIẢI | C4: THU | E4: CHI | F4: TỒN
C5: CMTX | D5: CMKTX
A6: Tồn đầu tháng 09/2022 | F6: ='T8.2022'!C19 -> 34642632
A7: 44808 | B7: Mua thịt | E7: 250000 | F7: =F6+C7+D7-E7 -> 34392632
A8: 44808 | B8: Mua rau củ | E8: 178000 | F8: =F7+C8+D8-E8 -> 34214632
A9: 44808 | B9: Tiền xe chở cháo | E9: 80000 | F9: =F8+C9+D9-E9 -> 34134632
A10: 44815 | B10: Mua thịt | E10: 250000 | F10: =F9+C10+D10-E10 -> 33884632
A11: 44815 | B11: Mua rau củ | E11: 175000 | F11: =F10+C11+D11-E11 -> 33709632
A12: 44815 | B12: Tiền xe chở cháo | E12: 80000 | F12: =F11+C12+D12-E12 -> 33629632
A13: 44815 | B13: Mua tiêu | E13: 20000 | F13: =F12+C13+D13-E13 -> 33609632
A14: 44815 | B14: Mua gạo | E14: 135000 | F14: =F13+C14+D14-E14 -> 33474632
A15: 44822 | B15: Mua bình gas | E15: 370000 | F15: =F14+C15+D15-E15 -> 33104632
A16: 44822 | B16: Mua thịt | E16: 250000 | F16: =F15+C16+D16-E16 -> 32854632
A17: 44822 | B17: Mua rau củ | E17: 180000 | F17: =F16+C17+D17-E17 -> 32674632
A18: 44822 | B18: Tiền xe chở cháo | E18: 80000 | F18: =F17+C18+D18-E18 -> 32594632
... A23: 44829 | B23: Tiền xe chở cháo | E23: 80000 | F23: =F22+C23+D23-E23 -> 31867632
A24: 44816 | B24: Đồng nghiệp USG CMTX T9 | C24: 500000 | F24: =F23+C24+D24-E24 -> 32367632
A25: 44823 | B25: Chị Nguyen Thi Dieu Huyen CMTX T10 | C25: 500000 | F25: =F24+C25+D25-E25 -> 32867632
A26: Tồng cộng | C26: =SUM(C7:C25) -> 1000000 | D26: =SUM(D7:D25) -> 0 | E26: =SUM(E7:E25) -> 2775000 | F26: =F6+C26+D26-E26 -> 32867632
A27: Tồn cuối tháng 09/2022 | C27: =F6+C26+D26-E26 -> 32867632

Sheet T10.2022
A2: BÁO CÁO QUỸ NỒI CHÁO HUẾ THÁNG 10/2022
A4: NGÀY | B4: DIỄN GIẢI | C4: THU | E4: CHI | F4: TỒN
C5: CMTX | D5: CMKTX
A6: Tồn đầu tháng 10/2022 | F6: ='T9.2022'!C27 -> 32867632
A7: 44835 | B7: Chị Tran Thi Quynh Anh ủng hộ KTX | D7: 2000000 | F7: =F6+C7+D7-E7 -> 34867632
A8: 44836 | B8: Mua thịt | E8: 250000 | F8: =F7+C8+D8-E8 -> 34617632
A9: 44836 | B9: Mua rau củ | E9: 185000 | F9: =F8+C9+D9-E9 -> 34432632
A10: 44836 | B10: Tiền xe chở nồi cháo | E10: 80000 | F10: =F9+C10+D10-E10 -> 34352632
A11: 44836 | B11: Mua tiêu | E11: 20000 | F11: =F10+C11+D11-E11 -> 34332632
A12: 44842 | B12: Mua thịt | E12: 250000 | F12: =F11+C12+D12-E12 -> 34082632
A13: 44842 | B13: Mua rau củ | E13: 180000 | F13: =F12+C13+D13-E13 -> 33902632
A14: 44842 | B14: Tiền xe chở nồi cháo | E14: 80000 | F14: =F13+C14+D14-E14 -> 33822632
A15: 44852 | B15: Chị Nguyen Thi Dieu Huyen CMTX T10 | C15: 500000 | F15: =F14+C15+D15-E15 -> 34322632
A16: 44857 | B16: Mua thịt | E16: 250000 | F16: =F15+C16+D16-E16 -> 34072632
A17: 44857 | B17: Mua rau củ | E17: 200000 | F17: =F16+C17+D17-E17 -> 33872632
A18: 44857 | B18: Tiền xe chở nồi cháo | E18: 80000 | F18: =F17+C18+D18-E18 -> 33792632
A19: 44864 | B19: Mua thịt | E19: 250000 | F19: =F18+C19+D19-E19 -> 33542632
A20: 44864 | B20: Mua gia vị (hạt nêm, dầu ăn, nước mắm, tiêu, bột canh) | E20: 180000 | F20: =F19+C20+D20-E20 -> 33362632
A21: 44864 | B21: Mua gạo | E21: 135000 | F21: =F20+C21+D21-E21 -> 33227632
A22: 44864 | B22: Mua rau củ | E22: 200000 | F22: =F21+C22+D22-E22 -> 33027632
A23: 44864 | B23: Tiền xe chở nồi cháo | E23: 50000 | F23: =F22+C23+D23-E23 -> 32977632
A24: Tồng cộng | C24: =SUM(C7:C23) -> 500000 | D24: =SUM(D7:D23) -> 2000000 | E24: =SUM(E7:E23) -> 2390000 | F24: =F6+C24+D24-E24 -> 32977632
A25: Tồn cuối tháng 10/2022 | C25: =F6+C24+D24-E24 -> 32977632

Sheet T11.2022
A2: BÁO CÁO QUỸ NỒI CHÁO HUẾ THÁNG 11/2022
A4: NGÀY | B4: DIỄN GIẢI | C4: THU | E4: CHI | F4: TỒN
C5: CMTX | D5: CMKTX
A6: Tồn đầu tháng 11/2022 | F6: ='T10.2022'!C25 -> 32977632
A7: 44871 | B7: Mua thịt | E7: 250000 | F7: =F6+C7+D7-E7 -> 32727632
A8: 44871 | B8: Mua rau củ | E8: 200000 | F8: =F7+C8+D8-E8 -> 32527632
A9: 44871 | B9: Tiền xe chở nồi cháo | E9: 80000 | F9: =F8+C9+D9-E9 -> 32447632
A10: 44871 | B10: Mua gạo | E10: 135000 | F10: =F9+C10+D10-E10 -> 32312632
A11: 44878 | B11: Mua thịt | E11: 250000 | F11: =F10+C11+D11-E11 -> 32062632
A12: 44878 | B12: Mua rau củ | E12: 200000 | F12: =F11+C12+D12-E12 -> 31862632
A13: 44878 | B13: Tiền xe chở nồi cháo | E13: 80000 | F13: =F12+C13+D13-E13 -> 31782632
A14: 44878 | B14: Mua tiêu + 2 gói bột canh | E14: 36000 | F14: =F13+C14+D14-E14 -> 31746632
A15: 44885 | B15: Mua thịt | E15: 250000 | F15: =F14+C15+D15-E15 -> 31496632
A16: 44885 | B16: Mua rau củ | E16: 200000 | F16: =F15+C16+D16-E16 -> 31296632
A17: 44885 | B17: Tiền xe chở nồi cháo | E17: 80000 | F17: =F16+C17+D17-E17 -> 31216632
A18: 44885 | B18: Mua 1.5kg hạt nêm | E18: 105000 | F18: =F17+C18+D18-E18 -> 31111632
A19: 44885 | B19: Mua gạo | E19: 140000 | F19: =F18+C19+D19-E19 -> 30971632
A20: 44886 | B20: Chị Nguyen Thi Dieu Huyen CMTX T11 | C20: 500000 | F20: =F19+C20+D20-E20 -> 31471632
A21: Tồng cộng | C21: =SUM(C7:C20) -> 500000 | D21: =SUM(D7:D20) -> 0 | E21: =SUM(E7:E20) -> 2006000 | F21: =F6+C21+D21-E21 -> 31471632
A22: Tồn cuối tháng 11/2022 | C22: =F6+C21+D21-E21 -> 31471632

Sheet T12.2022
A2: BÁO CÁO QUỸ NỒI CHÁO HUẾ THÁNG 12/2022
A4: NGÀY | B4: DIỄN GIẢI | C4: THU | E4: CHI | F4: TỒN
C5: CMTX | D5: CMKTX
A6: Tồn đầu tháng 12/2022 | F6: ='T11.2022'!C22 -> 31471632
A7: 41268 | B7: Mua rau củ | E7: 200000 | F7: =F6+C7+D7-E7 -> 31271632
A8: 41268 | B8: Mua thịt | E8: 250000 | F8: =F7+C8+D8-E8 -> 31021632
A9: 41268 | B9: Tiền xe chở cháo | E9: 80000 | F9: =F8+C9+D9-E9 -> 30941632
A10: 41268 | B10: Mua tiêu | E10: 20000 | F10: =F9+C10+D10-E10 -> 30921632
A11: 44899 | B11: Anh chị Vũ Ly cùng các bạn | D11: 3000000 | F11: =F10+C11+D11-E11 -> 33921632
A12: 44904 | B12: Chị Nguyen Thi Dieu Huyen CMTX T12 | C12: 500000 | F12: =F11+C12+D12-E12 -> 34421632
A13: 44906 | B13: Mua rau củ | E13: 210000 | F13: =F12+C13+D13-E13 -> 34211632
A14: 44906 | B14: Mua thịt | E14: 250000 | F14: =F13+C14+D14-E14 -> 33961632
A15: 44906 | B15: Tiền xe chở cháo | E15: 80000 | F15: =F14+C15+D15-E15 -> 33881632
A16: 44906 | B16: Mua gia vị (nước mắm, dầu ăn, tiêu, 2 gói) | E16: 125000 | F16: =F15+C16+D16-E16 -> 33756632
A17: 44906 | B17: Gas | E17: 375000 | F17: =F16+C17+D17-E17 -> 33381632
A18: 44913 | B18: Mua rau củ | E18: 200000 | F18: =F17+C18+D18-E18 -> 33181632
A19: 44913 | B19: Mua thịt | E19: 250000 | F19: =F18+C19+D19-E19 -> 32931632
A20: 44913 | B20: Tiền xe chở cháo | E20: 80000 | F20: =F19+C20+D20-E20 -> 32851632
A21: 44913 | B21: Mua 3 con dao + nhôm chìu nồi | E21: 100000 | F21: =F20+C21+D21-E21 -> 32751632
A22: Tồng cộng | C22: =SUM(C7:C21) -> 500000 | D22: =SUM(D7:D21) -> 3000000 | E22: =SUM(E7:E21) -> 2220000 | F22: =F6+C22+D22-E22 -> 32751632
A23: Tồn cuối tháng 12/2022 | C23: =F6+C22+D22-E22 -> 32751632

Sheet T1.2023
A2: BÁO CÁO QUỸ NỒI CHÁO HUẾ THÁNG 1/2023
A4: NGÀY | B4: DIỄN GIẢI | C4: THU | E4: CHI | F4: TỒN
C5: CMTX | D5: CMKTX
A6: Tồn đầu tháng 1/2023 | F6: ='T12.2022'!C23 -> 32751632
A7: 44930 | B7: Đồng nghiệp USG CMTX T01 | C7: 2000000 | F7: =F6+C7+D7-E7 -> 34751632
A8: 44935 | B8: Chị Nguyen Thi Dieu Huyen CMTX T01 | C8: 500000 | F8: =F7+C8+D8-E8 -> 35251632
A9: 44951 | B9: Anh Thắng Cọt ủng hộ KTX | D9: 500000 | F9: =F8+C9+D9-E9 -> 35751632
A10: Tồng cộng | C10: =SUM(C7:C9) -> 2500000 | D10: =SUM(D7:D9) -> 500000 | E10: =SUM(E7:E9) -> 0 | F10: =F6+C10+D10-E10 -> 35751632
A11: Tồn cuối tháng 1/2023 | C11: =F6+C10+D10-E10 -> 35751632

Sheet T2.2023
A2: BÁO CÁO QUỸ NỒI CHÁO HUẾ THÁNG 2/2023
A4: NGÀY | B4: DIỄN GIẢI | C4: THU | E4: CHI | F4: TỒN
C5: CMTX | D5: CMKTX
A6: Tồn đầu tháng 2/2023 | F6: ='T1.2023'!C11 -> 35751632
A7: 44969 | B7: Mua gạo | E7: 150000 | F7: =F6+C7+D7-E7 -> 35601632
A8: 44969 | B8: Mua thịt | E8: 250000 | F8: =F7+C8+D8-E8 -> 35351632
A9: 44969 | B9: Mua rau | E9: 190000 | F9: =F8+C9+D9-E9 -> 35161632
A10: 44969 | B10: Mua thớt | E10: 45000 | F10: =F9+C10+D10-E10 -> 35116632
A11: 44969 | B11: Mua gia vị (dầu ăn, nước mắm, tiêu, bột canh) | E11: 115000 | F11: =F10+C11+D11-E11 -> 35001632
A12: 44969 | B12: Tiền xe chở nồi cháo | E12: 80000 | F12: =F11+C12+D12-E12 -> 34921632
A13: 44971 | B13: Đồng nghiệp USG CMTX T02 | C13: 1000000 | F13: =F12+C13+D13-E13 -> 35921632
A14: 44977 | B14: Chị Nguyen Thi Dieu Huyen CMTX T02 | C14: 500000 | F14: =F13+C14+D14-E14 -> 36421632
A15: Tồng cộng | C15: =SUM(C7:C14) -> 1500000 | D15: =SUM(D7:D14) -> 0 | E15: =SUM(E7:E14) -> 830000 | F15: =F6+C15+D15-E15 -> 36421632
A16: Tồn cuối tháng 2/2023 | C16: =F6+C15+D15-E15 -> 36421632

Sheet Tong
A3: T1
A4: T2
A5: T3
A6: T4
A7: T5
A8: T6 | B8: ='T6.2022'!E29 -> 3435000
A9: T7 | B9: ='T7.2022'!E30 -> 3036000
A10: T8 | B10: ='T8.2022'!E18 -> 1860000
A11: T9 | B11: ='T9.2022'!E26 -> 2775000
A12: T10
A13: T11
A14: T12
A15: TỔNG | B15: =SUM(B3:B14) -> 11106000

Sheet T3.2023
A2: BÁO CÁO QUỸ NỒI CHÁO HUẾ THÁNG 3/2023
A4: NGÀY | B4: DIỄN GIẢI | C4: THU | E4: CHI | F4: TỒN
C5: CMTX | D5: CMKTX
A6: Tồn đầu tháng 3/2023 | F6: ='T2.2023'!C16 -> 36421632
A7: 44990 | B7: Mua thịt | E7: 250000 | F7: =F6+C7+D7-E7 -> 36171632
A8: 44990 | B8: Mua rau củ | E8: 190000 | F8: =F7+C8+D8-E8 -> 35981632
A9: 44990 | B9: Tiền xe chở nồi cháo | E9: 80000 | F9: =F8+C9+D9-E9 -> 35901632
A10: 45004 | B10: Mua thịt | E10: 250000 | F10: =F9+C10+D10-E10 -> 35651632
A11: 45004 | B11: Mua rau củ | E11: 195000 | F11: =F10+C11+D11-E11 -> 35456632
A12: 45004 | B12: Tiền xe chở nồi cháo | E12: 80000 | F12: =F11+C12+D12-E12 -> 35376632
A13: 45004 | B13: Mua gạo | E13: 150000 | F13: =F12+C13+D13-E13 -> 35226632
A14: 45005 | B14: Chị Nguyên Thi Dieu Huyen CMTX T3 | C14: 500000 | F14: =F13+C14+D14-E14 -> 35726632
A15: 45011 | B15: Mua thịt | E15: 250000 | F15: =F14+C15+D15-E15 -> 35476632
A16: 45011 | B16: Mua rau củ | E16: 190000 | F16: =F15+C16+D16-E16 -> 35286632
A17: 45011 | B17: Tiền xe chở nồi cháo | E17: 80000 | F17: =F16+C17+D17-E17 -> 35206632
A18: 45011 | B18: Mua gia vị (hạt nêm, tiêu, bột canh) | E18: 95000 | F18: =F17+C18+D18-E18 -> 35111632
A19: 45011 | B19: Mua miếng rửa chén, 2 muỗng, 1 hộp nhựa | E19: 32000 | F19: =F18+C19+D19-E19 -> 35079632
A20: Tồng cộng | C20: =SUM(C7:C19) -> 500000 | D20: =SUM(D7:D19) -> 0 | E20: =SUM(E7:E19) -> 1842000 | F20: =F6+C20+D20-E20 -> 35079632
A21: Tồn cuối tháng 3/2023 | C21: =F6+C20+D20-E20 -> 35079632

Sheet T4.2023
A2: BÁO CÁO QUỸ NỒI CHÁO HUẾ THÁNG 4/2023
A4: NGÀY | B4: DIỄN GIẢI | C4: THU | E4: CHI | F4: TỒN
C5: CMTX | D5: CMKTX
A6: Tồn đầu tháng 4/2023 | F6: ='T3.2023'!C21 -> 35079632
A7: 45018 | B7: Mua rau củ | E7: 210000 | F7: =F6+C7+D7-E7 -> 34869632
A8: 45018 | B8: Mua thịt | E8: 250000 | F8: =F7+C8+D8-E8 -> 34619632
A9: 45018 | B9: Mua gạo | E9: 150000 | F9: =F8+C9+D9-E9 -> 34469632
A10: 45018 | B10: Tiền xe chở nồi cháo | E10: 80000 | F10: =F9+C10+D10-E10 -> 34389632
A11: 45018 | B11: Mua dầu ăn, nước mắm, bột canh | E11: 57000 | F11: =F10+C11+D11-E11 -> 34332632
A12: 45025 | B12: Mua rau củ | E12: 220000 | F12: =F11+C12+D12-E12 -> 34112632
A13: 45025 | B13: Mua thịt | E13: 250000 | F13: =F12+C13+D13-E13 -> 33862632
A14: 45025 | B14: Tiền xe chở nồi cháo | E14: 80000 | F14: =F13+C14+D14-E14 -> 33782632
A15: 45025 | B15: Mua muối | E15: 4000 | F15: =F14+C15+D15-E15 -> 33778632
A16: 45032 | B16: Mua thịt | E16: 250000 | F16: =F15+C16+D16-E16 -> 33528632
A17: 45032 | B17: Mua rau củ | E17: 215000 | F17: =F16+C17+D17-E17 -> 33313632
A18: 45032 | B18: Mua gạo | E18: 150000 | F18: =F17+C18+D18-E18 -> 33163632
... A20: 45032 | B20: Tiền xe chở nồi cháo | E20: 80000 | F20: =F19+C20+D20-E20 -> 32905632
A21: 45033 | B21: Chị Nguyên Thi Dieu Huyen CMTX T4 | C21: 500000 | F21: =F20+C21+D21-E21 -> 33405632
A22: 45039 | B22: Mua thịt | E22: 250000 | F22: =F21+C22+D22-E22 -> 33155632
A23: 45039 | B23: Mua rau củ | E23: 220000 | F23: =F22+C23+D23-E23 -> 32935632
A24: 45039 | B24: Mua nước rửa chén, nước mắm | E24: 35000 | F24: =F23+C24+D24-E24 -> 32900632
A25: 45039 | B25: Tiền xe chở nồi cháo | E25: 80000 | F25: =F24+C25+D25-E25 -> 32820632
A26: Tồng cộng | C26: =SUM(C7:C25) -> 500000 | D26: =SUM(D7:D25) -> 0 | E26: =SUM(E7:E25) -> 2759000 | F26: =F6+C26+D26-E26 -> 32820632
A27: Tồn cuối tháng 4/2023 | C27: =F6+C26+D26-E26 -> 32820632

Sheet T5.2023
A2: BÁO CÁO QUỸ NỒI CHÁO HUẾ THÁNG 5/2023
A4: NGÀY | B4: DIỄN GIẢI | C4: THU | E4: CHI | F4: TỒN
C5: CMTX | D5: CMKTX
A6: Tồn đầu tháng 5/2023 | F6: ='T4.2023'!C27 -> 32820632
A7: 45061 | B7: Chị Vu Ngoc Thuy ủng hộ KTX (mua vật dụng) | D7: 360000 | F7: =F6+C7+D7-E7 -> 33180632
A8: 45061 | B8: Chị Le Tear ủng hộ KTX (mua vật dụng) | D8: 1350000 | F8: =F7+C8+D8-E8 -> 34530632
A9: 45061 | B9: Anh ThaiDzuy ủng hộ KTX(mua vật dụng) | D9: 550000 | F9: =F8+C9+D9-E9 -> 35080632
A10: 45063 | B10: Tran Ha chuyển trả tạm ứng đi chợ | D10: 2000000 | F10: =F9+C10+D10-E10 -> 37080632
A11: 45065 | B11: Chị Nguyên Thi Dieu Huyen CMTX T5 | C11: 500000 | F11: =F10+C11+D11-E11 -> 37580632
A12: 45082 | B12: Mua rau củ | E12: 220000 | F12: =F11+C12+D12-E12 -> 37360632
A13: 45082 | B13: Mua thịt | E13: 250000 | F13: =F12+C13+D13-E13 -> 37110632
A14: 45082 | B14: Tiền xe chở nồi cháo | E14: 80000 | F14: =F13+C14+D14-E14 -> 37030632
A15: 45082 | B15: Mua 10kg gạo | E15: 150000 | F15: =F14+C15+D15-E15 -> 36880632
A16: 45082 | B16: Tiền gas | E16: 380000 | F16: =F15+C16+D16-E16 -> 36500632
A17: 45060 | B17: Tạm ứng Comay_a2n | E17: 3000000 | F17: =F16+C17+D17-E17 -> 33500632
A18: 45060 | B18: Mua rau củ | E18: 115000 | F18: =F17+C18+D18-E18 -> 33385632
A19: 45060 | B19: Mua thịt | E19: 225000 | F19: =F18+C19+D19-E19 -> 33160632
A20: 45060 | B20: Mua gia vị | E20: 200000 | F20: =F19+C20+D20-E20 -> 32960632
A21: 45060 | B21: Tiền xe chở nồi cháo | E21: 80000 | F21: =F20+C21+D21-E21 -> 32880632
A22: 45060 | B22: Mua chổi nhựa | E22: 30000 | F22: =F21+C22+D22-E22 -> 32850632
A23: 45060 | B23: Mài dao | E23: 30000 | F23: =F22+C23+D23-E23 -> 32820632
... A38: 45074 | B38: Tiền xích lô chở nồi cháo | E38: 80000 | F38: =F37+C38+D38-E38 -> 31289632
B39: Tạm ứng Comay_a2n mua vật tư | E39: 2260000 | F39: =F38+C39+D39-E39 -> 29029632
A40: 45074 | B40: Mua dây điện | F40: =F38+C40+D40-E40 -> 31289632 | H40: 210000
A41: 45074 | B41: Mua quạt điện | F41: =F40+C41+D41-E41 -> 31289632 | H41: 350000
A42: 45074 | B42: Mua máy xay | F42: =F41+C42+D42-E42 -> 31289632 | H42: 650000
A43: Tồng cộng | C43: =SUM(C7:C42) -> 500000 | D43: =SUM(D7:D42) -> 4260000 | E43: =SUM(E7:E39) -> 8551000 | F43: =F6+C43+D43-E43 -> 29029632 | G43: =7501000-8551000 -> -1050000
A44: Tồn cuối tháng 5/2023 | C44: =F6+C43+D43-E43 -> 29029632
F46: =2260000 -> 2260000
F47: 210000
F48: 350000
F49: 650000

Sheet T6.2023
A2: BÁO CÁO QUỸ NỒI CHÁO HUẾ THÁNG 6/2023
A4: NGÀY | B4: DIỄN GIẢI | C4: THU | E4: CHI | F4: TỒN
C5: CMTX | D5: CMKTX
A6: Tồn đầu tháng 6/2023 | F6: ='T5.2023'!C44 -> 29029632
A7: 45022 | B7: Mua rau củ | E7: 149000 | F7: =F6+C7+D7-E7 -> 28880632
A8: 45022 | B8: Mua thịt | E8: 190000 | F8: =F7+C8+D8-E8 -> 28690632
A9: 45022 | B9: Mua tiêu | E9: 12000 | F9: =F8+C9+D9-E9 -> 28678632
A10: 45022 | B10: Tiền xích lô chở nồi cháo | E10: 80000 | F10: =F9+C10+D10-E10 -> 28598632
A11: 45088 | B11: Mua rau củ | E11: 152000 | F11: =F10+C11+D11-E11 -> 28446632
A12: 45088 | B12: Tiền xích lô chở nồi cháo | E12: 80000 | F12: =F11+C12+D12-E12 -> 28366632
A13: 45088 | B13: Mua thịt | E13: 200000 | F13: =F12+C13+D13-E13 -> 28166632
A14: 45088 | B14: Mua nước rửa chén | E14: 28000 | F14: =F13+C14+D14-E14 -> 28138632
A15: 45093 | B15: Chị Tran Thi Da Thao ủng hộ KTX | D15: 200000 | F15: =F14+C15+D15-E15 -> 28338632
A16: 45095 | B16: Mua rau củ | E16: 171000 | F16: =F15+C16+D16-E16 -> 28167632
A17: 45095 | B17: Tiền xích lô chở nồi cháo | E17: 80000 | F17: =F16+C17+D17-E17 -> 28087632
A18: 45095 | B18: Mua thịt | E18: 200000 | F18: =F17+C18+D18-E18 -> 27887632
A19: 45095 | B19: Anh Le Nhat Minh ủng hộ KTX | D19: 500000 | F19: =F18+C19+D19-E19 -> 28387632
A20: 45095 | B20: MTQ có số GD 203175.180623.155352 ủng hộ KTX | D20: 1000000 | F20: =F19+C20+D20-E20 -> 29387632
A21: 45096 | B21: Chị Nguyên Thi Dieu Huyen CMTX T6 | C21: 500000 | F21: =F20+C21+D21-E21 -> 29887632
A22: 45102 | B22: Mua rau củ | E22: 138000 | F22: =F21+C22+D22-E22 -> 29749632
A23: 45102 | B23: Mua thịt | E23: 200000 | F23: =F22+C23+D23-E23 -> 29549632
A24: 45102 | B24: Mua gạo 10kg | E24: 140000 | F24: =F23+C24+D24-E24 -> 29409632
A25: 45102 | B25: Mua muối | E25: 8000 | F25: =F24+C25+D25-E25 -> 29401632
A26: 45102 | B26: Tiền xích lô chở nồi cháo | E26: 80000 | F26: =F25+C26+D26-E26 -> 29321632
A27: 45107 | B27: MTQ có số GD 184849.300623.111012 ủng hộ KTX | D27: 1100000 | F27: =F26+C27+D27-E27 -> 30421632
A28: 45107 | B28: Anh Trần Minh Huy ủng hộ KTX | D28: 200000 | F28: =F27+C28+D28-E28 -> 30621632
A29: Tồng cộng | C29: =SUM(C7:C28) -> 500000 | D29: =SUM(D7:D28) -> 3000000 | E29: =SUM(E7:E28) -> 1908000 | F29: =F6+C29+D29-E29 -> 30621632
A30: Tồn cuối tháng 6/2023 | C30: =F6+C29+D29-E29 -> 30621632

Sheet T7.2023
A2: BÁO CÁO QUỸ NỒI CHÁO HUẾ THÁNG 7/2023
A4: NGÀY | B4: DIỄN GIẢI | C4: THU | E4: CHI | F4: TỒN
C5: CMTX | D5: CMKTX
A6: Tồn đầu tháng 7/2023 | F6: ='T6.2023'!C30 -> 30621632
A7: 45109 | B7: Chị Le Thi Hoang Trang ủng hộ KTX | D7: 1000000 | F7: =F6+C7+D7-E7 -> 31621632
A8: 45109 | B8: Mua rau củ | E8: 175000 | F8: =F7+C8+D8-E8 -> 31446632
A9: 45109 | B9: Mua thịt | E9: 200000 | F9: =F8+C9+D9-E9 -> 31246632
A10: 45109 | B10: Tiền xích lô chở cháo | E10: 80000 | F10: =F9+C10+D10-E10 -> 31166632
A11: 45111 | B11: MTQ có số GD 430531.040723.153345 ủng hộ KTX | D11: 200000 | F11: =F10+C11+D11-E11 -> 31366632
A12: 45116 | B12: Mua rau củ | E12: 183000 | F12: =F11+C12+D12-E12 -> 31183632
A13: 45116 | B13: Mua thịt | E13: 200000 | F13: =F12+C13+D13-E13 -> 30983632
A14: 45116 | B14: Tiền xích lô chở cháo | E14: 80000 | F14: =F13+C14+D14-E14 -> 30903632
A15: 45123 | B15: Mua rau củ | E15: 174000 | F15: =F14+C15+D15-E15 -> 30729632
A16: 45123 | B16: Mua thịt | E16: 200000 | F16: =F15+C16+D16-E16 -> 30529632
A17: 45123 | B17: Tiền xích lô chở cháo | E17: 80000 | F17: =F16+C17+D17-E17 -> 30449632
A18: 45123 | B18: Mua 10kg gạo | E18: 135000 | F18: =F17+C18+D18-E18 -> 30314632
A19: 45123 | B19: Đổi gas | E19: 365000 | F19: =F18+C19+D19-E19 -> 29949632
A20: 45123 | B20: Hạt nêm | E20: 30000 | F20: =F19+C20+D20-E20 -> 29919632
A21: 45123 | B21: Mua 2 ghế ngồi nhỏ | E21: 50000 | F21: =F20+C21+D21-E21 -> 29869632
A22: 45123 | B22: Mua 2 dao 2 lưỡi | E22: 40000 | F22: =F21+C22+D22-E22 -> 29829632
A23: 45124 | B23: Chị Nguyên Thi Dieu Huyen CMTX T7 | C23: 500000 | F23: =F22+C23+D23-E23 -> 30329632
A24: 45130 | B24: Mua rau củ | E24: 180000 | F24: =F23+C24+D24-E24 -> 30149632
A25: 45130 | B25: Mua thịt | E25: 200000 | F25: =F24+C25+D25-E25 -> 29949632
A26: 45130 | B26: Tiền xích lô chở cháo | E26: 80000 | F26: =F25+C26+D26-E26 -> 29869632
A27: 45130 | B27: Mua dầu ăn | E27: 45000 | F27: =F26+C27+D27-E27 -> 29824632
A28: 45137 | B28: Mua rau củ | E28: 181000 | F28: =F27+C28+D28-E28 -> 29643632
A29: 45137 | B29: Tiền xích lô chở cháo | E29: 80000 | F29: =F28+C29+D29-E29 -> 29563632
A30: 45137 | B30: Mua thịt | E30: 200000 | F30: =F29+C30+D30-E30 -> 29363632
A31: 45137 | B31: Mua bao tay + mì chính | E31: 90000 | F31: =F30+C31+D31-E31 -> 29273632
A32: Tồng cộng | C32: =SUM(C7:C31) -> 500000 | D32: =SUM(D7:D31) -> 1200000 | E32: =SUM(E7:E31) -> 3048000 | F32: =F6+C32+D32-E32 -> 29273632
A33: Tồn cuối tháng 7/2023 | C33: =F6+C32+D32-E32 -> 29273632

Sheet T8.2023
A2: BÁO CÁO QUỸ NỒI CHÁO HUẾ THÁNG 8/2023
A4: NGÀY | B4: DIỄN GIẢI | C4: THU | E4: CHI | F4: TỒN
C5: CMTX | D5: CMKTX
A6: Tồn đầu tháng 8/2023 | F6: ='T7.2023'!C33 -> 29273632
A7: 45144 | B7: Mua rau củ | E7: 171000 | F7: =F6+C7+D7-E7 -> 29102632
A8: 45144 | B8: Mua thịt | E8: 200000 | F8: =F7+C8+D8-E8 -> 28902632
A9: 45144 | B9: Tiền xích lô chở nồi cháo | E9: 80000 | F9: =F8+C9+D9-E9 -> 28822632
A10: 45148 | B10: Chị Le Thi Hoang Trang ủng hộ KTX | D10: 500000 | F10: =F9+C10+D10-E10 -> 29322632
A11: 45151 | B11: Mua rau củ | E11: 180000 | F11: =F10+C11+D11-E11 -> 29142632
A12: 45151 | B12: Tiền xích lô chở nồi cháo | E12: 80000 | F12: =F11+C12+D12-E12 -> 29062632
A13: 45151 | B13: Mua thịt | E13: 200000 | F13: =F12+C13+D13-E13 -> 28862632
A14: 45151 | B14: Mua 10kg gạo | E14: 180000 | F14: =F13+C14+D14-E14 -> 28682632
A15: 45155 | B15: Chị Nguyên Thi Dieu Huyen CMTX T8 | C15: 500000 | F15: =F14+C15+D15-E15 -> 29182632
A16: 45158 | B16: Mua rau củ | E16: 180000 | F16: =F15+C16+D16-E16 -> 29002632
A17: 45158 | B17: Tiền xích lô chở nồi cháo | E17: 80000 | F17: =F16+C17+D17-E17 -> 28922632
A18: 45158 | B18: Mua thịt | E18: 200000 | F18: =F17+C18+D18-E18 -> 28722632
A19: 45158 | B19: Mua hạt nên | E19: 70000 | F19: =F18+C19+D19-E19 -> 28652632
A20: 45165 | B20: Mua rau củ | E20: 181000 | F20: =F19+C20+D20-E20 -> 28471632
A21: 45165 | B21: Tiền xích lô chở nồi cháo | E21: 80000 | F21: =F20+C21+D21-E21 -> 28391632
A22: 45165 | B22: Mua thịt | E22: 200000 | F22: =F21+C22+D22-E22 -> 28191632
A23: 45165 | B23: Mua vá múc cháo | E23: 100000 | F23: =F22+C23+D23-E23 -> 28091632
A24: 45165 | B24: Mua bột ngọt | E24: 40000 | F24: =F23+C24+D24-E24 -> 28051632
A25: Tồng cộng | C25: =SUM(C7:C24) -> 500000 | D25: =SUM(D7:D24) -> 500000 | E25: =SUM(E7:E24) -> 2222000 | F25: =F6+C25+D25-E25 -> 28051632
A26: Tồn cuối tháng 8/2023 | C26: =F6+C25+D25-E25 -> 28051632

Sheet T9.2023
A2: BÁO CÁO QUỸ NỒI CHÁO HUẾ THÁNG 9/2023
A4: NGÀY | B4: DIỄN GIẢI | C4: THU | E4: CHI | F4: TỒN
C5: CMTX | D5: CMKTX
A6: Tồn đầu tháng 9/2023 | F6: ='T8.2023'!C26 -> 28051632
A7: 45183 | B7: Chị Tran Thi Phuong Lien ủng hộ KTX | D7: 200000 | F7: =F6+C7+D7-E7 -> 28251632
A8: 45186 | B8: Mua rau củ | E8: 193000 | F8: =F7+C8+D8-E8 -> 28058632
A9: 45186 | B9: Mua thịt | E9: 200000 | F9: =F8+C9+D9-E9 -> 27858632
A10: 45186 | B10: Mua 10kg gạo | E10: 180000 | F10: =F9+C10+D10-E10 -> 27678632
A11: 45186 | B11: Đổi nước uống | E11: 14000 | F11: =F10+C11+D11-E11 -> 27664632
A12: 45186 | B12: Tiền xích lô chở nồi cháo | E12: 80000 | F12: =F11+C12+D12-E12 -> 27584632
A13: 45187 | B13: Chị Nguyên Thi Dieu Huyen CMTX T9 | C13: 500000 | F13: =F12+C13+D13-E13 -> 28084632
A14: 45193 | B14: Mua rau củ | E14: 144000 | F14: =F13+C14+D14-E14 -> 27940632
A15: 45193 | B15: Mua thịt | E15: 200000 | F15: =F14+C15+D15-E15 -> 27740632
A16: 45193 | B16: Tiền xích lô chở nồi cháo | E16: 80000 | F16: =F15+C16+D16-E16 -> 27660632
A17: 45193 | B17: Mua nước mắm | E17: 13000 | F17: =F16+C17+D17-E17 -> 27647632
A18: Tồng cộng | C18: =SUM(C7:C17) -> 500000 | D18: =SUM(D7:D17) -> 200000 | E18: =SUM(E7:E17) -> 1104000 | F18: =F6+C18+D18-E18 -> 27647632
A19: Tồn cuối tháng 9/2023 | C19: =F6+C18+D18-E18 -> 27647632

Sheet T10.2023
A2: BÁO CÁO QUỸ NỒI CHÁO HUẾ THÁNG 10/2023
A4: NGÀY | B4: DIỄN GIẢI | C4: THU | E4: CHI | F4: TỒN
C5: CMTX | D5: CMKTX
A6: Tồn đầu tháng 10/2023 | F6: ='T9.2023'!C19 -> 27647632
A7: 45200 | B7: Mua rau củ | E7: 144000 | F7: =F6+C7+D7-E7 -> 27503632
A8: 45200 | B8: Mua thịt | E8: 200000 | F8: =F7+C8+D8-E8 -> 27303632
A9: 45200 | B9: Mua mì chính | E9: 55000 | F9: =F8+C9+D9-E9 -> 27248632
A10: 45200 | B10: Mua hạt nêm | E10: 55000 | F10: =F9+C10+D10-E10 -> 27193632
A11: 45200 | B11: Mua dầu ăn | E11: 40000 | F11: =F10+C11+D11-E11 -> 27153632
A12: 45200 | B12: Mua muối | E12: 8000 | F12: =F11+C12+D12-E12 -> 27145632
A13: 45200 | B13: Mua tiêu | E13: 10000 | F13: =F12+C13+D13-E13 -> 27135632
A14: 45200 | B14: Tiền xích lô chở nồi cháo | E14: 80000 | F14: =F13+C14+D14-E14 -> 27055632
A15: 45207 | B15: Mua rau củ | E15: 170000 | F15: =F14+C15+D15-E15 -> 26885632
A16: 45207 | B16: Mua thịt | E16: 200000 | F16: =F15+C16+D16-E16 -> 26685632
A17: 45207 | B17: Mua miếng rửa chén | E17: 15000 | F17: =F16+C17+D17-E17 -> 26670632
A18: 45207 | B18: Mua bao tay | E18: 10000 | F18: =F17+C18+D18-E18 -> 26660632
... A23: 45214 | B23: Tiền xích lô chở nồi cháo | E23: 80000 | F23: =F22+C23+D23-E23 -> 25780632
A24: 45216 | B24: Anh Le Nhat Minh ủng hộ KTX | D24: 500000 | F24: =F23+C24+D24-E24 -> 26280632
A25: 45221 | B25: Mua thịt | E25: 200000 | F25: =F24+C25+D25-E25 -> 26080632
A26: 45221 | B26: Mua rau củ | E26: 194000 | F26: =F25+C26+D26-E26 -> 25886632
A27: 45221 | B27: Mua chùi nồi | E27: 15000 | F27: =F26+C27+D27-E27 -> 25871632
A28: 45221 | B28: Mua dầu ăn | E28: 29000 | F28: =F27+C28+D28-E28 -> 25842632
A29: 45221 | B29: Mua mì chính | E29: 36000 | F29: =F28+C29+D29-E29 -> 25806632
A30: 45221 | B30: Mua tiêu | E30: 5000 | F30: =F29+C30+D30-E30 -> 25801632
A31: 45221 | B31: Mua hạt nêm | E31: 27000 | F31: =F30+C31+D31-E31 -> 25774632
A32: 45221 | B32: Tiền xích lô chở nồi cháo | E32: 80000 | F32: =F31+C32+D32-E32 -> 25694632
A33: 45222 | B33: Chị Nguyên Thi Dieu Huyen CMTX T10 | C33: 500000 | F33: =F32+C33+D33-E33 -> 26194632
A34: 45228 | B34: Mua thịt | E34: 200000 | F34: =F33+C34+D34-E34 -> 25994632
A35: 45228 | B35: Mua rau củ | E35: 202000 | F35: =F34+C35+D35-E35 -> 25792632
A36: 45228 | B36: Mua 10kg gạo | E36: 180000 | F36: =F35+C36+D36-E36 -> 25612632
A37: 45228 | B37: Mua tiêu | E37: 10000 | F37: =F36+C37+D37-E37 -> 25602632
A38: 45228 | B38: Tiền xích lô chở nồi cháo | E38: 80000 | F38: =F37+C38+D38-E38 -> 25522632
A39: Tồng cộng | C39: =SUM(C7:C38) -> 500000 | D39: =SUM(D7:D38) -> 500000 | E39: =SUM(E7:E38) -> 3125000 | F39: =F6+C39+D39-E39 -> 25522632
A40: Tồn cuối tháng 10/2023 | C40: =F6+C39+D39-E39 -> 25522632
A44: Mua vật tư | B44: Nhận tiền tạm ứng | C44: 2260000
A45: 45074 | B45: Mua dây điện | C45: 210000
A46: 45074 | B46: Mua quạt điện | C46: 350000
A47: 45074 | B47: Mua máy xay | C47: 650000
B48: Mua 1 nồi nhỏ | C48: 170000
B49: Mua 2 thớt | C49: 100000
...

Sheet T11.2023
A2: BÁO CÁO QUỸ NỒI CHÁO HUẾ THÁNG 11/2023
A4: NGÀY | B4: DIỄN GIẢI | C4: THU | E4: CHI | F4: TỒN
C5: CMTX | D5: CMKTX
A6: Tồn đầu tháng 11/2023 | F6: ='T10.2023'!C40 -> 25522632
A7: 45231 | B7: Anh Le Nhat Minh ủng hộ KTX | D7: 500000 | F7: =F6+C7+D7-E7 -> 26022632
A8: 45235 | B8: Mua thịt | E8: 200000 | F8: =F7+C8+D8-E8 -> 25822632
A9: 45235 | B9: Mua rau củ | E9: 197000 | F9: =F8+C9+D9-E9 -> 25625632
A10: 45235 | B10: Mua nước mắm | E10: 18000 | F10: =F9+C10+D10-E10 -> 25607632
A11: 45235 | B11: Tiền xích lô chở nồi cháo | E11: 80000 | F11: =F10+C11+D11-E11 -> 25527632
A12: 45241 | B12: Mua hoa tặng đội CTXH trường ĐH Khoa học Huế | E12: 300000 | F12: =F11+C12+D12-E12 -> 25227632
A13: 45242 | B13: Mua thịt | E13: 200000 | F13: =F12+C13+D13-E13 -> 25027632
A14: 45242 | B14: Tiền xích lô chở nồi cháo | E14: 80000 | F14: =F13+C14+D14-E14 -> 24947632
A15: 45242 | B15: Mau rau củ | E15: 201000 | F15: =F14+C15+D15-E15 -> 24746632
A16: 45242 | B16: Mua hạt nêm | E16: 60000 | F16: =F15+C16+D16-E16 -> 24686632
A17: 45242 | B17: Mua bột ngọt | E17: 65000 | F17: =F16+C17+D17-E17 -> 24621632
A18: 45243 | B18: Chị Nguyên Thi Dieu Huyen CMTX 11 | C18: 500000 | F18: =F17+C18+D18-E18 -> 25121632
A19: 45249 | B19: Mua thịt | E19: 200000 | F19: =F18+C19+D19-E19 -> 24921632
A20: 45249 | B20: Mua rau củ | E20: 199000 | F20: =F19+C20+D20-E20 -> 24722632
A21: 45249 | B21: Tiền xích lô chở nồi cháo | E21: 80000 | F21: =F20+C21+D21-E21 -> 24642632
A22: 45249 | B22: Mua gạo | E22: 180000 | F22: =F21+C22+D22-E22 -> 24462632
A23: 45249 | B23: Mua dầu ăn | E23: 28000 | F23: =F22+C23+D23-E23 -> 24434632
A24: 45256 | B24: Mua thịt | E24: 200000 | F24: =F23+C24+D24-E24 -> 24234632
A25: 45256 | B25: Mua rau củ | E25: 210000 | F25: =F24+C25+D25-E25 -> 24024632
A26: 45256 | B26: Tiền xích lô chở nồi cháo | E26: 80000 | F26: =F25+C26+D26-E26 -> 23944632
A27: 45257 | B27: Một MTQ ở HCM | D27: 5000000 | F27: =F26+C27+D27-E27 -> 28944632
B28: Mua máy xay lần 2 còn thiếu | E28: 735000 | F28: =F27+C28+D28-E28 -> 28209632
A29: Tồng cộng | C29: =SUM(C7:C28) -> 500000 | D29: =SUM(D7:D28) -> 5500000 | E29: =SUM(E7:E28) -> 3313000 | F29: =F6+C29+D29-E29 -> 28209632
A30: Tồn cuối tháng 10/2023 | C30: =F6+C29+D29-E29 -> 28209632

Sheet T12.2023
A2: BÁO CÁO QUỸ NỒI CHÁO HUẾ THÁNG 12/2023
A4: NGÀY | B4: DIỄN GIẢI | C4: THU | E4: CHI | F4: TỒN
C5: CMTX | D5: CMKTX
A6: Tồn đầu tháng 12/2023 | F6: ='T11.2023'!C30 -> 28209632
A7: 45263 | B7: Mua thịt | E7: 200000 | F7: =F6+C7+D7-E7 -> 28009632
A8: 45263 | B8: Mua rau | E8: 186000 | F8: =F7+C8+D8-E8 -> 27823632
A9: 45263 | B9: Tiền xích lô chở nồi cháo | E9: 80000 | F9: =F8+C9+D9-E9 -> 27743632
A10: 45263 | B10: Mua 10kg gạo | E10: 190000 | F10: =F9+C10+D10-E10 -> 27553632
A11: 45263 | B11: Mua bao tay nilong | E11: 14000 | F11: =F10+C11+D11-E11 -> 27539632
A12: 45264 | B12: Le Nhat Minh ủng hộ KTX | D12: 500000 | F12: =F11+C12+D12-E12 -> 28039632
A13: 45270 | B13: Mua thịt | E13: 200000 | F13: =F12+C13+D13-E13 -> 27839632
A14: 45270 | B14: Mua rau | E14: 198000 | F14: =F13+C14+D14-E14 -> 27641632
A15: 45270 | B15: Tiền xích lô chở nồi cháo | E15: 80000 | F15: =F14+C15+D15-E15 -> 27561632
A16: 45270 | B16: Mua 2 lít dầu ăn | E16: 60000 | F16: =F15+C16+D16-E16 -> 27501632
A17: 45270 | B17: Mua hạt nêm | E17: 65000 | F17: =F16+C17+D17-E17 -> 27436632
A18: 45277 | B18: Mua thịt | E18: 200000 | F18: =F17+C18+D18-E18 -> 27236632
A19: 45277 | B19: Mua rau củ | E19: 196000 | F19: =F18+C19+D19-E19 -> 27040632
A20: 45277 | B20: Tiền xích lô chở nồi cháo | E20: 80000 | F20: =F19+C20+D20-E20 -> 26960632
A21: 45278 | B21: Chị Nguyên Thi Dieu Huyen CMTX 12 | C21: 500000 | F21: =F20+C21+D21-E21 -> 27460632
A22: 45284 | B22: Mua thịt | E22: 200000 | F22: =F21+C22+D22-E22 -> 27260632
A23: 45284 | B23: Mua rau củ | E23: 212000 | F23: =F22+C23+D23-E23 -> 27048632
A24: 45284 | B24: Đổi gas | E24: 340000 | F24: =F23+C24+D24-E24 -> 26708632
A25: 45284 | B25: Tiền xích lô chở nồi cháo | E25: 80000 | F25: =F24+C25+D25-E25 -> 26628632
A26: 45291 | B26: Mua rau củ | E26: 208000 | F26: =F25+C26+D26-E26 -> 26420632
A27: 45291 | B27: Mua thịt | E27: 200000 | F27: =F26+C27+D27-E27 -> 26220632
A28: 45291 | B28: Tiền xích lô chở nồi cháo | E28: 80000 | F28: =F27+C28+D28-E28 -> 26140632
A29: 45291 | B29: Trả nợ cũ tiền thịt heo | E29: 500000 | F29: =F28+C29+D29-E29 -> 25640632
A30: 45291 | B30: Chú banbe6x hỗ trợ trả nợ cũ | D30: 500000 | F30: =F29+C30+D30-E30 -> 26140632
A31: Tồng cộng | C31: =SUM(C7:C30) -> 500000 | D31: =SUM(D7:D30) -> 1000000 | E31: =SUM(E7:E30) -> 3569000 | F31: =F6+C31+D31-E31 -> 26140632
A32: Tồn cuối tháng 12/2023 | C32: =F6+C31+D31-E31 -> 26140632

Sheet T1.2024
A2: BÁO CÁO QUỸ NỒI CHÁO HUẾ THÁNG 01/2024
A4: NGÀY | B4: DIỄN GIẢI | C4: THU | E4: CHI | F4: TỒN
C5: CMTX | D5: CMKTX
A6: Tồn đầu tháng 01/2024 | F6: ='T12.2023'!C32 -> 26140632
A7: 45293 | B7: Le Nhat Minh ủng hộ KTX | D7: 500000 | F7: =F6+C7+D7-E7 -> 26640632
A8: 45304 | B8: Chị Le Thi Hoang Trang ủng hộ KTX | D8: 1000000 | F8: =F7+C8+D8-E8 -> 27640632
A9: 45306 | B9: Chị Nguyên Thi Dieu Huyen CMTX T01 | C9: 500000 | F9: =F8+C9+D9-E9 -> 28140632
A10: 45298 | B10: Tiền xích lô chở nồi cháo | E10: 80000 | F10: =F9+C10+D10-E10 -> 28060632
A11: 45298 | B11: Mua 10kg gạo | E11: 180000 | F11: =F10+C11+D11-E11 -> 27880632
A12: 45298 | B12: Mua hạt nêm | E12: 36000 | F12: =F11+C12+D12-E12 -> 27844632
A13: 45298 | B13: Mua mì chính | E13: 46000 | F13: =F12+C13+D13-E13 -> 27798632
A14: 45298 | B14: Mua rau củ | E14: 201000 | F14: =F13+C14+D14-E14 -> 27597632
A15: 45298 | B15: Mua thịt | E15: 200000 | F15: =F14+C15+D15-E15 -> 27397632
A16: 45305 | B16: Tiền xích lô chở nồi cháo | E16: 80000 | F16: =F15+C16+D16-E16 -> 27317632
A17: 45305 | B17: Mua rau củ | E17: 238000 | F17: =F16+C17+D17-E17 -> 27079632
A18: 45305 | B18: Mua thịt | E18: 200000 | F18: =F17+C18+D18-E18 -> 26879632
A19: 45312 | B19: Tiền xích lô chở nồi cháo | E19: 80000 | F19: =F18+C19+D19-E19 -> 26799632
A20: 45312 | B20: Mua rau củ | E20: 205000 | F20: =F19+C20+D20-E20 -> 26594632
A21: 45312 | B21: Mua thịt | E21: 200000 | F21: =F20+C21+D21-E21 -> 26394632
... A27: 45319 | B27: Thắp hương chủ nhà | E27: 285000 | F27: =F26+C27+D27-E27 -> 25416632
A28: Tồng cộng | C28: =SUM(C7:C27) -> 500000 | D28: =SUM(D7:D27) -> 1500000 | E28: =SUM(E7:E27) -> 2724000 | F28: =F6+C28+D28-E28 -> 25416632
A29: Tồn cuối tháng 01/2024 | C29: =F6+C28+D28-E28 -> 25416632

Sheet T2,3.2024
A2: BÁO CÁO QUỸ NỒI CHÁO HUẾ THÁNG 02-3/2024
A4: NGÀY | B4: DIỄN GIẢI | C4: THU | E4: CHI | F4: TỒN
C5: CMTX | D5: CMKTX
A6: Tồn đầu tháng 02/2024 | F6: ='T1.2024'!C29 -> 25416632
A7: 45327 | B7: Anh Le Nhat Minh CMTX T2 | C7: 500000 | F7: =F6+C7+D7-E7 -> 25916632
A8: 45327 | B8: Chị Nguyên Thi Dieu Huyen CMTX T02 | C8: 500000 | F8: =F7+C8+D8-E8 -> 26416632
A9: 45354 | B9: Mua rau củ | E9: 188000 | F9: =F8+C9+D9-E9 -> 26228632
A10: 45354 | B10: Mua thịt | E10: 200000 | F10: =F9+C10+D10-E10 -> 26028632
A11: 45354 | B11: Mua muối | E11: 15000 | F11: =F10+C11+D11-E11 -> 26013632
A12: 45354 | B12: Mua hạt nêm | E12: 90000 | F12: =F11+C12+D12-E12 -> 25923632
A13: 45354 | B13: Mua 1 lít dầu ăn | E13: 55000 | F13: =F12+C13+D13-E13 -> 25868632
A14: 45354 | B14: Mua mì chính | E14: 65000 | F14: =F13+C14+D14-E14 -> 25803632
A15: 45354 | B15: Mua tiêu | E15: 25000 | F15: =F14+C15+D15-E15 -> 25778632
A16: 45354 | B16: Mua 10kg gạo | E16: 170000 | F16: =F15+C16+D16-E16 -> 25608632
A17: 45354 | B17: Tiền xích lô chở nồi cháo | E17: 80000 | F17: =F16+C17+D17-E17 -> 25528632
A18: 45355 | B18: Anh Le Nhat Minh CMTX T3 | C18: 500000 | F18: =F17+C18+D18-E18 -> 26028632
A19: 45361 | B19: Mua thịt | E19: 200000 | F19: =F18+C19+D19-E19 -> 25828632
A20: 45361 | B20: Mua rau củ | E20: 201000 | F20: =F19+C20+D20-E20 -> 25627632
A21: 45361 | B21: Tiền xích lô chở nồi cháo | E21: 80000 | F21: =F20+C21+D21-E21 -> 25547632
A22: 45364 | B22: Chị Nguyên Thi Dieu Huyen CMTX T03 | C22: 500000 | F22: =F21+C22+D22-E22 -> 26047632
A23: 45368 | B23: Mua thịt | E23: 200000 | F23: =F22+C23+D23-E23 -> 25847632
A24: 45368 | B24: Mua rau củ | E24: 220000 | F24: =F23+C24+D24-E24 -> 25627632
A25: 45368 | B25: Tiền xích lô chở nồi cháo | E25: 80000 | F25: =F24+C25+D25-E25 -> 25547632
A26: 45375 | B26: Mua rau củ | E26: 217000 | F26: =F25+C26+D26-E26 -> 25330632
A27: 45375 | B27: Mua thịt | E27: 200000 | F27: =F26+C27+D27-E27 -> 25130632
A28: 45375 | B28: Mua 10kg gạo | E28: 170000 | F28: =F27+C28+D28-E28 -> 24960632
A29: 45375 | B29: Tiền xích lô chở nồi cháo | E29: 80000 | F29: =F28+C29+D29-E29 -> 24880632
A30: 45741 | B30: Anh Tran Quoc Viet ủng hộ KTX (làm xe cho nồi cháo) | D30: 1000000 | F30: =F29+C30+D30-E30 -> 25880632
A31: 45016 | B31: Chị Chau Thi Kim Loan ủng hộ KTX | F31: =F30+C31+D31-E31 -> 25880632
A32: 45382 | B32: Mua rau củ | E32: 225000 | F32: =F31+C32+D32-E32 -> 25655632
A33: 45382 | B33: Tiền xích lô chở nồi cháo | D33: 500000 | E33: 80000 | F33: =F32+C33+D33-E33 -> 26075632
A34: 45382 | B34: Mua 3 cái thớt | E34: 130000 | F34: =F33+C34+D34-E34 -> 25945632
A35: 45382 | B35: Đổi gas | E35: 415000 | F35: =F34+C35+D35-E35 -> 25530632
A36: 45382 | B36: Mua mì chính | E36: 72000 | F36: =F35+C36+D36-E36 -> 25458632
A37: 45382 | B37: Mua muối | E37: 10000 | F37: =F36+C37+D37-E37 -> 25448632
A38: 45382 | B38: Mua hộp nhựa | E38: 15000 | F38: =F37+C38+D38-E38 -> 25433632
A39: Tồng cộng | C39: =SUM(C7:C38) -> 2000000 | D39: =SUM(D7:D38) -> 1500000 | E39: =SUM(E7:E38) -> 3483000 | F39: =F6+C39+D39-E39 -> 25433632
A40: Tồn cuối tháng 03/2024 | C40: =F6+C39+D39-E39 -> 25433632

Sheet T4.2024
A2: BÁO CÁO QUỸ NỒI CHÁO HUẾ THÁNG 04/2024
A4: NGÀY | B4: DIỄN GIẢI | C4: THU | E4: CHI | F4: TỒN
C5: CMTX | D5: CMKTX
A6: Tồn đầu tháng 04/2024 | F6: {='T2,3.2024'!C40:F40} -> 25433632 | G6: 0 | H6: 0 | I6: 0
A7: 45389 | B7: Mua rau củ | E7: 218000 | F7: =F6+C7+D7-E7 -> 25215632
A8: 45389 | B8: Tiền xích lô chở nồi cháo | E8: 80000 | F8: =F7+C8+D8-E8 -> 25135632
A9: 45389 | B9: Mua gạo | E9: 170000 | F9: =F8+C9+D9-E9 -> 24965632
A10: 45389 | B10: Mua tiêu | E10: 30000 | F10: =F9+C10+D10-E10 -> 24935632
A11: 45389 | B11: Mua khăn | E11: 23000 | F11: =F10+C11+D11-E11 -> 24912632
A12: 45389 | B12: Mua dầu ăn | E12: 38000 | F12: =F11+C12+D12-E12 -> 24874632
A13: 45396 | B13: Mua muối | E13: 15000 | F13: =F12+C13+D13-E13 -> 24859632
A14: 45396 | B14: Mua bao tay | E14: 8000 | F14: =F13+C14+D14-E14 -> 24851632
A15: 45396 | B15: Mua rau củ thêm | E15: 22000 | F15: =F14+C15+D15-E15 -> 24829632
A16: 45396 | B16: Tiền xích lô chở nồi cháo | E16: 80000 | F16: =F15+C16+D16-E16 -> 24749632
A17: 45396 | B17: Mua hạt nêm | E17: 175000 | F17: =F16+C17+D17-E17 -> 24574632
A18: 45396 | B18: Mua mì chính | E18: 149000 | F18: =F17+C18+D18-E18 -> 24425632
A19: 45401 | B19: Chị Nguyên Thi Dieu Huyen CMTX T4 | C19: 500000 | F19: =F18+C19+D19-E19 -> 24925632
A20: 45403 | B20: Mua 10kg gạo | E20: 210000 | F20: =F19+C20+D20-E20 -> 24715632
A21: 45403 | B21: Tiền xích lô chở nồi cháo | E21: 80000 | F21: =F20+C21+D21-E21 -> 24635632
A22: 45403 | B22: Mua rau củ thêm | E22: 38000 | F22: =F21+C22+D22-E22 -> 24597632
A23: 45410 | B23: Tiền xích lô chở nồi cháo | E23: 80000 | F23: =F22+C23+D23-E23 -> 24517632
A24: Tồng cộng | C24: =SUM(C7:C23) -> 500000 | D24: =SUM(D7:D23) -> 0 | E24: =SUM(E7:E23) -> 1416000 | F24: =F6+C24+D24-E24 -> 24517632
A25: Tồn cuối tháng 04/2024 | C25: =F6+C24+D24-E24 -> 24517632

Sheet T5.2024
A2: BÁO CÁO QUỸ NỒI CHÁO HUẾ THÁNG 05/2024
A4: NGÀY | B4: DIỄN GIẢI | C4: THU | E4: CHI | F4: TỒN
C5: CMTX | D5: CMKTX
A6: Tồn đầu tháng 05/2024 | F6: ='T4.2024'!C25 -> 24517632
A7: 45417 | B7: Mua 10kg gạo | E7: 180000 | F7: =F6+C7+D7-E7 -> 24337632
A8: 45417 | B8: Tiền xích lô chở nồi cháo | E8: 80000 | F8: =F7+C8+D8-E8 -> 24257632
A9: 45417 | B9: Mua rau thêm | E9: 34000 | F9: =F8+C9+D9-E9 -> 24223632
A10: 45420 | B10: Chị Nguyen Thi Dieu Huyen CMTX T5 | C10: 500000 | F10: =F9+C10+D10-E10 -> 24723632
A11: 45424 | B11: Tiền xích lô chở nồi cháo | E11: 80000 | F11: =F10+C11+D11-E11 -> 24643632
A12: 45424 | B12: Mua rau thêm | E12: 55000 | F12: =F11+C12+D12-E12 -> 24588632
A13: 45431 | B13: Mua 10kg gạo | E13: 165000 | F13: =F12+C13+D13-E13 -> 24423632
A14: 45431 | B14: Tiền xích lô chở nồi cháo | E14: 80000 | F14: =F13+C14+D14-E14 -> 24343632
A15: 45431 | B15: Mua rau củ | E15: 240000 | F15: =F14+C15+D15-E15 -> 24103632
A16: 45438 | B16: Tiền xích lô chở nồi cháo | E16: 80000 | F16: =F15+C16+D16-E16 -> 24023632
A17: 45438 | B17: Mua rau củ | E17: 225000 | F17: =F16+C17+D17-E17 -> 23798632
A18: Tồng cộng | C18: =SUM(C7:C17) -> 500000 | D18: =SUM(D7:D17) -> 0 | E18: =SUM(E7:E17) -> 1219000 | F18: =F6+C18+D18-E18 -> 23798632
A19: Tồn cuối tháng 05/2024 | C19: =F6+C18+D18-E18 -> 23798632

Sheet T6.2024
A2: BÁO CÁO QUỸ NỒI CHÁO HUẾ THÁNG 06/2024
A4: NGÀY | B4: DIỄN GIẢI | C4: THU | E4: CHI | F4: TỒN
C5: CMTX | D5: CMKTX
A6: Tồn đầu tháng 06/2024 | F6: ='T5.2024'!C19 -> 23798632
A7: 45445 | B7: Mua rau củ | E7: 203000 | F7: =F6+C7+D7-E7 -> 23595632
A8: 45445 | B8: Tiền xích lô chở nồi cháo | E8: 80000 | F8: =F7+C8+D8-E8 -> 23515632
A9: 45445 | B9: Đổi gas | E9: 440000 | F9: =F8+C9+D9-E9 -> 23075632
A10: 45445 | B10: Mua dao | E10: 120000 | F10: =F9+C10+D10-E10 -> 22955632
A11: 45450 | B11: Chị Nguyen Thi Dieu Huyen CMTX T6 | C11: 500000 | F11: =F10+C11+D11-E11 -> 23455632
A12: 45459 | B12: Tiền xích lô chở nồi cháo | E12: 80000 | F12: =F11+C12+D12-E12 -> 23375632
A13: 45459 | B13: Mua rau củ | E13: 215000 | F13: =F12+C13+D13-E13 -> 23160632
A14: 45459 | B14: Mua dầu ăn | E14: 39000 | F14: =F13+C14+D14-E14 -> 23121632
A15: 45459 | B15: Mua nước mắm | E15: 20000 | F15: =F14+C15+D15-E15 -> 23101632
A16: 45466 | B16: Tiền xích lô chở nồi cháo | E16: 80000 | F16: =F15+C16+D16-E16 -> 23021632
A17: 45466 | B17: Mua rau củ | E17: 206000 | F17: =F16+C17+D17-E17 -> 22815632
A18: 45473 | B18: Mua gạo | E18: 150000 | F18: =F17+C18+D18-E18 -> 22665632
A19: 45473 | B19: Tiền xích lô chở nồi cháo | E19: 80000 | F19: =F18+C19+D19-E19 -> 22585632
A20: 45473 | B20: Mua rau củ | E20: 223000 | F20: =F19+C20+D20-E20 -> 22362632
A21: 45817 | B21: Tiền xích lô chở nồi cháo | E21: 80000 | F21: =F20+C21+D21-E21 -> 22282632
A22: 45817 | B22: Mua rau củ | E22: 227000 | F22: =F21+C22+D22-E22 -> 22055632
A23: 45817 | B23: Mua gạo | E23: 150000 | F23: =F22+C23+D23-E23 -> 21905632
A24: Tồng cộng | C24: =SUM(C7:C23) -> 500000 | D24: =SUM(D7:D23) -> 0 | E24: =SUM(E7:E23) -> 2393000 | F24: =F6+C24+D24-E24 -> 21905632
A25: Tồn cuối tháng 06/2024 | C25: =F6+C24+D24-E24 -> 21905632

Sheet T7.2024
A2: BÁO CÁO QUỸ NỒI CHÁO HUẾ THÁNG 07/2024
A4: NGÀY | B4: DIỄN GIẢI | C4: THU | E4: CHI | F4: TỒN
C5: CMTX | D5: CMKTX
A6: Tồn đầu tháng 07/2024 | F6: ='T6.2024'!C25 -> 21905632
A7: 45480 | B7: Mua rau củ | E7: 167000 | F7: =F6+C7+D7-E7 -> 21738632
A8: 45480 | B8: Mua thịt | E8: 250000 | F8: =F7+C8+D8-E8 -> 21488632
A9: 45480 | B9: Tiền xích lô chở nồi cháo | E9: 80000 | F9: =F8+C9+D9-E9 -> 21408632
A10: 45481 | B10: Chị Nguyen Thi Dieu Huyen CMTX T7 | C10: 500000 | F10: =F9+C10+D10-E10 -> 21908632
A11: 45487 | B11: Mua rau củ | E11: 173000 | F11: =F10+C11+D11-E11 -> 21735632
A12: 45487 | B12: Mua thịt | E12: 250000 | F12: =F11+C12+D12-E12 -> 21485632
A13: 45487 | B13: Mua dầu ăn | E13: 50000 | F13: =F12+C13+D13-E13 -> 21435632
A14: 45487 | B14: Tiền xích lô chở nồi cháo | E14: 80000 | F14: =F13+C14+D14-E14 -> 21355632
A15: 45487 | B15: Mua 1 cái quạt | E15: 340000 | F15: =F14+C15+D15-E15 -> 21015632
A16: 45487 | B16: Mua ổ cắm điện | E16: 50000 | F16: =F15+C16+D16-E16 -> 20965632
A17: 45494 | B17: Mua rau củ | E17: 194000 | F17: =F16+C17+D17-E17 -> 20771632
A18: 45494 | B18: Mua thịt | E18: 250000 | F18: =F17+C18+D18-E18 -> 20521632
A19: 45494 | B19: Mua 10kg gạo | E19: 160000 | F19: =F18+C19+D19-E19 -> 20361632
A20: 45494 | B20: Tiền xích lô chở nồi cháo | E20: 80000 | F20: =F19+C20+D20-E20 -> 20281632
A21: 45494 | B21: Mua bao tay | E21: 6000 | F21: =F20+C21+D21-E21 -> 20275632
A22: 45501 | B22: Mua rau củ | E22: 205000 | F22: =F21+C22+D22-E22 -> 20070632
... A25: 45501 | B25: Hạt nêm | E25: 30000 | F25: =F24+C25+D25-E25 -> 19710632
A26: Tồng cộng | C26: =SUM(C7:C25) -> 500000 | D26: =SUM(D7:D25) -> 0 | E26: =SUM(E7:E25) -> 2695000 | F26: =F6+C26+D26-E26 -> 19710632
A27: Tồn cuối tháng 07/2024 | C27: =F6+C26+D26-E26 -> 19710632

Sheet T8.2024
A2: BÁO CÁO QUỸ NỒI CHÁO HUẾ THÁNG 08/2024
A4: NGÀY | B4: DIỄN GIẢI | C4: THU | E4: CHI | F4: TỒN
C5: CMTX | D5: CMKTX
A6: Tồn đầu tháng 08/2024 | F6: ='T7.2024'!C27 -> 19710632
A7: 45508 | B7: Mua thịt | E7: 250000 | F7: =F6+C7+D7-E7 -> 19460632
A8: 45508 | B8: Mua rau củ | E8: 245000 | F8: =F7+C8+D8-E8 -> 19215632
A9: 45508 | B9: Tiền xích lô chở nồi cháo | E9: 80000 | F9: =F8+C9+D9-E9 -> 19135632
A10: 45508 | B10: Mua 2 lít dầu ăn | E10: 100000 | F10: =F9+C10+D10-E10 -> 19035632
A11: 45511 | B11: Chị Nguyen Thi Dieu Huyen CMTX T8 | C11: 500000 | F11: =F10+C11+D11-E11 -> 19535632
A12: 45515 | B12: Đổi gas | E12: 445000 | F12: =F11+C12+D12-E12 -> 19090632
A13: 45515 | B13: Mua 10kg gạo | E13: 150000 | F13: =F12+C13+D13-E13 -> 18940632
A14: 45515 | B14: Tiền xích lô chở nồi cháo | E14: 80000 | F14: =F13+C14+D14-E14 -> 18860632
A15: 45515 | B15: Mua thịt | E15: 250000 | F15: =F14+C15+D15-E15 -> 18610632
A16: 45515 | B16: Mua rau củ | E16: 191000 | F16: =F15+C16+D16-E16 -> 18419632
A17: 45515 | B17: Mua nước rửa chén | E17: 25000 | F17: =F16+C17+D17-E17 -> 18394632
A18: 45521 | B18: Chị Tran Thi Mai Lan ủng hộ KTX | D18: 3830000 | F18: =F17+C18+D18-E18 -> 22224632
A19: 45522 | B19: Mua rau củ | E19: 225000 | F19: =F18+C19+D19-E19 -> 21999632
A20: 45522 | B20: Mua thịt | E20: 250000 | F20: =F19+C20+D20-E20 -> 21749632
A21: 45522 | B21: Tiền xích lô chở nồi cháo | E21: 90000 | F21: =F20+C21+D21-E21 -> 21659632
A22: 45522 | B22: Mua hạt nêm | E22: 60000 | F22: =F21+C22+D22-E22 -> 21599632
A23: 45522 | B23: Mua mì chính | E23: 60000 | F23: =F22+C23+D23-E23 -> 21539632
A24: 45522 | B24: Mua nước mắm | E24: 30000 | F24: =F23+C24+D24-E24 -> 21509632
A25: 45522 | B25: Mua bao tay nilon | E25: 16000 | F25: =F24+C25+D25-E25 -> 21493632
A26: 45529 | B26: Mua 10kg gạo | E26: 150000 | F26: =F25+C26+D26-E26 -> 21343632
A27: 45529 | B27: Mua thịt | E27: 250000 | F27: =F26+C27+D27-E27 -> 21093632
A28: 45529 | B28: Mua rau củ | E28: 239000 | F28: =F27+C28+D28-E28 -> 20854632
A29: 45529 | B29: Tiền xích lô chở nồi cháo | E29: 90000 | F29: =F28+C29+D29-E29 -> 20764632
A30: 45529 | B30: Mua 5 cái bát | E30: 65000 | F30: =F29+C30+D30-E30 -> 20699632
... A32: 45529 | B32: Mua 2 hộp đựng gia vị | E32: 35000 | F32: =F31+C32+D32-E32 -> 20644632
A33: Tồng cộng | C33: =SUM(C7:C32) -> 500000 | D33: =SUM(D7:D32) -> 3830000 | E33: =SUM(E7:E32) -> 3396000 | F33: =F6+C33+D33-E33 -> 20644632
A34: Tồn cuối tháng 08/2024 | C34: =F6+C33+D33-E33 -> 20644632

Sheet T9.2024
A2: BÁO CÁO QUỸ NỒI CHÁO HUẾ THÁNG 09/2024
A4: NGÀY | B4: DIỄN GIẢI | C4: THU | E4: CHI | F4: TỒN
C5: CMTX | D5: CMKTX
A6: Tồn đầu tháng 09/2024 | F6: ='T8.2024'!C34 -> 20644632
A7: 45536 | B7: Mua rau củ | E7: 190000 | F7: =F6+C7+D7-E7 -> 20454632
A8: 45536 | B8: Mua thịt | E8: 250000 | F8: =F7+C8+D8-E8 -> 20204632
A9: 45536 | B9: Tiền xích lô chở nồi cháo | E9: 90000 | F9: =F8+C9+D9-E9 -> 20114632
A10: 45539 | B10: Chị Nguyen Thi Dieu Huyen CMTX T9 | C10: 500000 | F10: =F9+C10+D10-E10 -> 20614632
A11: 45543 | B11: Mua rau củ | E11: 189000 | F11: =F10+C11+D11-E11 -> 20425632
A12: 45543 | B12: Mua thịt | E12: 250000 | F12: =F11+C12+D12-E12 -> 20175632
A13: 45543 | B13: Tiền xích lô chở nồi cháo | E13: 90000 | F13: =F12+C13+D13-E13 -> 20085632
A14: 45543 | B14: Mua 10kg gạo | E14: 150000 | F14: =F13+C14+D14-E14 -> 19935632
A15: 45543 | B15: Mua dầu ăn | E15: 105000 | F15: =F14+C15+D15-E15 -> 19830632
A16: 45543 | B16: Hạt nêm | E16: 55000 | F16: =F15+C16+D16-E16 -> 19775632
A17: 45550 | B17: Mua thịt | E17: 250000 | F17: =F16+C17+D17-E17 -> 19525632
A18: 45550 | B18: Mua rau củ | E18: 196000 | F18: =F17+C18+D18-E18 -> 19329632
A19: 45550 | B19: Tiền xích lô chở nồi cháo | E19: 90000 | F19: =F18+C19+D19-E19 -> 19239632
A20: 45557 | B20: Mua thịt | E20: 250000 | F20: =F19+C20+D20-E20 -> 18989632
A21: 45557 | B21: Mua rau củ | E21: 188000 | F21: =F20+C21+D21-E21 -> 18801632
A22: 45557 | B22: Mua bột ngọt | E22: 50000 | F22: =F21+C22+D22-E22 -> 18751632
... A28: 45564 | B28: Tiền xích lô chở nồi cháo | E28: 90000 | F28: =F27+C28+D28-E28 -> 17919632
A29: Tồng cộng | C29: =SUM(C7:C28) -> 500000 | D29: =SUM(D7:D28) -> 0 | E29: =SUM(E7:E28) -> 3225000 | F29: =F6+C29+D29-E29 -> 17919632
A30: Tồn cuối tháng 09/2024 | C30: =F6+C29+D29-E29 -> 17919632
G38: TỔNG CHI PHÍ THÀNG 9/2024: 3.225.000đ

Sheet T10.2024
A2: BÁO CÁO QUỸ NỒI CHÁO HUẾ THÁNG 10/2024
A4: NGÀY | B4: DIỄN GIẢI | C4: THU | E4: CHI | F4: TỒN
C5: CMTX | D5: CMKTX
A6: Tồn đầu tháng 10/2024 | F6: ='T9.2024'!C30 -> 17919632
A7: 45571 | B7: Mua 10kg gạo | E7: 160000 | F7: =F6+C7+D7-E7 -> 17759632
A8: 45571 | B8: Tiền xích lô chở nổi cháo | E8: 90000 | F8: =F7+C8+D8-E8 -> 17669632
A9: 45571 | B9: Mua thịt | E9: 250000 | F9: =F8+C9+D9-E9 -> 17419632
A10: 45571 | B10: Mua rau củ | E10: 183000 | F10: =F9+C10+D10-E10 -> 17236632
A11: 45571 | B11: Mua hạt nêm | E11: 33000 | F11: =F10+C11+D11-E11 -> 17203632
A12: 45571 | B12: Mua bột ngọt | E12: 30000 | F12: =F11+C12+D12-E12 -> 17173632
A13: 45573 | B13: Chị Nguyen Thi Dieu Huyen CMTX 10 | C13: 500000 | F13: =F12+C13+D13-E13 -> 17673632
A14: 45578 | B14: Mua dầu ăn | E14: 33000 | F14: =F13+C14+D14-E14 -> 17640632
A15: 45578 | B15: Tiền xích lô chở nổi cháo | E15: 90000 | F15: =F14+C15+D15-E15 -> 17550632
A16: 45578 | B16: Mua rau củ | E16: 209000 | F16: =F15+C16+D16-E16 -> 17341632
A17: 45578 | B17: Mua thịt | E17: 250000 | F17: =F16+C17+D17-E17 -> 17091632
A18: 45586 | B18: Mua 10kg gạo | E18: 160000 | F18: =F17+C18+D18-E18 -> 16931632
A19: 45586 | B19: Tiền xích lô chở nổi cháo | E19: 90000 | F19: =F18+C19+D19-E19 -> 16841632
A20: 45586 | B20: Mua rau củ | E20: 253000 | F20: =F19+C20+D20-E20 -> 16588632
A21: 45586 | B21: Mua thịt | E21: 250000 | F21: =F20+C21+D21-E21 -> 16338632
A22: Tồng cộng | C22: =SUM(C7:C21) -> 500000 | D22: =SUM(D7:D21) -> 0 | E22: =SUM(E7:E21) -> 2081000 | F22: =F6+C22+D22-E22 -> 16338632
A23: Tồn cuối tháng 10/2024 | C23: =F6+C22+D22-E22 -> 16338632

Sheet T11.2024
A2: BÁO CÁO QUỸ NỒI CHÁO HUẾ THÁNG 11/2024
A4: NGÀY | B4: DIỄN GIẢI | C4: THU | E4: CHI | F4: TỒN
C5: CMTX | D5: CMKTX
A6: Tồn đầu tháng 11/2024 | F6: ='T10.2024'!C23 -> 16338632
A7: 45599 | B7: Mua muối | E7: 20000 | F7: =F6+C7+D7-E7 -> 16318632
A8: 45599 | B8: Tiền xích lô chở nồi cháo | E8: 90000 | F8: =F7+C8+D8-E8 -> 16228632
A9: 45599 | B9: Mua thịt | E9: 250000 | F9: =F8+C9+D9-E9 -> 15978632
A10: 45599 | B10: Mua rau củ | E10: 205000 | F10: =F9+C10+D10-E10 -> 15773632
A11: 45599 | B11: Mua hạt nêm | E11: 120000 | F11: =F10+C11+D11-E11 -> 15653632
A12: 45599 | B12: Mua bột ngọt | E12: 65000 | F12: =F11+C12+D12-E12 -> 15588632
A13: 45599 | B13: Đổi gas | E13: 460000 | F13: =F12+C13+D13-E13 -> 15128632
A14: 45601 | B14: Chị Nguyen Thi Dieu Huyen CMTX T11 | C14: 500000 | F14: =F13+C14+D14-E14 -> 15628632
A15: 45606 | B15: Mua nước mắm | E15: 17000 | F15: =F14+C15+D15-E15 -> 15611632
A16: 45606 | B16: Tiền xích lô chở nồi cháo | E16: 90000 | F16: =F15+C16+D16-E16 -> 15521632
A17: 45606 | B17: Mua rau củ | E17: 254000 | F17: =F16+C17+D17-E17 -> 15267632
A18: 45606 | B18: Mua thịt | E18: 250000 | F18: =F17+C18+D18-E18 -> 15017632
A19: 45606 | B19: Mua gạo | E19: 160000 | F19: =F18+C19+D19-E19 -> 14857632
A20: 45606 | B20: Mua dầu ăn | E20: 40000 | F20: =F19+C20+D20-E20 -> 14817632
A21: 45613 | B21: Tiền xích lô chở nồi cháo | E21: 90000 | F21: =F20+C21+D21-E21 -> 14727632
