Workbook

Sheet tháng1-2-3-4-2020
A1: Thu - chi nấu soup tháng 1 - 2020
A3: TT | B3: Ngày | C3: Nội dung | D3: Ủng hộ hiện vật | E3: Thu | F3: Chi | G3: Tồn quỹ | H3: Ghi chú
B4: Tồn quỹ năm 2019 chuyển sang | G4: 205508218
A5: 1 | B5: 43952 | C5: Mua bánh mỳ | F5: 695000
A6: 2 | B6: 43952 | C6: Mua rau, trứng | F6: 1000000
A7: 3 | B7: 43952 | C7: Mua xương | F7: 368000
A8: 4 | B8: 43952 | C8: Mua thịt | F8: 1650000
A9: 5 | B9: 43952 | C9: Mua dây điện | F9: 95000
A10: 6 | B10: 43952 | C10: Mai Tan mua gaz | F10: 700000
A11: 7 | B11: 43952 | C11: Em Chung - HX Mai Tân uh | E11: 300000
A12: 8 | B12: 43952 | C12: Bích Phạm u/h | E12: 200000
A13: 9 | B13: 43952 | C13: Hai bạn Phạm Huyền uh | E13: 500000
A14: 10 | B14: 43952 | C14: Ông Lâm uh | E14: 500000
A15: 11 | B15: 43952 | C15: Lưu Hưng OF uh | E15: 1000000
A16: 12 | B16: 43952 | C16: Giang Đào - bạn Viet Hoa uh | E16: 2400000
A17: 13 | B17: 43952 | C17: ACE gia đình Việt Hoa u/h | E17: 2400000
A18: 14 | B18: 44166 | C18: Nhóm chef u/h | D18: kiềng đặt nồi và 1 bộ dao cắt rau củ
A19: 15 | B19: 44166 | C19: Đỗ Văn Tuyên u/h | E19: 500000
A20: 16 | B20: 44166 | C20: Mua khăn mặt | F20: 35000
A21: 17 | B21: 44166 | C21: Mua nấm hương | F21: 300000
A22: 18 | B22: 44166 | C22: Mua bột đao | F22: 1050000
A23: 19 | B23: 44166 | C23: Mua rau các loại | F23: 795000
A24: 20 | B24: 44166 | C24: Mua bánh mỳ | F24: 720000
A25: 21 | B25: 44166 | C25: Mua xương gà | F25: 100000
A26: 22 | B26: 44166 | C26: Mua xương heo | F26: 250000
A27: 23 | B27: 44166 | C27: Ánh Nguyệt Phùng mua thịt heo xay | F27: 1540000
A28: 24 | B28: 19/1/2020 | C28: Mua thịt | F28: 1650000
A29: 25 | B29: 19/1/2020 | C29: Mua xương | F29: 350000
A30: 26 | B30: 19/1/2020 | C30: Mua bánh mỳ | F30: 675000
A31: 27 | B31: 19/1/2020 | C31: Mai Tan mua rau trứng nâm các loại | F31: 1000000
A32: 28 | B32: 19/1/2020 | C32: Vũ Thị Thùy Dương u/h | E32: 500000
A33: 29 | B33: 19/1/2020 | C33: Trà đá vỉa hè u/h | E33: 500000
A34: 30 | B34: 19/1/2020 | C34: Nga Viet u/h | E34: 500000
A35: 31 | B35: 19/1/2020 | C35: Kim Ngân u/h | E35: 500000
A36: 32 | B36: 19/1/2020 | C36: Gia đình Lâm Hà u/h | E36: 500000
A37: 33 | B37: 19/1/2020 | C37: Hùng râu u/h | E37: 500000
A38: 34 | B38: 43861 | C38: Nguyễn ngọc Diệp uh | E38: 300000
A39: 35 | B39: 43886 | C39: Lãi tiết kiệm tháng 2 | E39: 2067095
A40: 36 | B40: 19/1/2020 | C40: Phí SMS 4 tháng | F40: 88000
A41: 37 | B41: 19/1/2020 | C41: Phí chuyển tiền | F41: 25300
C42: Cộng | E42: =SUM(E5:E40) -> 13167095 | F42: =SUM(F5:F41) -> 13086300 | G42: =G4+E42-F42 -> 205589013

Sheet thang5-2020
A1: Thu - chi nấu soup tháng 5 - 2019
A3: TT | B3: Ngày | C3: Nội dung | D3: Ủng hộ hiện vật | E3: Thu | F3: Chi | G3: Tồn quỹ | H3: Ghi chú
B4: Tồn quỹ tháng 1 chuyển sang | G4: ='tháng1-2-3-4-2020'!G42 -> 205589013
A5: 1 | B5: 44109 | C5: Các khoản linh tinh | F5: 215000 | H5: Linh tinh là khoản gì
A6: 2 | B6: 44109 | C6: Mua xương | F6: 350000
A7: 3 | B7: 44109 | C7: Mai Tan mua thịt | F7: 1600000
A8: 4 | B8: 44109 | C8: Bạn Mai Tan | D8: uh rau củ
A9: 5 | B9: 44109 | C9: Vân Trần u/h | D9: bánh mỳ
A10: 6 | B10: 44109 | C10: Hồ Thương u/h | E10: 125000
A11: 7 | B11: 44109 | C11: Duyen Tuyen u/h | E11: 1000000
A12: 8 | B12: 44109 | C12: Lưu Thị Đức Hoa uh | E12: 500000
A13: 9 | B13: 44109 | C13: Cao Hải Lâm uh | E13: 300000
A14: 10 | B14: 44109 | C14: Nguyễn Diệp Ngọc uh | E14: 300000
A15: 11 | B15: 44109 | C15: Vân Giáp u/h | E15: 3000000
A16: 12 | B16: 44109 | C16: An Na Mai Nguyễn uh | E16: 300000
A17: 13 | B17: 44109 | C17: Đỗ Văn Tuyên u/h | E17: 500000
A18: 14 | B18: 44109 | C18: Chi Linh u/h | E18: 1000000
A19: 15 | B19: 44109 | C19: Trần Như Hằng u/h | E19: 1000000
A20: 16 | B20: 44109 | C20: Lê Huyền u/h | E20: 50000
A21: 17 | B21: 44109 | C21: Tùng Bách u/h | E21: 200000
... A24: 20 | B24: 44109 | C24: Nga Nguyễn u/h | E24: 200000
A25: 21 | B25: 17/5/2020 | C25: Hứa Thiếu Anh u/h | E25: 4620000 | H25: 200$
A26: 22 | B26: 17/5/2020 | C26: Vũ Đức Quân u/h | E26: 500000
A27: 23 | B27: 17/5/2020 | C27: Duyen Tuong mua thịt gà | F27: 720000
A28: 24 | B28: 17/5/2020 | C28: Mua xương lợn | F28: 250000
A29: 25 | B29: 17/5/2020 | C29: Mua xương gà | F29: 100000
A30: 26 | B30: 17/5/2020 | C30: Mua ngô ngọt | F30: 650000
A31: 27 | B31: 17/5/2020 | C31: Mua khoai tây | F31: 160000
A32: 28 | B32: 17/5/2020 | C32: Mua cà rốt | F32: 105000
A33: 29 | B33: 17/5/2020 | C33: Mua hành tây | F33: 30000
A34: 30 | B34: 17/5/2020 | C34: Mua nấm tươi | F34: 300000
A35: 31 | B35: 17/5/2020 | C35: Mua trứng gà | F35: 150000
A36: 32 | B36: 17/5/2020 | C36: Mua 1 thùng bột canh | F36: 190000
A37: 33 | B37: 17/5/2020 | C37: Mua 2 bình gaz | F37: 560000
A38: 34 | B38: 17/5/2020 | C38: Mua bánh mỳ | F38: 675000
... A40: 36 | B40: 17/5/2020 | C40: Mua nấm hương | F40: 300000
A41: 37 | B41: 24/5/2020 | C41: Bích Phạm u/h | E41: 200000
A42: 38 | B42: 24/5/2020 | C42: Hòa béo u/h | E42: 700000
A43: 39 | B43: 24/5/2020 | C43: Kim Ngan u/h | E43: 500000
A44: 40 | B44: 24/5/2020 | C44: Thu Yến u/h | E44: 500000
A45: 41 | B45: 24/5/2020 | C45: Huyền Phạm mua nước uống | D45: uh nước uống
A46: 42 | B46: 24/5/2020 | C46: Mua rau nấm | F46: 900000
A47: 43 | B47: 24/5/2020 | C47: Mua bánh mỳ | F47: 675000
A48: 44 | B48: 24/5/2020 | C48: Mua xương | F48: 350000
A49: 45 | B49: 24/5/2020 | C49: Mua thịt | F49: 1600000
A50: 46 | B50: 24/5/2020 | C50: Mua nước mắm 8 chai | F50: 290000
A51: 47 | B51: 24/5/2020 | C51: Mua trứng gà (30 quả) | F51: 90000
A52: 48 | B52: 24/5/2020 | C52: Nước uống | F52: 150000
A53: 49 | B53: 31/5/2020 | C53: Mua dầu ăn | F53: 540000
A54: 50 | B54: 31/5/2020 | C54: Mua bánh mỳ | F54: 675000
A55: 51 | B55: 31/5/2020 | C55: Mua rau | F55: 2184000
A56: 52 | B56: 31/5/2020 | C56: Đỗ Hiền Hòa u/h | D56: Giấy gói bánh
A57: 53 | B57: 31/5/2020 | C57: Ba mẹ con Uyên Từng u/h | E57: 1500000
A58: 54 | B58: 31/5/2020 | C58: Khánh Toàn P1714 u/h | E58: 1000000
A59: 55 | B59: 31/5/2020 | C59: Bích Ngọc u/h | E59: 2000000
A60: 56 | B60: 31/5/2020 | C60: Quỳnh Hương u/h | E60: 300000
A61: 57 | B61: 31/5/2020 | C61: Ban Trang u/h | E61: 200000
A62: 58 | B62: 31/5/2020 | C62: Phí SMS | F62: 22000
C63: Cộng | E63: =SUM(E5:E62) -> 21395000 | F63: =SUM(F5:F62) -> 14881000 | G63: =G4+E63-F63 -> 212103013

Sheet thang6-2020
A1: Thu - chi nấu soup tháng 6 - 2019
A3: TT | B3: Ngày | C3: Nội dung | D3: Ủng hộ hiện vật | E3: Thu | F3: Chi | G3: Tồn quỹ | H3: Ghi chú
B4: Tồn quỹ tháng 5 chuyển sang | G4: ='thang5-2020'!G63 -> 212103013
A5: 1 | B5: 44018 | C5: Mua khăn | F5: 50000
A6: 2 | B6: 44018 | C6: Mua gaz | F6: 300000
A7: 3 | B7: 44018 | C7: Mua bánh mỳ | F7: 675000
A8: 4 | B8: 44018 | C8: Mua rau củ quả | F8: 1000000
A9: 5 | B9: 44018 | C9: Mua thịt nạc thăn | F9: 1600000
A10: 6 | B10: 44018 | C10: Hiệu Đào + Ng: Thị Chinh mua xương | F10: 380000
A11: 7 | B11: 44018 | C11: Rửa nồi | F11: 100000
A12: 8 | B12: 44018 | C12: Chị Đỗ Hiền Hòa u/h | D12: Túi giấy đựng bánh mỳ
A13: 9 | B13: 44018 | C13: Bạn chi u/h | D13: 2 bao to
A14: 10 | B14: 44018 | C14: Hiệu Đào u/h | D14: 60 quả trứng gà
A15: 11 | B15: 44018 | C15: Bạn của Kim Ngân u/h | E15: 3000000
A16: 12 | B16: 44018 | C16: Kim Ngan u/h | E16: 1000000
A17: 13 | B17: 44018 | C17: Chị Nga Viet u/h | E17: 500000
A18: 14 | B18: 14/6/2020 | C18: Mua trứng gà | F18: 30000
A19: 15 | B19: 14/6/2020 | C19: Mua trứng gà | F19: 135000
A20: 16 | B20: 14/6/2020 | C20: Mua bánh mỳ | F20: 675000
A21: 17 | B21: 14/6/2020 | C21: Mua hành tây | F21: 15000
A22: 18 | B22: 14/6/2020 | C22: Mua củ đậu | F22: 50000
A23: 19 | B23: 14/6/2020 | C23: Mua ca rốt | F23: 105000
A24: 20 | B24: 14/6/2020 | C24: Mua khoai tây | F24: 170000
A25: 21 | B25: 14/6/2020 | C25: Mua ngô | F25: 650000
A26: 22 | B26: 14/6/2020 | C26: Mua xương lợn | F26: 250000
A27: 23 | B27: 14/6/2020 | C27: Mua xương gà | F27: 100000
A28: 24 | B28: 14/6/2020 | C28: Duyen Tuong mua thịt gà | F28: 770000
A29: 25 | B29: 14/6/2020 | C29: Rửa nồi | F29: 100000
A30: 26 | B30: 14/6/2020 | C30: Bé Nhã Đình, Nhã Thi u/h | E30: 200000
A31: 27 | B31: 14/6/2020 | C31: Thanh Hang Nguyen u/h | E31: 300000
A32: 28 | B32: 14/6/2020 | C32: Linh Aki u/h | E32: 300000
A33: 29 | B33: 14/6/2020 | C33: Đỗ Văn Tuyên u/h | E33: 500000
A34: 30 | B34: 14/6/2020 | C34: Em Trang u/h | E34: 4000000
A35: 31 | B35: 21/6/2020 | C35: Bích Phạm u/h | E35: 200000
A36: 32 | B36: 21/6/2020 | C36: Thu Yen u/h | E36: 500000
A37: 33 | B37: 21/6/2020 | C37: Chef Ng: Văn Khu u/h | E37: 500000
A38: 34 | B38: 21/6/2020 | C38: Chef Lượng u/h | E38: 50000
A39: 35 | B39: 21/6/2020 | C39: Xì trum ck | E39: 1720000 | H39: Tiền gì?
A40: 36 | B40: 21/6/2020 | C40: Huyền Trang u/h | D40: Trứng gà
A41: 37 | B41: 21/6/2020 | C41: Ngọc, Vân u/h | D41: Ghế nhựa, dưa hấu
A42: 38 | B42: 21/6/2020 | C42: Chị Đỗ Hiền u/h | D42: Túi giấy đựng bánh mỳ
A43: 39 | B43: 21/6/2020 | C43: Pham Huyen mua xương gà | F43: 200000
A44: 40 | B44: 21/6/2020 | C44: Mua xương lợn | F44: 250000
A45: 41 | B45: 21/6/2020 | C45: Mua thịt gà | F45: 770000
A46: 42 | B46: 21/6/2020 | C46: Mua rau, củ quả | F46: 1050000
A47: 43 | B47: 21/6/2020 | C47: Mua bánh mỳ | F47: 675000
A48: 44 | B48: 21/6/2020 | C48: Mua gaz | F48: 260000
A49: 45 | B49: 21/6/2020 | C49: Mua nước | F49: 150000
A50: 46 | B50: 21/6/2020 | C50: Mua bột, nấm | F50: 1350000
A51: 47 | B51: 21/6/2020 | C51: Rửa nồi | F51: 100000
A52: 48 | B52: 28/6/2020 | C52: Quỳnh Anh EZ u/h | E52: 500000
A53: 49 | B53: 28/6/2020 | C53: Đỗ Thị Phương u/h | E53: 200000
A54: 50 | B54: 28/6/2020 | C54: Ng: Thúy EZ u/h | E54: 200000
A55: 51 | B55: 28/6/2020 | C55: Ng: Năm EZ u/h | E55: 200000
A56: 52 | B56: 28/6/2020 | C56: Đặng P Thảo | E56: 200000
A57: 53 | B57: 28/6/2020 | C57: Đỗ Thị Hồng Anh | E57: 100000
A58: 54 | B58: 28/6/2020 | C58: Nga Nguyễn | E58: 200000
A59: 55 | B59: 28/6/2020 | C59: Chung VTC | E59: 200000
A60: 56 | B60: 28/6/2020 | C60: Hứa Hiếu Anh (bạn chef Tuấn Anh) | E60: 4618000 | H60: 200$
A61: 57 | B61: 28/6/2020 | C61: Mai Tan + EZ mua bánh | F61: 675000
A62: 58 | B62: 28/6/2020 | C62: Mua rau (EZ mua) | F62: 502000
A63: 59 | B63: 28/6/2020 | C63: Mua ngô | F63: 390000
A64: 60 | B64: 28/6/2020 | C64: Mua khoai tây | F64: 100000
A65: 61 | B65: 28/6/2020 | C65: Mua cà rốt | F65: 75000
A66: 62 | B66: 28/6/2020 | C66: Mua củ cải | F66: 68000
A67: 63 | B67: 28/6/2020 | C67: Mua mộc nhĩ | F67: 100000
A68: 64 | B68: 28/6/2020 | C68: Mua nấm | F68: 240000
A69: 65 | B69: 28/6/2020 | C69: Mua nấm hải sản | F69: 360000
A70: 66 | B70: 28/6/2020 | C70: Mua nấm kim châm | F70: 150000
A71: 67 | B71: 28/6/2020 | C71: Rửa nồi | F71: 100000
A72: 68 | B72: 28/6/2020 | C72: Mua dầu hào 2 chai | F72: 110000
... A77: 73 | B77: 30/6/2020 | C77: Phí SMS | F77: 22000
C78: Cộng | E78: =SUM(E5:E77) -> 19188000 | F78: =SUM(F5:F77) -> 15244000 | G78: =G4+E78-F78 -> 216047013

Sheet thang7-2020
A1: Thu - chi nấu soup tháng 7 - 2020
A3: TT | B3: Ngày | C3: Nội dung | D3: Ủng hộ hiện vật | E3: Thu | F3: Chi | G3: Tồn quỹ | H3: Ghi chú
B4: Tồn quỹ tháng 6 chuyển sang | G4: ='thang6-2020'!G78 -> 216047013
A5: 1 | B5: 43958 | C5: Chị Hà (bạn Hiệu Đào) u/h | E5: 500000
A6: 2 | B6: 43958 | C6: Bánh mỳ BAMI Chất (chef Lượng) u/h | D6: 150 bánh mỳ + túi giấy đựng bánh
A7: 3 | B7: 43958 | C7: Thu Yến u/h | D7: 60 quả trứng
A8: 4 | B8: 43958 | C8: Anh Nguyet Phung & Pham Huyen mua bánh mỳ | F8: 675000
A9: 5 | B9: 43958 | C9: Mua khoai tây | F9: 200000
A10: 6 | B10: 43958 | C10: Mua ngô | F10: 600000
A11: 7 | B11: 43958 | C11: Mua 7kg cà rốt | F11: 140000
A12: 8 | B12: 43958 | C12: Mua 5 củ hành tây | F12: 28000
A13: 9 | B13: 43958 | C13: Mua 6kg nấm tươi | F13: 300000
A14: 10 | B14: 43958 | C14: Mua thịt gà | F14: 770000
A15: 11 | B15: 43958 | C15: Mua xương gà | F15: 100000
A16: 12 | B16: 43958 | C16: Mua xương lợn | F16: 250000
A17: 13 | B17: 43958 | C17: Mua 1 bình gaz | F17: 260000
A18: 14 | B18: 43958 | C18: Mua túi dứa to đựng bánh | F18: 60000
A19: 15 | B19: 43958 | C19: Rửa nồi | F19: 100000
A20: 16 | B20: 44172 | C20: Dương Quang Thái (bạn Chi) u/h | E20: 5000000
A21: 17 | B21: 44172 | C21: Ng: Ngọc Huyền (bạn Minh Hoa Pham) | E21: 200000
A22: 18 | B22: 44172 | C22: Lê Huyền bạn Minh Hoa Pham) | E22: 200000
A23: 19 | B23: 44172 | C23: Jackie Nguyễn (bạn Minh Hoa Pham) | E23: 200000
A24: 20 | B24: 44172 | C24: Ng: Kim Chung (bạn Minh Hoa Pham) | E24: 200000
A25: 21 | B25: 44172 | C25: Anna Mai (bạn Minh Hoa Pham) | E25: 200000
A26: 22 | B26: 44172 | C26: Minh Hoa Pham & Sen Trang mua bánh mỳ | F26: 675000
A27: 23 | B27: 44172 | C27: Mua thịt | F27: 1650000
A28: 24 | B28: 44172 | C28: Mua xương gà | F28: 100000
A29: 25 | B29: 44172 | C29: Mua xương lợn | F29: 250000
A30: 26 | B30: 44172 | C30: Mua khoai | F30: 140000
A31: 27 | B31: 44172 | C31: Mua cà rốt | F31: 100000
A32: 28 | B32: 44172 | C32: Mua susu | F32: 120000
A33: 29 | B33: 44172 | C33: Mua củ cải | F33: 90000
A34: 30 | B34: 44172 | C34: Mua ngô | F34: 225000
A35: 31 | B35: 44172 | C35: Mua củ dền | F35: 100000
A36: 32 | B36: 44172 | C36: Mua bí đỏ | F36: 120000
A37: 33 | B37: 44172 | C37: Mua hành tây | F37: 30000
... A42: 38 | B42: 44172 | C42: Mua túi đựng bánh mỳ | F42: 60000
A43: 39 | B43: 19/7/2020 | C43: Hòa Minh u/h | E43: 700000
A44: 40 | B44: 19/7/2020 | C44: Đoàn TN Mobiphone u/h | E44: 6000000
A45: 41 | B45: 19/7/2020 | C45: Tuan Anh Nguyen u/h | D45: tiền taxi chở nồi soup từ VHH về
A46: 42 | B46: 19/7/2020 | C46: Duyen Tuong mua thịt gà | F46: 770000
A47: 43 | B47: 19/7/2020 | C47: Mua xương gà | F47: 100000
A48: 44 | B48: 19/7/2020 | C48: Mua xương lợn | F48: 250000
A49: 45 | B49: 19/7/2020 | C49: Mua ngô bắp | F49: 650000
A50: 46 | C50: Mua khoai tây | F50: 200000
A51: 47 | B51: 19/7/2020 | C51: Mua cà rốt | F51: 150000
A52: 48 | B52: 19/7/2020 | C52: Mua củ cải | F52: 45000
A53: 49 | B53: 19/7/2020 | C53: Mua hành tây | F53: 30000
A54: 50 | B54: 19/7/2020 | C54: Mua nấm | F54: 300000
A55: 51 | B55: 19/7/2020 | C55: Mua bánh mỳ | F55: 675000
A56: 52 | B56: 19/7/2020 | C56: Mua trứng gà | F56: 66000
A57: 53 | B57: 19/7/2020 | C57: Mua trứng gà lần 2 | F57: 90000
A58: 54 | B58: 19/7/2020 | C58: Rửa nồi | F58: 100000
A59: 55 | B59: 19/7/2020 | C59: Nước đá, chanh, đường, hộp lưu mẫu | F59: 85000
A60: 56 | B60: 19/7/2020 | C60: Taxi chở soup đến VHH | F60: 50000
A61: 57 | B61: 26/7/2020 | C61: Nga Viet u/h | E61: 500000
A62: 58 | B62: 26/7/2020 | C62: Em Thảo (bạn Nga Việt) | E62: 500000
A63: 59 | B63: 26/7/2020 | C63: Em Vân (bạn Nga Việt) | E63: 500000
A64: 60 | B64: 26/7/2020 | C64: Ng: Văn Khu u/h | E64: 500000
A65: 61 | B65: 26/7/2020 | C65: Em Vân (bạn Ng: Văn Khu) u/h | E65: 1000000
A66: 62 | B66: 26/7/2020 | C66: Râu Tóc Thôi Bay u/h | E66: 500000
A67: 63 | B67: 26/7/2020 | C67: Dương Cẩm (bạn Hương Ninh Khánh) u/h | E67: 500000
A68: 64 | B68: 26/7/2020 | C68: Cô Mai u/h | E68: 100000
A69: 65 | B69: 26/7/2020 | C69: Ng: Hoàng Hảo (bạn Ng: Thị Chinh) u/h | E69: 500000 | I69: ck
A70: 66 | B70: 26/7/2020 | C70: Vân và bạn u/h | E70: 2000000 | I70: ck
A71: 67 | B71: 26/7/2020 | C71: MTQ dấu tên | E71: 500000 | I71: ck
A72: 68 | B72: 26/7/2020 | C72: Thuy Yến (bạn Phạm Huyền) u/h | E72: 500000
A73: 69 | B73: 26/7/2020 | C73: Hiệu Đào u/h | D73: 60 quả trứng
A74: 70 | B74: 26/7/2020 | C74: Ng: Thị Chinh & Hiệu Đào mua thịt | F74: 1600000
A75: 71 | B75: 26/7/2020 | C75: Mua xương | F75: 350000
A76: 72 | B76: 26/7/2020 | C76: Mua bánh mỳ | F76: 675000
A77: 73 | B77: 26/7/2020 | C77: Mua nấm tươi | F77: 300000
A78: 74 | B78: 26/7/2020 | C78: Mua rau củ quả các loại | F78: 745000
A79: 75 | B79: 26/7/2020 | C79: Mua ngô bắp | F79: 320000
A80: 76 | B80: 31/7/2020 | C80: Phí SMS | F80: 22000
A81: 77 | B81: 31/7/2020 | C81: Phí chuyển tiền | F81: 9900
C82: Cộng | E82: =SUM(E5:E81) -> 20800000 | F82: =SUM(F5:F81) -> 16475900 | G82: =G4+E82-F82 -> 220371113

Sheet thang8-2020
A1: Thu - chi nấu soup tháng 8 - 2020
A3: TT | B3: Ngày | C3: Nội dung | D3: Ủng hộ hiện vật | E3: Thu | F3: Chi | G3: Tồn quỹ | H3: Ghi chú
B4: Tồn quỹ tháng 7 chuyển sang | G4: ='thang7-2020'!G82 -> 220371113
A5: 1 | B5: 43869 | C5: Chef Khu u/h | E5: 1800000
A6: 2 | B6: 43869 | C6: Phạm Huyền u/h | E6: 180000
A7: 3 | B7: 43869 | C7: Lương Hoàng Mai | E7: 1360000 | H7: bánh mỳ
A8: 4 | B8: 43869 | C8: Minh Phạm u/h | E8: 500000
A9: 5 | B9: 43869 | C9: Mai Tan mua thịt | F9: 1600000
A10: 6 | B10: 43869 | C10: Mua xương | F10: 350000
A11: 7 | B11: 43869 | C11: Mua bánh mỳ | F11: 675000
A12: 8 | B12: 43869 | C12: Mua rau củ các loại | F12: 1477000
A13: 9 | B13: 43869 | C13: Mua bột canh | F13: 190000
A14: 10 | B14: 43869 | C14: Mua gaz | F14: 520000
A15: 11 | B15: 44082 | C15: Bạn Minh Hoa Pham | E15: 300000
A16: 12 | B16: 44082 | C16: Mai bạn MAiTAn | E16: 2000000
A17: 13 | B17: 44082 | C17: Bích Hưng và bạn | E17: 500000
A18: 14 | B18: 44082 | C18: Trường | E18: 500000
A19: 15 | B19: 44082 | C19: Lâm | E19: 1000000
A20: 16 | B20: 44082 | C20: Chi nấu cơm Viện HH | F20: 7000000
A21: 17 | B21: 44082 | C21: Phí SMS | F21: 22000
A22: 18 | B22: 44082 | C22: Phí chuyển tiền | F22: 7700
A23: 19 | B23: 44082 | C23: Lãi tiết kiệm | E23: 2074000
C24: Cộng | E24: =SUM(E5:E23) -> 10214000 | F24: =SUM(F5:F23) -> 11841700 | G24: =G4+E24-F24 -> 218743413

Sheet thang9-2020
A1: Thu - chi nấu soup tháng 9 - 2020
A3: TT | B3: Ngày | C3: Nội dung | D3: Ủng hộ hiện vật | E3: Thu | F3: Chi | G3: Tồn quỹ | H3: Ghi chú
B4: Tồn quỹ tháng 8 chuyển sang | G4: ='thang8-2020'!G24 -> 218743413
A5: 1 | B5: 44075 | C5: Thúy Hà uh | E5: 2000000
A6: 2 | B6: 44075 | C6: Mừng uh | E6: 5000000
A7: 3 | B7: 44075 | C7: Tuyên Yến uh | E7: 1500000
A8: 4 | B8: 44075 | C8: Hải uh | E8: 1000000
A9: 5 | B9: 44078 | C9: Chị nấu cơm Viện HH uh | F9: 7000000
A10: 6 | B10: 44078 | C10: Chị Hạnh uh | E10: 500000
A11: 7 | B11: 44078 | C11: Chị Nhài uh | E11: 500000
A12: 8 | B12: 20/9/2020 | C12: Phương Toàn Thế uh | E12: 500000
A13: 9 | B13: 20/9/2020 | C13: Hoàng Xuân Tùng uh | E13: 1000000
A14: 10 | B14: 20/9/2020 | C14: Nga Viet uh | E14: 500000
A15: 11 | B15: 20/9/2020 | C15: Em Thảo (bạn Nga Việt) uh | E15: 500000
A16: 12 | B16: 20/9/2020 | C16: Em Vân (bạn Nga Viet) uh | E16: 500000
A17: 13 | B17: 20/9/2020 | C17: Pham Linh Lan uh | E17: 500000
A18: 14 | B18: 20/9/2020 | C18: Ng: Hoàng Hải uh | E18: 500000
A19: 15 | B19: 20/9/2020 | C19: Mua thịt | F19: 1600000
A20: 16 | B20: 20/9/2020 | C20: Mua xương | F20: 350000
A21: 17 | B21: 20/9/2020 | C21: Mua bánh mỳ | F21: 675000
A22: 18 | B22: 20/9/2020 | C22: Mua bí đỏ + khoai | F22: 188000
A23: 19 | B23: 20/9/2020 | C23: Mua 6kg bột | F23: 132000
A24: 20 | B24: 20/9/2020 | C24: Mua nấm tươi | F24: 225000
A25: 21 | B25: 20/9/2020 | C25: Mua trứng | F25: 150000
A26: 22 | B26: 20/9/2020 | C26: Mua ngô | F26: 120000
A27: 23 | B27: 20/9/2020 | C27: Mai Tan & Ng: Thị Chinh mua rau, củ, quả các loại | F27: 637000
A28: 24 | B28: 27/9/2020 | C28: Seven HC uh | E28: 200000
A29: 25 | B29: 27/9/2020 | C29: Mai Nguyen uh | E29: 200000
A30: 26 | B30: 27/9/2020 | C30: Thu Yến uh | E30: 500000
A31: 27 | B31: 27/9/2020 | C31: Bùi Hương (An Lạc) uh | E31: 200000
A32: 28 | B32: 27/9/2020 | C32: Lưu Thanh Tú uh | E32: 300000
A33: 29 | B33: 27/9/2020 | C33: NaNa (cháu c. Nam Trang) uh | E33: 150000
A34: 30 | B34: 27/9/2020 | C34: Do Van Tuyen uh | E34: 500000
A35: 31 | B35: 27/9/2020 | C35: Hàng rau uh | E35: 82000
A36: 32 | B36: 27/9/2020 | C36: Mua thịt | F36: 1400000
A37: 33 | B37: 27/9/2020 | C37: Mua xương | F37: 320000
A38: 34 | B38: 27/9/2020 | C38: Mua bánh mỳ | F38: 675000
A39: 35 | B39: 27/9/2020 | C39: Mua nấm, trứng, rau của quả | F39: 1182000
A40: 36 | B40: 27/9/2020 | C40: Sen Trang & Minh Hoa Pham mua nấm, bột | F40: 1350000
A41: 37 | B41: 44101 | C41: Phí SMS | F41: 22000
A42: 38 | B42: 44101 | C42: Phí chuyển tiền | F42: 7700
C43: Cộng | E43: =SUM(E5:E42) -> 16632000 | F43: =SUM(F5:F42) -> 16033700 | G43: =G4+E43-F43 -> 219341713

Sheet thang10-2020
A1: Thu - chi nấu soup tháng 10 - 2019
A3: TT | B3: Ngày | C3: Nội dung | D3: Ủng hộ hiện vật | E3: Thu | F3: Chi | G3: Tồn quỹ | H3: Ghi chú
B4: Tồn quỹ tháng 9 chuyển sang | G4: ='thang9-2020'!G43 -> 219341713
A5: 1 | B5: 43931 | C5: Seven HC uh | D5: dụng cụ rửa nồi | E5: 200000
A6: 2 | B6: 43931 | C6: Xuan Vu Le uh | E6: 500000
A7: 3 | B7: 43931 | C7: Nga Nguyen | E7: 100000
A8: 4 | B8: 43931 | C8: Chi đoàn TN Mobilefone uh | D8: 260 hộp sữa tươi
A9: 5 | B9: 43931 | C9: Mua 5 chai dầu ăn | F9: 240000
A10: 6 | B10: 43931 | C10: Mua bánh mỳ | F10: 675000
A11: 7 | B11: 43931 | C11: Mua 50 quả trứng gà | F11: 150000
A12: 8 | B12: 43931 | C12: Mua 3kg nấm hương | F12: 135000 | H12: Lại nấm hương?
A13: 9 | B13: 43931 | C13: Mua 3kg nấm hương | F13: 165000
A14: 10 | B14: 43931 | C14: Mua hành tây | F14: 30000
A15: 11 | B15: 43931 | C15: Mua cà rốt | F15: 160000
A16: 12 | B16: 43931 | C16: Mua khoai tây | F16: 150000
A17: 13 | B17: 43931 | C17: Mua ngô bắp | F17: 650000
A18: 14 | B18: 43931 | C18: Mua xương | F18: 400000
A19: 15 | B19: 43931 | C19: Duyen Tuong mua thịt gà | F19: 650000
A20: 16 | B20: 44145 | C20: Yến và Vân uh | E20: 500000
A21: 17 | B21: 44145 | C21: Xuan Vu Le uh | E21: 720000
A22: 18 | B22: 44145 | C22: Mua 1 bình gaz | F22: 270000
A23: 19 | B23: 44145 | C23: Mua 160 bánh mỳ | F23: 720000
A24: 20 | B24: 44145 | C24: Mua 60 quả trứng gà | F24: 150000
A25: 21 | B25: 44145 | C25: Mua 6kg nấm tươi | F25: 330000
A26: 22 | B26: 44145 | C26: Chị Vũ Thị Hà uh | D26: 2kg hành tây
A27: 23 | B27: 44145 | C27: Mua cà rốt | F27: 170000
A28: 24 | B28: 44145 | C28: Mua khoai tây | F28: 170000
A29: 25 | B29: 44145 | C29: Mua ngô ngọt | F29: 680000
A30: 26 | B30: 44145 | C30: Mua xương | F30: 400000
A31: 27 | B31: 44145 | C31: Duyen Tuong mua thịt gà | F31: 650000
A32: 28 | B32: 18/10/2020 | C32: Gia đình Vũ Thanh Thảo uh | E32: 1000000
A33: 29 | B33: 18/10/2020 | C33: Vũ Văn Tuân uh | E33: 200000
A34: 30 | B34: 18/10/2020 | C34: Phạm Cẩm Ninh | E34: 500000
A35: 31 | B35: 18/10/2020 | C35: Chị Thủy (bạn Mai Tan) | E35: 1000000
A36: 32 | B36: 18/10/2020 | C36: Hùng Râu | E36: 500000
A37: 33 | B37: 18/10/2020 | C37: Nhóm tình nguyện Abbot | E37: 1000000
A38: 34 | B38: 18/10/2020 | C38: Chị hàng xóm của Mai Tân uh | D38: Toàn bộ rau củ của buổi nấu soup ngày 18/10
A39: 35 | B39: 18/10/2020 | C39: Anh Nguyet Phung & Sen Trang mua 11kg thịt heo | F39: 1430000
A40: 36 | B40: 18/10/2020 | C40: Mua 10kg xương | F40: 400000
A41: 37 | B41: 18/10/2020 | C41: Mua 160 chiếc bánh mỳ | F41: 720000
A42: 38 | B42: 18/10/2020 | C42: Mua 60 quả trứng | F42: 160000
A43: 39 | B43: 18/10/2020 | C43: Mua 25kg bột | F43: 1050000
A44: 40 | B44: 18/10/2020 | C44: Rau mua thêm | F44: 120000
A45: 41 | B45: 18/10/2020 | C45: Mua 1.2kg nấm | F45: 300000
A46: 42 | B46: 25/10/2020 | C46: Thu Yến uh | E46: 500000
A47: 43 | B47: 25/10/2020 | C47: Bán rau uh | E47: 30000
A48: 44 | B48: 25/10/2020 | C48: Nguyệt uh | E48: 1000000
A49: 45 | B49: 25/10/2020 | C49: Nga Việt uh | E49: 500000
A50: 46 | B50: 25/10/2020 | C50: Ngô Thị Sửu uh | E50: 200000
A51: 47 | B51: 25/10/2020 | C51: Mua thịt | F51: 1430000
A52: 48 | B52: 25/10/2020 | C52: Mua Xương | F52: 400000
A53: 49 | B53: 25/10/2020 | C53: Mua Rau | F53: 1230000
A54: 50 | B54: 25/10/2020 | C54: Mua Bánh mỳ | F54: 720000
A55: 51 | B55: 25/10/2020 | C55: Phí chuyển tiền | F55: 8800
A56: 52 | B56: 25/10/2020 | C56: Phí SMS | F56: 22000
C57: Cộng | E57: =SUM(E5:E56) -> 8450000 | F57: =SUM(F9:F56) -> 14935800 | G57: =G4+E57-F57 -> 212855913

Sheet thang11-2020
A1: Thu - chi nấu soup tháng 11 - 2019
A3: TT | B3: Ngày | C3: Nội dung | D3: Ủng hộ hiện vật | E3: Thu | F3: Chi | G3: Tồn quỹ | H3: Ghi chú
B4: Tồn quỹ tháng 10 chuyển sang | G4: ='thang10-2020'!G57 -> 212855913
A5: 1 | B5: 43841 | C5: Nga Nguyen uh | E5: 100000
A6: 2 | B6: 43841 | C6: Thủy Hoàng uh | E6: 500000
A7: 3 | B7: 43841 | C7: Thu Yến uh | E7: 500000
A8: 4 | B8: 43841 | C8: Ngô Thị Khánh Vân uh | E8: 1000000
A9: 5 | B9: 43841 | C9: Tuyến Say uh | E9: 500000
A10: 6 | B10: 43841 | C10: Huyền mua thịt | F10: 1430000
A11: 7 | B11: 43841 | C11: Mua Xương | F11: 400000
A12: 8 | B12: 43841 | C12: Mua Rau | F12: 1100000
A13: 9 | B13: 43841 | C13: Mua Bánh | F13: 720000
A14: 10 | B14: 43841 | C14: Mua Bột canh | F14: 190000
A15: 11 | B15: 43841 | C15: Mua Nước rủa bát | F15: 45000
A16: 12 | B16: 44054 | C16: Huyền uh | E16: 2000000
A17: 13 | B17: 44054 | C17: Thanh Huyền uh | E17: 500000
A18: 14 | B18: 44054 | C18: Hoàng Hải uh | E18: 500000
A19: 15 | B19: 44054 | C19: Linh MB uh | E19: 100000
A20: 16 | B20: 44054 | C20: Linh Lan uh | E20: 500000
A21: 17 | B21: 44054 | C21: Chung uh | E21: 500000
A22: 18 | B22: 44054 | C22: Mai Tan mua thịt | F22: 1000000
A23: 19 | B23: 44054 | C23: Mua xương | F23: 400000
A24: 20 | B24: 44054 | C24: Mua rau | F24: 630000
A25: 21 | B25: 44054 | C25: Mua bánh mỳ | F25: 720000
A26: 22 | B26: 44054 | C26: Mua gaz | F26: 580000
A27: 23 | B27: 15/11/2020 | C27: Trang uh | E27: 200000
A28: 24 | B28: 15/11/2020 | C28: Hằng uh | E28: 500000
A29: 25 | B29: 15/11/2020 | C29: Linh uh | E29: 500000
A30: 26 | B30: 15/11/2020 | C30: Thu Yến uh | E30: 500000
A31: 27 | B31: 15/11/2020 | C31: Mua thịt | F31: 1040000
A32: 28 | B32: 15/11/2020 | C32: Mua Xương | F32: 400000
A33: 29 | B33: 15/11/2020 | C33: Mua Rau | F33: 750000
A34: 30 | B34: 15/11/2020 | C34: Mua Bánh mỳ | F34: 720000
A35: 31 | B35: 15/11/2020 | C35: Mua Nấm bột | F35: 1350000
A36: 32 | B36: 15/11/2020 | C36: Mua Dầu ăn | F36: 95000
A37: 33 | B37: 15/11/2020 | C37: Mua Gaz | F37: 290000
A38: 34 | B38: 22/11/2020 | C38: Hà uh | E38: 300000
A39: 35 | B39: 22/11/2020 | C39: Mai Anh uh | E39: 200000
A40: 36 | B40: 22/11/2020 | C40: Hiền uh | E40: 200000
A41: 37 | B41: 22/11/2020 | C41: Ngọc uh | E41: 400000
A42: 38 | B42: 22/11/2020 | C42: Ngọc Ly uh | E42: 100000
A43: 39 | B43: 22/11/2020 | C43: Mua rau | F43: 2019000
A44: 40 | B44: 22/11/2020 | C44: Mua Bánh mỳ | F44: 720000
A45: 41 | B45: 29/11/2020 | C45: Nga uh | E45: 100000
A46: 42 | B46: 29/11/2020 | C46: Không tên uh | E46: 500000
A47: 43 | B47: 29/11/2020 | C47: Xuân Lê Vũ uh | E47: 750000
A48: 44 | B48: 29/11/2020 | C48: Thư uh | E48: 2000000
A49: 45 | B49: 29/11/2020 | C49: Thủy uh | E49: 500000
A50: 46 | B50: 29/11/2020 | C50: Huệ uh | E50: 1000000
A51: 47 | B51: 29/11/2020 | C51: Mua thịt | F51: 770000
A52: 48 | B52: 29/11/2020 | C52: Mua Xương | F52: 440000
A53: 49 | B53: 29/11/2020 | C53: Mua Ngô | F53: 600000
A54: 50 | B54: 29/11/2020 | C54: Mua Carot | F54: 194000
A55: 51 | B55: 29/11/2020 | C55: Mua Khoai tay | F55: 180000
A56: 52 | B56: 29/11/2020 | C56: Mua Hành tây | F56: 56000
A57: 53 | B57: 29/11/2020 | C57: Mua Nấm bột | F57: 300000
A58: 54 | B58: 29/11/2020 | C58: Mua Trứng | F58: 168000
A59: 55 | B59: 29/11/2020 | C59: Mua Bánh mỳ | F59: 765000
A60: 56 | B60: 29/11/2020 | C60: Mua Dầu ăn | F60: 480000
A61: 57 | B61: 29/11/2020 | C61: Mua nước rửa bát | F61: 27000
A62: 58 | B62: 29/11/2020 | C62: Phí MSM | F62: 22000
A63: 59 | B63: 29/11/2020 | C63: Phí chuyển tiền | F63: 8800
A64: 60 | C64: Cộng | E64: =SUM(E5:E58) -> 14450000 | F64: =SUM(F5:F63) -> 18609800 | G64: =G4+E64-F64 -> 208696113

Sheet thang12-2020
A1: Thu - chi nấu soup tháng 12 - 2019
A3: TT | B3: Ngày | C3: Nội dung | D3: Ủng hộ hiện vật | E3: Thu | F3: Chi | G3: Tồn quỹ | H3: Ghi chú
B4: Tồn quỹ tháng 11 chuyển sang | G4: ='thang11-2020'!G64 -> 208696113
A5: 1 | B5: 43994 | C5: Thu Yến uh | E5: 1000000
A6: 2 | B6: 43994 | C6: Kim Oanh Do uh | E6: 500000
A7: 3 | B7: 43994 | C7: Liên uh | E7: 500000
A8: 4 | B8: 43994 | C8: Jacky Cuong uh | E8: 500000
A9: 5 | B9: 43994 | C9: Khuê uh | E9: 200000
A10: 6 | B10: 43994 | C10: Lê Huyền uh | E10: 200000
A11: 7 | B11: 43994 | C11: Anna Mai Nguyen uh | E11: 200000
A12: 8 | B12: 43994 | C12: Tùng Bách uh | E12: 200000
A13: 9 | B13: 43994 | C13: Kim Ngân uh | E13: 1000000
A14: 10 | B14: 43994 | C14: Tiền bán bột | E14: 250000
A15: 11 | B15: 43994 | C15: Mua thịt | F15: 1300000
A16: 12 | B16: 43994 | C16: Mua Xương | F16: 400000
A17: 13 | B17: 43994 | C17: Mua Rau | F17: 866000
A18: 14 | B18: 43994 | C18: Mua Bánh mỳ | F18: 675000
A19: 15 | B19: 43994 | C19: Mua Gaz | F19: 710000
A20: 16 | B20: 13/12/2020 | C20: Đại Hoa uh | E20: 300000
A21: 17 | B21: 13/12/2020 | C21: Hoàng Xuân Tùng uh | E21: 300000
A22: 18 | B22: 13/12/2020 | C22: Nghĩa uh | E22: 200000
A23: 19 | B23: 13/12/2020 | C23: Oanh Tùng uh | E23: 1000000
A24: 20 | B24: 13/12/2020 | C24: Thủy uh | E24: 500000
A25: 21 | B25: 13/12/2020 | C25: Mua nước rửa bát | F25: 27000
A26: 22 | B26: 13/12/2020 | C26: Mua thịt | F26: 1300000
A27: 23 | B27: 13/12/2020 | C27: Mua Xương | F27: 400000
A28: 24 | B28: 13/12/2020 | C28: Mua Rau | F28: 978000
A29: 25 | B29: 13/12/2020 | C29: Mua Bánh mỳ | F29: 675000
A30: 26 | B30: 13/12/2020 | C30: Mua Mỳ ăn liền | F30: 170000
A31: 27 | B31: 13/12/2020 | C31: Sửa máy xay | F31: 500000
A32: 28 | B32: 20/12/2020 | C32: Mai và bạn uh | E32: 1000000
A33: 29 | B33: 20/12/2020 | C33: Duyen Tuong uh | E33: 198000
A34: 30 | B34: 20/12/2020 | C34: Cựu SV uh | E34: 200000
A35: 31 | B35: 20/12/2020 | C35: Mua rau | F35: 1000000
A36: 32 | B36: 20/12/2020 | C36: Mua thịt | F36: 1400000
A37: 33 | B37: 20/12/2020 | C37: Mua Xương | F37: 450000
A38: 34 | B38: 20/12/2020 | C38: Mua Bánh mỳ | F38: 675000
A39: 35 | B39: 20/12/2020 | C39: Mua nấm | F39: 1350000
A40: 36 | B40: 27/12/2020 | C40: An An Nguyen uh | E40: 200000
A41: 37 | B41: 27/12/2020 | C41: Xuan le Vu uh | E41: 720000
A42: 38 | B42: 27/12/2020 | C42: Yến uh | E42: 500000
A43: 39 | B43: 27/12/2020 | C43: Huyền uh | E43: 200000
A44: 40 | B44: 27/12/2020 | C44: Cô giáo uh | E44: 1000000
A45: 41 | B45: 27/12/2020 | C45: Hạnh Thúy uh | E45: 200000
A46: 42 | B46: 27/12/2020 | C46: Mua giò | F46: 240000
A47: 43 | B47: 27/12/2020 | C47: Mua Hạt nêm | F47: 120000
A48: 44 | B48: 27/12/2020 | C48: Mua Mắm | F48: 60000
A49: 45 | B49: 27/12/2020 | C49: Mua Dầu hào | F49: 240000
A50: 46 | B50: 27/12/2020 | C50: Mua Bếp van | F50: 850000
A51: 47 | B51: 27/12/2020 | C51: Mua Rau | F51: 1400000
A52: 48 | B52: 27/12/2020 | C52: Mua Bánh mỳ | F52: 720000
A53: 49 | B53: 27/12/2020 | C53: Phí SMS | F53: 22000
C54: Cộng | E54: =SUM(E5:E53) -> 11068000 | F54: =SUM(F5:F53) -> 16528000 | G54: =G4+E54-F54 -> 203236113

Sheet Tháng1-2021
A1: Thu - chi nấu soup tháng 1+2 - 2021
A3: TT | B3: Ngày | C3: Nội dung | D3: Ủng hộ hiện vật | E3: Thu | F3: Chi | G3: Tồn quỹ | H3: Ghi chú
B4: Tồn quỹ năm 2020 chuyển sang | G4: ='thang12-2020'!G54 -> 203236113
A5: 1 | B5: 44287 | C5: Hạnh Thủy uh | E5: 200000
A6: 2 | B6: 44470 | C6: Việt Hoa uh | E6: 2400000
A7: 3 | B7: 44470 | C7: Linh Lan uh | E7: 500000
A8: 4 | B8: 44470 | C8: Liên uh | E8: 500000
A9: 5 | B9: 44470 | C9: Thạch uh | E9: 200000
A10: 6 | B10: 44470 | C10: Mai Anh uh | E10: 100000
A11: 7 | B11: 44470 | C11: Xuan Le Vu uh | E11: 720000
A12: 8 | B12: 44470 | C12: Vân uh | E12: 1000000
A13: 9 | B13: 44470 | C13: Loan uh | E13: 200000
A14: 10 | B14: 44470 | C14: Tuyen uh | E14: 500000
A15: 11 | B15: 44470 | C15: Mua Thịt | F15: 700000
A16: 12 | B16: 44470 | C16: Mua Xương | F16: 400000
A17: 13 | B17: 44470 | C17: Mua Ngô | F17: 750000
A18: 14 | B18: 44470 | C18: Mua Khoai | F18: 170000
A19: 15 | B19: 44470 | C19: Mua Carrot | F19: 200000
A20: 16 | B20: 44470 | C20: Mua Nấm | F20: 270000
A21: 17 | B21: 44470 | C21: Mua Trứng | F21: 150000
A22: 18 | B22: 44470 | C22: Mua Hành | F22: 30000
A23: 19 | B23: 44470 | C23: Mua Bánh mỳ | F23: 720000
A24: 20 | B24: 17/1/2021 | C24: Nga uh | E24: 500000
A25: 21 | B25: 17/1/2021 | C25: Hoàng Hải uh | E25: 500000
A26: 22 | B26: 17/1/2021 | C26: Thao uh | E26: 500000
A27: 23 | B27: 17/1/2021 | C27: Hà Ly Hà Anh uh | E27: 1000000
A28: 24 | B28: 17/1/2021 | C28: Thu Yến uh | E28: 500000
A29: 25 | B29: 17/1/2021 | C29: Hiền uh | E29: 100000
A30: 26 | B30: 17/1/2021 | C30: Mai Nguyen uh | E30: 200000
A31: 27 | B31: 17/1/2021 | C31: Huong Nguyen uh | E31: 100000
A32: 28 | B32: 17/1/2021 | C32: Ngọc uh | E32: 500000
A33: 29 | B33: 17/1/2021 | C33: Nga uh | E33: 100000
A34: 30 | B34: 17/1/2021 | C34: Trúc Lâm uh | E34: 200000
A35: 31 | B35: 17/1/2021 | C35: Mua thịt | F35: 1500000
A36: 32 | B36: 17/1/2021 | C36: Mua Xương | F36: 500000
A37: 33 | B37: 17/1/2021 | C37: Mua Rau | F37: 979000
A38: 34 | B38: 17/1/2021 | C38: Mua Bánh mỳ | F38: 720000
A39: 35 | B39: 17/1/2021 | C39: Mua Nấm | F39: 200000
A40: 36 | B40: 24/1/2021 | C40: Xuan Le Vu uh | E40: 500000
A41: 37 | B41: 24/1/2021 | C41: Linh uh | E41: 500000
A42: 38 | B42: 24/1/2021 | C42: Hạnh Thủy uh | E42: 200000
A43: 39 | B43: 24/1/2021 | C43: Mua thịt | F43: 1500000
A44: 40 | B44: 24/1/2021 | C44: Mua Xương | F44: 500000
A45: 41 | B45: 24/1/2021 | C45: Mua Gaz | F45: 754000
A46: 42 | B46: 24/1/2021 | C46: Mua Bánh mỳ | F46: 720000
A47: 43 | B47: 24/1/2021 | C47: Mua Nấm, bột | F47: 420000
A48: 44 | B48: 24/1/2021 | C48: Phí SMS | F48: 22000
A49: 45 | B49: 24/1/2021 | C49: Phí chuyển tiền | F49: 7700
A50: 46 | B50: 26/1/2021 | C50: Kim Ngan uh | E50: 500000
A51: 47 | B51: 30/1/2021 | C51: Ck tiền cơm Viện HH | F51: 8750000
A52: 48 | B52: 30/1/2021 | C52: Tiền cũng dường | F52: 3000000
A53: 49 | B53: 30/1/2021 | C53: Mua dao, nạo | F53: 330000
A54: 50 | B54: 17/2/2021 | C54: Phạm Bích Hương + John uh | E54: 2000000
A55: 51 | B55: 17/2/2021 | C55: Lê Xuân Đại uh | E55: 750000
A56: 52 | B56: 17/2/2021 | C56: Lưu Thị Đức uh | E56: 500000
A57: 53 | B57: 17/2/2021 | C57: Phí dịch vụ | F57: 22000
A58: 54 | B58: 17/2/2021 | C58: Phí chuyển tiền | F58: 7700
C59: Cộng | E59: =SUM(E5:E58) -> 15470000 | F59: =SUM(F6:F58) -> 23322400 | G59: =G4+E59-F59 -> 195383713
