Workbook

Sheet T1.22
A1: BÁO CÁO THU CHI QUỸ NỒI CHÁO HÀ NỘI
A2: THÁNG 01/ 2022
A4: NGÀY | B4: DIỄN GIẢI | C4: HÌNH THỨC CM | E4: ỦNG HỘ TIỀN | I4: ỦNG HỘ HIỆN VẬT
E5: THU | F5: CHI | G5: TỒN | H5: Khoản mục | I5: GẠO (Kg) | J5: Dầu ăn (Can) | K5: Bột canh (Thùng) | L5: Bí đỏ (Kg) | M5: Cà rốt (Kg) | N5: Mì tôm (Thùng) | O5: Nước rửa bát (Can)
C6: KTX | D6: TX
B7: TỒN ĐẦU KỲ | G7: 37708163
A8: 44562 | B8: Phí QLTK | F8: 2200 | G8: =G7+E8-F8 -> 37705963 | H8: Chi khác
A9: 44570 | B9: Bà Cúc U/h | C9: x | E9: 3000000 | G9: =G8+E9-F9 -> 40705963 | H9: CMKTX
A10: 44579 | B10: Nguyễn Thị Diệu Huyền CMTX | D10: x | E10: 500000 | G10: =G9+E10-F10 -> 41205963 | H10: CMTX
A11: 44586 | B11: Lãi | E11: 2724 | G11: =G10+E11-F11 -> 41208687 | H11: Lãi
A12: 44589 | B12: Lãi | E12: 352877 | G12: =G11+E12-F12 -> 41561564 | H12: Lãi
B13: TỒN CUỐI KỲ | E13: =SUM(E8:E12) -> 3855601 | F13: =SUM(F8:F12) -> 2200 | G13: =SUM(G7+E13-F13) -> 41561564 | I13: =SUM(I7:I12) -> 0 | J13: =SUM(J7:J12) -> 0 | K13: =SUM(K7:K12) -> 0 | L13: =SUM(L7:L12) -> 0 | M13: =SUM(M7:M12) -> 0 | N13: =SUM(N7:N12) -> 0

Sheet T2.22
A1: BÁO CÁO THU CHI QUỸ NỒI CHÁO HÀ NỘI
A2: THÁNG 02/2022
A4: NGÀY | B4: DIỄN GIẢI | C4: HÌNH THỨC CM | E4: ỦNG HỘ TIỀN | I4: ỦNG HỘ HIỆN VẬT
E5: THU | F5: CHI | G5: TỒN | H5: Khoản mục | I5: GẠO (Kg) | J5: Dầu ăn (Can) | K5: Bột canh (Thùng) | L5: Bí đỏ (Kg) | M5: Cà rốt (Kg) | N5: Mì tôm (Thùng) | O5: Nước rửa bát (Can)
C6: KTX | D6: TX
B7: TỒN ĐẦU KỲ | G7: =T1.22!G13 -> 41561564
A8: 44598 | B8: Phí QLTK | F8: 2200 | G8: =G7+E8-F8 -> 41559364 | H8: Chi khác
A9: 44599 | B9: Dinh Thi Nguyet Minh U/h | C9: x | E9: 300000 | G9: =G8+E9-F9 -> 41859364 | H9: CMKTX
A10: 44612 | B10: Nguyệt U/h | E10: 500000 | G10: =G9+E10-F10 -> 42359364 | H10: CMKTX
A11: 44613 | B11: Nguyễn Thị Diệu Huyền CMTX | D11: x | E11: 500000 | G11: =G10+E11-F11 -> 42859364 | H11: CMTX
A12: 44615 | B12: NTCM chuyển tiền MTQ U/h | E12: 2400000 | G12: =G11+E12-F12 -> 45259364 | H12: CMKTX
A13: 44617 | B13: Lãi | E13: 3567 | G13: =G12+E13-F13 -> 45262931 | H13: Lãi
A14: 44620 | B14: Lãi | E14: 3041096 | G14: =G13+E14-F14 -> 48304027 | H14: Lãi
B15: TỒN CUỐI KỲ | E15: =SUM(E8:E14) -> 6744663 | F15: =SUM(F8:F14) -> 2200 | G15: =SUM(G7+E15-F15) -> 48304027 | I15: =SUM(I7:I14) -> 0 | J15: =SUM(J7:J14) -> 0 | K15: =SUM(K7:K14) -> 0 | L15: =SUM(L7:L14) -> 0 | M15: =SUM(M7:M14) -> 0 | N15: =SUM(N7:N14) -> 0

Sheet T3.22
A1: BÁO CÁO THU CHI QUỸ NỒI CHÁO HÀ NỘI
A2: THÁNG 03/2022
A4: NGÀY | B4: DIỄN GIẢI | C4: HÌNH THỨC CM | E4: ỦNG HỘ TIỀN | I4: ỦNG HỘ HIỆN VẬT
E5: THU | F5: CHI | G5: TỒN | H5: Khoản mục | I5: GẠO (Kg) | J5: Dầu ăn (Can) | K5: Bột canh (Thùng) | L5: Bí đỏ (Kg) | M5: Cà rốt (Kg) | N5: Mì tôm (Thùng) | O5: Nước rửa bát (Can)
C6: KTX | D6: TX
B7: TỒN ĐẦU KỲ | G7: =T2.22!G15 -> 48304027
A8: 01/03 | B8: Phí QLTK | F8: 2200 | G8: =G7+E8-F8 -> 48301827 | H8: Chi khác
A9: 21/03 | B9: Nguyễn Thị Diệu Huyền CMTX | D9: x | E9: 500000 | G9: =G8+E9-F9 -> 48801827 | H9: CMTX
A10: 25/03 | B10: Lãi | E10: 3686 | G10: =G9+E10-F10 -> 48805513 | H10: Lãi
B11: TỒN CUỐI KỲ | E11: =SUM(E8:E10) -> 503686 | F11: =SUM(F8:F10) -> 2200 | G11: =SUM(G7+E11-F11) -> 48805513 | I11: =SUM(I7:I10) -> 0 | J11: =SUM(J7:J10) -> 0 | K11: =SUM(K7:K10) -> 0 | L11: =SUM(L7:L10) -> 0 | M11: =SUM(M7:M10) -> 0 | N11: =SUM(N7:N10) -> 0 | O11: =SUM(O7:O10) -> 0

Sheet T4.22
A1: BÁO CÁO THU CHI QUỸ NỒI CHÁO HÀ NỘI
A2: THÁNG 04/2022
A4: NGÀY | B4: DIỄN GIẢI | C4: HÌNH THỨC CM | E4: ỦNG HỘ TIỀN | I4: ỦNG HỘ HIỆN VẬT
E5: THU | F5: CHI | G5: TỒN | H5: Khoản mục | I5: GẠO (Kg) | J5: Dầu ăn (Can) | K5: Bột canh (Thùng) | L5: Bí đỏ (Kg) | M5: Cà rốt (Kg) | N5: Mì tôm (Thùng) | O5: Nước rửa bát (Can)
C6: KTX | D6: TX
B7: TỒN ĐẦU KỲ | G7: =T3.22!G11 -> 48805513
A8: 02/04 | B8: Phí QLTK | F8: 2200 | G8: =G7+E8-F8 -> 48803313 | H8: Chi khác
A9: 18/04 | B9: NGUYEN THI THOA U/h | C9: x | E9: 1000000 | G9: =G8+E9-F9 -> 49803313 | H9: CMKTX
A10: 19/04 | B10: NGUYEN THI DIEU HUYEN CMTX | D10: x | E10: 500000 | G10: =G9+E10-F10 -> 50303313 | H10: CMTX
A11: 23/04 | B11: TRAN THI HUYEN U/h | C11: x | E11: 1000000 | G11: =G10+E11-F11 -> 51303313 | H11: CMKTX
A12: 24/04 | B12: MTQ U/h | C12: x | E12: 1000000 | G12: =G11+E12-F12 -> 52303313 | H12: CMKTX
A13: 25/04 | B13: Lãi | E13: 4181 | G13: =G12+E13-F13 -> 52307494 | H13: Lãi
A14: 28/04 | B14: Lãi tiền gửi | E14: 345205 | G14: =G13+E14-F14 -> 52652699 | H14: Lãi
A15: 28/04 | B15: Trích quỹ gửi thêm vào tài khoản tiết kiệm số 1020652382 | F15: 30000000 | G15: =G14+E15-F15 -> 22652699 | H15: TKTK
B16: TỒN CUỐI KỲ | E16: =SUM(E8:E15) -> 3849386 | F16: =SUM(F8:F15) -> 30002200 | G16: =SUM(G7+E16-F16) -> 22652699 | I16: =SUM(I7:I15) -> 0 | J16: =SUM(J7:J15) -> 0 | K16: =SUM(K7:K15) -> 0 | L16: =SUM(L7:L15) -> 0 | M16: =SUM(M7:M15) -> 0 | N16: =SUM(N7:N15) -> 0

Sheet T5.22
A1: BÁO CÁO THU CHI QUỸ NỒI CHÁO HÀ NỘI
A2: THÁNG 05/2022
A4: NGÀY | B4: DIỄN GIẢI | C4: HÌNH THỨC CM | E4: ỦNG HỘ TIỀN | I4: ỦNG HỘ HIỆN VẬT
E5: THU | F5: CHI | G5: TỒN | H5: Khoản mục | I5: GẠO (Kg) | J5: Dầu ăn (Can) | K5: Bột canh (Thùng) | L5: Bí đỏ (Kg) | M5: Cà rốt (Kg) | N5: Mì tôm (Thùng) | O5: Nước rửa bát (Can)
C6: KTX | D6: TX
B7: TỒN ĐẦU KỲ | G7: =T4.22!G16 -> 22652699
A8: 02/05 | B8: Phí QLTK | F8: 2200 | G8: =G7+E8-F8 -> 22650499 | H8: Chi khác
A9: 20/05 | B9: NGUYEN THI DIEU HUYEN CMTX | D9: x | E9: 500000 | G9: =G8+E9-F9 -> 23150499 | H9: CMTX
A10: 24/05 | B10: MTQ U/h | C10: x | E10: 500000 | G10: =G9+E10-F10 -> 23650499 | H10: CMKTX
A11: 25/05 | B11: Lãi | E11: 2114 | G11: =G10+E11-F11 -> 23652613 | H11: Lãi
B12: TỒN CUỐI KỲ | E12: =SUM(E8:E11) -> 1002114 | F12: =SUM(F8:F11) -> 2200 | G12: =SUM(G7+E12-F12) -> 23652613 | I12: =SUM(I7:I11) -> 0 | J12: =SUM(J7:J11) -> 0 | K12: =SUM(K7:K11) -> 0 | L12: =SUM(L7:L11) -> 0 | M12: =SUM(M7:M11) -> 0 | N12: =SUM(N7:N11) -> 0

Sheet T6.22
A1: BÁO CÁO THU CHI QUỸ NỒI CHÁO HÀ NỘI
A2: THÁNG 06/2022
A4: NGÀY | B4: DIỄN GIẢI | C4: HÌNH THỨC CM | E4: ỦNG HỘ TIỀN | I4: ỦNG HỘ HIỆN VẬT
E5: THU | F5: CHI | G5: TỒN | H5: Khoản mục | I5: GẠO (Kg) | J5: Dầu ăn (Can) | K5: Bột canh (Thùng) | L5: Bí đỏ (Kg) | M5: Cà rốt (Kg) | N5: Mì tôm (Thùng) | O5: Nước rửa bát (Can)
C6: KTX | D6: TX
B7: TỒN ĐẦU KỲ | G7: =T5.22!G12 -> 23652613
A8: 01/06 | B8: Hienlinh U/h | C8: x | E8: 1000000 | G8: =G7+E8-F8 -> 24652613 | H8: CMKTX
A9: 01/06 | B9: Phí QLTK | F9: 2200 | G9: =G8+E9-F9 -> 24650413 | H9: Chi khác
A10: 18/06 | B10: MTQ U/h | C10: x | E10: 500000 | G10: =G9+E10-F10 -> 25150413 | H10: CMKTX
A11: 21/06 | B11: NGUYEN THI DIEU HUYEN CMTX | D11: x | E11: 500000 | G11: =G10+E11-F11 -> 25650413 | H11: CMTX
A12: 22/06 | B12: Do Vu Hoang U/h | C12: x | E12: 2000000 | G12: =G11+E12-F12 -> 27650413 | H12: CMKTX
A13: 25/06 | B13: Lãi | E13: 2106 | G13: =G12+E13-F13 -> 27652519 | H13: Lãi
A14: 29/06 | B14: MTQ U/h | C14: x | E14: 300000 | G14: =G13+E14-F14 -> 27952519 | H14: CMKTX
A15: 29/06 | B15: Pham Ngoc U/h | C15: x | E15: 500000 | G15: =G14+E15-F15 -> 28452519 | H15: CMKTX
A16: 29/06 | B16: Huynh Thu U/h | C16: x | E16: 1000000 | G16: =G15+E16-F16 -> 29452519 | H16: CMKTX
A17: 30/06 | B17: MTQ U/h | C17: x | E17: 500000 | G17: =G16+E17-F17 -> 29952519 | H17: CMKTX
B18: TỒN CUỐI KỲ | E18: =SUM(E8:E17) -> 6302106 | F18: =SUM(F8:F17) -> 2200 | G18: =SUM(G7+E18-F18) -> 29952519 | I18: =SUM(I7:I17) -> 0 | J18: =SUM(J7:J17) -> 0 | K18: =SUM(K7:K17) -> 0 | L18: =SUM(L7:L17) -> 0 | M18: =SUM(M7:M17) -> 0 | N18: =SUM(N7:N17) -> 0

Sheet T7.22
A1: NỒI CHÁO HÀ NỘI
A2: THỐNG KÊ QUỸ + HIỆN VẬT - THÁNG 07/2022
A4: NGÀY | B4: DIỄN GIẢI | C4: HÌNH THỨC CM | E4: ỦNG HỘ TIỀN | I4: ỦNG HỘ HIỆN VẬT
E5: THU | F5: CHI | G5: TỒN | H5: Khoản mục | I5: GẠO (Kg) | J5: Dầu ăn (Can) | K5: Bột canh (Gói) | L5: Bí đỏ (Kg) | M5: Cà rốt (Kg) | N5: Mì tôm (Thùng) | O5: Nước rửa bát (Can) | P5: Giấy ăn (Bịch) | Q5: Cốc đựng cháo (chiếc) | R5: Găng tay (Hộp) | S5: Khác
C6: KTX | D6: TX
B7: TỒN ĐẦU KỲ | G7: =T6.22!G18 -> 29952519
A8: 01/07 | B8: Nguyen Van Chat U/h | C8: x | E8: 1000000 | G8: =G7+E8-F8 -> 30952519 | H8: CMKTX
A9: 01/07 | B9: Phí QLTK | F9: 2200 | G9: =G8+E9-F9 -> 30950319 | H9: Chi khác
A10: 03/07 | B10: My Tom U/h | C10: x | E10: 1000000 | G10: =G9+E10-F10 -> 31950319 | H10: CMKTX
A11: 04/07 | B11: Thanh Phong Pham U/h | C11: x | E11: 3000000 | G11: =G10+E11-F11 -> 34950319 | H11: CMKTX
A12: 05/07 | B12: Vu Thi Thu Ha U/h | C12: x | E12: 500000 | G12: =G11+E12-F12 -> 35450319 | H12: CMKTX
A13: 09/07 | B13: Le Dang Thi U/h | C13: x | E13: 1000000 | G13: =G12+E13-F13 -> 36450319 | H13: CMKTX
A14: 09/07 | B14: Tu Nguyen Linh U/h | C14: x | E14: 500000 | G14: =G13+E14-F14 -> 36950319 | H14: CMKTX
A15: 10/07 | B15: Minh Ngoc U/h | C15: x | E15: 1000000 | G15: =G14+E15-F15 -> 37950319 | H15: CMKTX
A16: 10/07 | B16: Chị Nga, anh Dũng U/h | C16: x | E16: 2000000 | G16: =G15+E16-F16 -> 39950319 | H16: CMKTX
A17: 10/07 | B17: anh Tinh U/h | C17: x | E17: 100000 | G17: =G16+E17-F17 -> 40050319 | H17: CMKTX
A18: 10/07 | B18: Gia đình anh Hòa U/h | G18: =G17+E18-F18 -> 40050319 | H18: Hiện vật | I18: 60
A19: 10/07 | B19: Chị Đỗ Hiền Hòa U/h | G19: =G18+E19-F19 -> 40050319 | H19: Hiện vật | S19: 02 bộ bếp ga, cụm ống van mới
A20: 10/07 | B20: Chị Huyền Phạm U/h | G20: =G19+E20-F20 -> 40050319 | H20: Hiện vật | P20: 6 | Q20: 2000 | R20: 2 | S20: 4 tạp dề 5 dây buộc nồi 2 hộp khẩu trang 3 đôi nhấc nồi
A21: 10/07 | B21: Chị Tép U/h | G21: =G20+E21-F21 -> 40050319 | H21: Hiện vật | N21: 1
A22: 10/07 | B22: Anh Thái Duy U/h | G22: =G21+E22-F22 -> 40050319 | H22: Hiện vật | J22: 2 | K22: 50
A23: 10/07 | B23: Chị Uyên Ly Đặng U/h | G23: =G22+E23-F23 -> 40050319 | H23: Hiện vật | N23: 2
A24: 10/07 | B24: Thu Hương U/h | G24: =G23+E24-F24 -> 40050319 | H24: Hiện vật | J24: 1 | N24: 1 | S24: 1 túi trứng gà
A25: 12/07 | B25: Nguyen Thi Thoa U/h | C25: x | E25: 1000000 | G25: =G24+E25-F25 -> 41050319 | H25: CMKTX
A26: 13/07 | B26: Mai Van Anh & Nguyen Thi Cha U/h | C26: x | E26: 300000 | G26: =G25+E26-F26 -> 41350319 | H26: CMKTX
A27: 17/07 | B27: Bin10 U/h | C27: x | E27: 300000 | G27: =G26+E27-F27 -> 41650319 | H27: CMKTX
A28: 17/07 | B28: Tiền ga 10/7 | F28: 840000 | G28: =G27+E28-F28 -> 40810319 | H28: Ga
A29: 17/07 | B29: Tiền ga 17/7 | F29: 840000 | G29: =G28+E29-F29 -> 39970319 | H29: Ga
A30: 17/07 | B30: MTQ U/h | C30: x | E30: 1000000 | G30: =G29+E30-F30 -> 40970319 | H30: CMKTX
A31: 18/07 | B31: Nguyen Thi Hong Xoan U/h | C31: x | E31: 500000 | G31: =G30+E31-F31 -> 41470319 | H31: CMKTX
A32: 20/07 | B32: NGUYEN THI DIEU HUYEN CMTX | D32: x | E32: 500000 | G32: =G31+E32-F32 -> 41970319 | H32: CMTX
A33: 24/07 | B33: Chị Loan U/h | G33: =G32+E33-F33 -> 41970319 | H33: Hiện vật | N33: 1
A34: 24/07 | B34: Cô Hà U/h | G34: =G33+E34-F34 -> 41970319 | H34: Hiện vật | N34: 1
A35: 25/07 | B35: Tiền thịt, rau củ 3 buổi nấu | F35: 3060000 | G35: =G34+E35-F35 -> 38910319 | H35: Thịt, rau
A36: 25/07 | B36: Lãi | E36: 3008 | G36: =G35+E36-F36 -> 38913327 | H36: Lãi
A37: 28/07 | B37: Lãi tiền gửi | E37: 610822 | G37: =G36+E37-F37 -> 39524149 | H37: Lãi
A38: 31/07 | B38: Gia đình em An U/h | C38: x | E38: 500000 | G38: =G37+E38-F38 -> 40024149 | H38: CMKTX
A39: 31/07 | B39: TT tiền rau 1 buổi | F39: 300000 | G39: =G38+E39-F39 -> 39724149 | H39: Thịt, rau
A40: 31/07 | B40: TT tiền thịt 1 buổi | F40: 720000 | G40: =G39+E40-F40 -> 39004149 | H40: Thịt, rau
A41: 31/07 | B41: Phan Huong và người nhà bệnh nhân U/h | C41: x | E41: 800000 | G41: =G40+E41-F41 -> 39804149 | H41: CMKTX
...

Sheet T8.22
A1: BÁO CÁO THU CHI QUỸ NỒI CHÁO HÀ NỘI
A2: THÁNG 08/2022
A4: NGÀY | B4: DIỄN GIẢI | C4: HÌNH THỨC CM | E4: ỦNG HỘ TIỀN | I4: ỦNG HỘ HIỆN VẬT
E5: THU | F5: CHI | G5: TỒN | H5: Khoản mục | I5: GẠO (Kg) | J5: Dầu ăn (Can) | K5: Bột canh (Thùng) | L5: Bí đỏ (Kg) | M5: Cà rốt (Kg) | N5: Mì tôm (Thùng) | O5: Nước rửa bát (Can)
C6: KTX | D6: TX
B7: TỒN ĐẦU KỲ | G7: =T7.22!G42 -> 39804149
A8: 01/08 | B8: Phí QLTK | F8: 2200 | G8: =G7+E8-F8 -> 39801949 | H8: Chi khác
A9: 02/08 | B9: Nhóm Gà A20 U/h | C9: x | E9: 1245000 | G9: =G8+E9-F9 -> 41046949 | H9: CMKTX
A10: 04/08 | B10: Chị Pham Huyen U/h | C10: x | E10: 750000 | G10: =G9+E10-F10 -> 41796949 | H10: CMKTX
A11: 04/08 | B11: Bin10 U/h | D11: x | E11: 300000 | G11: =G10+E11-F11 -> 42096949 | H11: CMTX
A12: 04/08 | B12: Tiền phúng viếng bố chị Ngoan (lead nồi cháo) | F12: 1400000 | G12: =G11+E12-F12 -> 40696949 | H12: Chi khác
A13: 06/08 | B13: Anh Từ Thắng U/h | H13: Hiện vật | I13: 50
A14: 07/08 | B14: Tran Nhu Hang U/h | C14: x | E14: 500000 | G14: =G12+E14-F14 -> 41196949 | H14: CMKTX
A15: 08/08 | B15: Phật tử am Phổ Minh U/h | C15: x | E15: 1050000 | G15: =G14+E15-F15 -> 42246949 | H15: CMKTX
A16: 09/08 | B16: VNM20UH0X U/h | C16: x | E16: 2000000 | G16: =G15+E16-F16 -> 44246949 | H16: CMKTX
A17: 11/08 | B17: Đổi ga | F17: 800000 | G17: =G16+E17-F17 -> 43446949 | H17: Gas
A18: 12/08 | B18: Thino U/h | C18: x | E18: 200000 | G18: =G17+E18-F18 -> 43646949 | H18: CMKTX
A19: 14/08 | B19: Gia đình ông Vũ Năng Thể (chị Ngoan) và các MTQ U/h | C19: x | E19: 2800000 | G19: =G18+E19-F19 -> 46446949 | H19: CMKTX
A20: 14/08 | B20: Người nhà BN U/h | H20: Hiện vật | I20: 10
A21: 16/08 | B21: Bin10 U/h | D21: x | E21: 400000 | G21: =G19+E21-F21 -> 46846949 | H21: CMTX
A22: 17/08 | B22: Em Thinh U/h | C22: x | E22: 300000 | G22: =G21+E22-F22 -> 47146949 | H22: CMKTX
A23: 17/08 | B23: Gia dinh chau Minh Thao Manh Hung U/h | C23: x | E23: 1000000 | G23: =G22+E23-F23 -> 48146949 | H23: CMKTX
A24: 21/08 | B24: Chi Ngoc U/h | C24: x | E24: 500000 | G24: =G23+E24-F24 -> 48646949 | H24: CMKTX
A25: 25/08 | B25: Lãi | E25: 3695 | G25: =G24+E25-F25 -> 48650644 | H25: Lãi
A26: 26/08 | B26: Bich Tra U/h | C26: x | E26: 1000000 | G26: =G25+E26-F26 -> 49650644 | H26: CMKTX
A27: 28/08 | B27: GD ba Hung Long(4tr), phat tu am Pho Minh (300k) U/h | C27: x | E27: 4300000 | G27: =G26+E27-F27 -> 53950644 | H27: CMKTX
A28: 29/08 | B28: Lãi tiền gửi | E28: 2991781 | G28: =G27+E28-F28 -> 56942425 | H28: Lãi
A29: 29/08 | B29: Mua thịt | F29: 2880000 | G29: =G28+E29-F29 -> 54062425 | H29: Thịt, rau
A30: 29/08 | B30: Mua rau củ | F30: 900000 | G30: =G29+E30-F30 -> 53162425 | H30: Thịt, rau
A31: 29/08 | B31: NGUYEN THI DIEU HUYEN CMTX | D31: x | E31: 500000 | G31: =G30+E31-F31 -> 53662425 | H31: CMTX
A32: 29/08 | B32: Lien Hoa U/h | C32: x | E32: 500000 | G32: =G31+E32-F32 -> 54162425 | H32: CMKTX
B33: TỒN CUỐI KỲ | E33: =SUM(E8:E32) -> 20340476 | F33: =SUM(F8:F32) -> 5982200 | G33: =SUM(G7+E33-F33) -> 54162425 | I33: =SUM(I7:I32) -> 60 | J33: =SUM(J7:J32) -> 0 | K33: =SUM(K7:K32) -> 0 | L33: =SUM(L7:L32) -> 0 | M33: =SUM(M7:M32) -> 0 | N33: =SUM(N7:N32) -> 0

Sheet T9.22
A1: BÁO CÁO THU CHI QUỸ NỒI CHÁO HÀ NỘI
A2: THÁNG 09/2022
A4: NGÀY | B4: DIỄN GIẢI | C4: HÌNH THỨC CM | E4: ỦNG HỘ TIỀN | I4: ỦNG HỘ HIỆN VẬT
E5: THU | F5: CHI | G5: TỒN | H5: Khoản mục | I5: GẠO (Kg) | J5: Dầu ăn (Can) | K5: Gas (Bình) | L5: Bột canh (Thùng) | M5: Bí đỏ (Kg) | N5: Cà rốt (Kg) | O5: Mì tôm (Thùng) | P5: Nước rửa bát (Can)
C6: KTX | D6: TX
B7: TỒN ĐẦU KỲ | G7: =T8.22!G33 -> 54162425
A8: 01/09 | B8: Phí QLTK | F8: 2200 | G8: =G7+E8-F8 -> 54160225 | H8: Chi khác
A9: 11/09 | B9: Cô Thuận U/h | H9: Hiện vật | I9: 10
A10: 15/09 | B10: Gđ Hòa Minh U/h | H10: Hiện vật | I10: 100
A11: 18/09 | B11: Anh Hồng - Ba Vì U/h | C11: x | E11: 500000 | G11: =G8+E11-F11 -> 54660225 | H11: CMKTX
A12: 18/09 | B12: Chị Van Bich Hang U/h | H12: Hiện vật | K12: 2
A13: 25/09 | B13: Lãi | E13: 4569 | G13: =G11+E13-F13 -> 54664794 | H13: Lãi
A14: 25/09 | B14: Gđ chị Thu anh Bách U/h | H14: Hiện vật | I14: 100
A15: 26/09 | B15: Do Hai Yen U/h | C15: x | E15: 500000 | G15: =G13+E15-F15 -> 55164794 | H15: CMKTX
A16: 26/09 | B16: Ha U/h | C16: x | E16: 300000 | G16: =G15+E16-F16 -> 55464794 | H16: CMKTX
A17: 30/09 | B17: TT tiền cốc | F17: 840000 | G17: =G16+E17-F17 -> 54624794 | H17: Cốc
B18: TỒN CUỐI KỲ | E18: =SUM(E8:E17) -> 1304569 | F18: =SUM(F8:F17) -> 842200 | G18: =SUM(G7+E18-F18) -> 54624794 | I18: =SUM(I7:I17) -> 210 | J18: =SUM(J7:J17) -> 0 | K18: =SUM(K7:K17) -> 2 | L18: =SUM(L7:L17) -> 0 | M18: =SUM(M7:M17) -> 0 | N18: =SUM(N7:N17) -> 0 | O18: =SUM(O7:O17) -> 0

Sheet T10.22
A1: BÁO CÁO THU CHI QUỸ NỒI CHÁO HÀ NỘI
A2: THÁNG 10/2022
A4: NGÀY | B4: DIỄN GIẢI | C4: HÌNH THỨC CM | E4: ỦNG HỘ TIỀN | I4: ỦNG HỘ HIỆN VẬT
E5: THU | F5: CHI | G5: TỒN | H5: Khoản mục | I5: GẠO (Kg) | J5: Dầu ăn (Can) | K5: Gas (Bình) | L5: Bột canh (Thùng) | M5: Bí đỏ (Kg) | N5: Cà rốt (Kg) | O5: Mì tôm (Thùng) | P5: Nước rửa bát (Can)
C6: KTX | D6: TX
B7: TỒN ĐẦU KỲ | G7: =T9.22!G18 -> 54624794
A8: 01/10 | B8: Phí QLTK | F8: 2200 | G8: =G7+E8-F8 -> 54622594 | H8: Chi khác
A9: 02/10 | B9: TT tiền 2 bình ga | F9: 720000 | G9: =G8+E9-F9 -> 53902594 | H9: Gas
A10: 02/10 | B10: Bà Dung, bà Huệ thay mặt các con cháu và một số gia đình U/h | C10: x | E10: 2200000 | G10: =G9+E10-F10 -> 56102594 | H10: CMKTX
A11: 06/10 | B11: Le Thi Kim Lan bạn chị Ngọc Jade HN U/h | C11: x | E11: 500000 | G11: =G10+E11-F11 -> 56602594 | H11: CMKTX
A12: 09/10 | B12: Tập thể CBNV TCT Thăm dò Khai thác Dầu khí tại HN U/h | C12: x | E12: 6000000 | G12: =G11+E12-F12 -> 62602594 | H12: CMKTX
A13: 09/10 | B13: Cô Giang U/h | C13: x | E13: 500000 | G13: =G12+E13-F13 -> 63102594 | H13: CMKTX
A14: 11/10 | B14: Nguyen Mai Lan U/h | C14: x | E14: 300000 | G14: =G13+E14-F14 -> 63402594 | H14: CMKTX
A15: 15/10 | B15: Bin10 U/h | D15: x | E15: 300000 | G15: =G14+E15-F15 -> 63702594 | H15: CMTX
A16: 16/10 | B16: Minh Pham (1.005k), Thai Ha (500k); Loan (495k) U/h | C16: x | E16: 2000000 | G16: =G15+E16-F16 -> 65702594 | H16: CMKTX
A17: 25/10 | B17: Lãi | E17: 4972 | G17: =G16+E17-F17 -> 65707566 | H17: Lãi
A18: 27/10 | B18: Quỹ Chia sẻ Mỹ Đình Pearl U/h | C18: x | E18: 5000000 | G18: =G17+E18-F18 -> 70707566 | H18: CMKTX
A19: 28/10 | B19: Lãi tiền gửi | E19: 635178 | G19: =G18+E19-F19 -> 71342744 | H19: Lãi
A20: 30/10 | B20: TT tiền rau củ | F20: 2400000 | G20: =G19+E20-F20 -> 68942744 | H20: Thịt, rau
A21: 30/10 | B21: TT tiền thịt | F21: 5760000 | G21: =G20+E21-F21 -> 63182744 | H21: Thịt, rau
A22: 30/10 | B22: Anh Trịnh Văn Quang, phụ huynh Khánh Hà lớp 12A1, trường Vinschool U/h | H22: Hiện vật | K22: 2
A23: 31/10 | B23: Người nhà BN U/h | C23: x | E23: 200000 | G23: =G21+E23-F23 -> 63382744 | H23: CMKTX
A24: 31/10 | B24: C Tép chuyển trả quỹ tiền mua cốc thừa | E24: 100000 | G24: =G23+E24-F24 -> 63482744 | H24: Cốc
B25: TỒN CUỐI KỲ | E25: =SUM(E8:E24) -> 17740150 | F25: =SUM(F8:F24) -> 8882200 | G25: =SUM(G7+E25-F25) -> 63482744 | I25: =SUM(I7:I24) -> 0 | J25: =SUM(J7:J24) -> 0 | K25: =SUM(K7:K24) -> 2 | L25: =SUM(L7:L24) -> 0 | M25: =SUM(M7:M24) -> 0 | N25: =SUM(N7:N24) -> 0 | O25: =SUM(O7:O24) -> 0 | P25: =SUM(P7:P24) -> 0
B27: Note: Đại đức Thích Thanh Huy - Trụ trì chùa Phụng Lộc ủng hộ mì tôm và trứng gà cho mọi người ăn trưa ở mỗi buổi nấu

Sheet T11.22
A1: BÁO CÁO THU CHI QUỸ NỒI CHÁO HÀ NỘI
A2: THÁNG 11/2022
A4: NGÀY | B4: DIỄN GIẢI | C4: HÌNH THỨC CM | E4: ỦNG HỘ TIỀN | I4: ỦNG HỘ HIỆN VẬT
E5: THU | F5: CHI | G5: TỒN | H5: Khoản mục | I5: GẠO (Kg) | J5: Dầu ăn (Can) | K5: Bột canh (Thùng) | L5: Bí đỏ (Kg) | M5: Cà rốt (Kg) | N5: Mì tôm (Thùng) | O5: Nước rửa bát (Can)
C6: KTX | D6: TX
B7: TỒN ĐẦU KỲ | G7: =T10.22!G25 -> 63482744
G8: =G7+E8-F8 -> 63482744
G9: =G8+E9-F9 -> 63482744
G10: =G9+E10-F10 -> 63482744
B11: TỒN CUỐI KỲ | E11: =SUM(E8:E10) -> 0 | F11: =SUM(F8:F10) -> 0 | G11: =SUM(G7+E11-F11) -> 63482744 | I11: =SUM(I7:I10) -> 0 | J11: =SUM(J7:J10) -> 0 | K11: =SUM(K7:K10) -> 0 | L11: =SUM(L7:L10) -> 0 | M11: =SUM(M7:M10) -> 0 | N11: =SUM(N7:N10) -> 0
B13: Note: Đại đức Thích Thanh Huy - Trụ trì chùa Phụng Lộc ủng hộ mì tôm và trứng gà cho mọi người ăn trưa ở mỗi buổi nấu

Sheet T12.22
A1: BÁO CÁO THU CHI QUỸ NỒI CHÁO HÀ NỘI
A2: THÁNG 12/2022
A4: NGÀY | B4: DIỄN GIẢI | C4: HÌNH THỨC CM | E4: ỦNG HỘ TIỀN | I4: ỦNG HỘ HIỆN VẬT
E5: THU | F5: CHI | G5: TỒN | H5: Khoản mục | I5: GẠO (Kg) | J5: Dầu ăn (Can) | K5: Bột canh (Thùng) | L5: Bí đỏ (Kg) | M5: Cà rốt (Kg) | N5: Mì tôm (Thùng) | O5: Nước rửa bát (Can)
C6: KTX | D6: TX
B7: TỒN ĐẦU KỲ | G7: =T11.22!G11 -> 63482744
G8: =G7+E8-F8 -> 63482744
G9: =G8+E9-F9 -> 63482744
G10: =G9+E10-F10 -> 63482744
G11: =G10+E11-F11 -> 63482744
B12: TỒN CUỐI KỲ | E12: =SUM(E8:E11) -> 0 | F12: =SUM(F8:F11) -> 0 | G12: =SUM(G7+E12-F12) -> 63482744 | I12: =SUM(I7:I11) -> 0 | J12: =SUM(J7:J11) -> 0 | K12: =SUM(K7:K11) -> 0 | L12: =SUM(L7:L11) -> 0 | M12: =SUM(M7:M11) -> 0 | N12: =SUM(N7:N11) -> 0
B14: Note: Đại đức Thích Thanh Huy - Trụ trì chùa Phụng Lộc ủng hộ mì tôm và trứng gà cho mọi người ăn trưa ở mỗi buổi nấu

Sheet Tổng tài khoản
A1: TỔNG HỢP SỐ DƯ TÀI KHOẢN CỦA NỒI CHÁO HN
A2: Tại ngày 31/10/2022
A4: Số tài khoản | B4: Ngày gửi | C4: Diễn giải | D4: Số dư | E4: Ghi chú
A5: 0021008669998 | C5: Tài khoản thu chi | D5: =T12.22!G12 -> 63482744
A6: 0025000972908 | B6: 27/02/2019 | C6: Tài khoản tiền gửi tiết kiệm | D6: 150000000 | E6: Trả lãi định kỳ 3 tháng 1 lần vào TK thu chi.
A7: 0001020652382 | B7: 28/04/2021 | C7: Tài khoản tiền gửi tiết kiệm | D7: 70000000 | E7: Trả lãi định kỳ 3 tháng 1 lần vào TK thu chi.
A8: TỔNG CỘNG | D8: =SUM(D5:D7) -> 283482744

Sheet Tổng thu - chi
A1: TỔNG HỢP THU CHI QUỸ NỒI CHÁO NĂM 2022
A2: THÁNG | B2: Số suất cháo | C2: THU | G2: CHI | O2: TỒN CUỐI KỲ
C3: CMTX | D3: CMKTX | E3: Tiền lãi | F3: TỔNG THU | G3: Gửi tiết kiệm | H3: Thịt, Rau | I3: Gạo | J3: GAS | K3: Dầu ăn, gia vị | L3: Giấy, Cốc | M3: Chi khác | N3: TỔNG CHI
A4: DƯ ĐẦU KỲ | O4: 37708163
A5: Tháng 1 | C5: 500000 | D5: 3000000 | E5: 355601 | F5: =SUM(C5:E5) -> 3855601 | M5: 2200 | N5: =SUM(G5:M5) -> 2200 | O5: =O4+F5-N5 -> 41561564
A6: Tháng 2 | C6: 500000 | D6: 3200000 | E6: 3044663 | F6: =SUM(C6:E6) -> 6744663 | M6: 2200 | N6: =SUM(G6:M6) -> 2200 | O6: =O5+F6-N6 -> 48304027
A7: Tháng 3 | C7: 500000 | E7: 3686 | F7: =SUM(C7:E7) -> 503686 | M7: 2200 | N7: =SUM(G7:M7) -> 2200 | O7: =O6+F7-N7 -> 48805513
A8: Tháng 4 | C8: 500000 | D8: 3000000 | E8: 349386 | F8: =SUM(C8:E8) -> 3849386 | G8: 30000000 | M8: 2200 | N8: =SUM(G8:M8) -> 30002200 | O8: =O7+F8-N8 -> 22652699
A9: Tháng 5 | C9: 500000 | D9: 500000 | E9: 2114 | F9: =SUM(C9:E9) -> 1002114 | M9: 2200 | N9: =SUM(G9:M9) -> 2200 | O9: =O8+F9-N9 -> 23652613
A10: Tháng 6 | C10: 500000 | D10: 5800000 | E10: 2106 | F10: =SUM(C10:E10) -> 6302106 | M10: 2200 | N10: =SUM(G10:M10) -> 2200 | O10: =O9+F10-N10 -> 29952519
A11: Tháng 7 | C11: 500000 | D11: 14500000 | E11: 613830 | F11: =SUM(C11:E11) -> 15613830 | H11: 4080000 | J11: 1680000 | M11: 2200 | N11: =SUM(G11:M11) -> 5762200 | O11: =O10+F11-N11 -> 39804149
A12: Tháng 8 | C12: 1200000 | D12: 16145000 | E12: 2995476 | F12: =SUM(C12:E12) -> 20340476 | H12: 3780000 | J12: 800000 | M12: 1402200 | N12: =SUM(G12:M12) -> 5982200 | O12: =O11+F12-N12 -> 54162425
A13: Tháng 9 | D13: 1300000 | E13: 4569 | F13: =SUM(C13:E13) -> 1304569 | L13: 840000 | M13: 2200 | N13: =SUM(G13:M13) -> 842200 | O13: =O12+F13-N13 -> 54624794
A14: Tháng 10 | C14: 300000 | D14: 16700000 | E14: 640150 | F14: =SUM(C14:E14) -> 17640150 | H14: 8160000 | J14: 720000 | L14: -100000 | M14: 2200 | N14: =SUM(G14:M14) -> 8782200 | O14: =O13+F14-N14 -> 63482744
A15: Tháng 11 | F15: =SUM(C15:E15) -> 0 | N15: =SUM(G15:M15) -> 0 | O15: =O14+F15-N15 -> 63482744
A16: Tháng 12 | F16: =SUM(C16:E16) -> 0 | N16: =SUM(G16:M16) -> 0 | O16: =O15+F16-N16 -> 63482744
A17: TỔNG | B17: =SUM(B5:B16) -> 0 | C17: =SUM(C5:C16) -> 5000000 | D17: =SUM(D5:D16) -> 64145000 | E17: =SUM(E5:E16) -> 8011581 | F17: =SUM(C17:E17) -> 77156581 | G17: =SUM(G5:G16) -> 30000000 | H17: =SUM(H5:H16) -> 16020000 | I17: =SUM(I5:I16) -> 0 | J17: =SUM(J5:J16) -> 3200000 | K17: =SUM(K5:K16) -> 0 | L17: =SUM(L5:L16) -> 740000 | M17: =SUM(M5:M16) -> 1422000 | N17: =SUM(G17:M17) -> 51382000 | O17: =O4+F17-N17 -> 63482744
A18: Trung bình tháng | F18: =ROUND(F17/12,0) -> 6429715 | G18: =ROUND(G17/12,0) -> 2500000 | I18: =ROUND(I17/12,0) -> 0 | J18: =ROUND(J17/12,0) -> 266667 | K18: =ROUND(K17/12,0) -> 0 | L18: =ROUND(L17/12,0) -> 61667 | M18: =ROUND(M17/12,0) -> 118500 | N18: =ROUND(N17/12,0) -> 4281833
A20: Tổng hợp: | B20: Chi phí trung bình 1 suất cháo 4 tháng đầu năm 2021 | F20: =ROUND((N17-10000000)/B17,0) -> #DIV/0!

Sheet Tổng hiện vật
A1: TỔNG HỢP SL HIỆN VẬT ĐƯỢC U/H NĂM 2022
A2: THÁNG | B2: GẠO (Kg) | C2: Dầu ăn (Can) | D2: Gas (Bình) | E2: Bột canh (Gói) | F2: Bí đỏ (Kg) | G2: Cà rốt (Kg) | H2: Mì tôm (Thùng) | I2: Nước rửa bát (Can) | J2: Giấy ăn (Bịch) | K2: Cốc đựng cháo (chiếc) | L2: Găng tay (Hộp) | M2: Khác
A3: Tháng 1
A4: Tháng 2
A5: Tháng 3
A6: Tháng 4
A7: Tháng 5
A8: Tháng 6
A9: Tháng 7
A10: Tháng 8
A11: Tháng 9
A12: Tháng 10
A13: Tháng 11
A14: Tháng 12
... A16: Tháng 6
A17: Tháng 7 | B17: 60 | C17: 3 | E17: 50 | H17: 6 | J17: 6 | K17: 2000 | L17: 2 | M17: 02 bộ bếp ga, cụm ống van mới 4 tạp dề 5 dây buộc nồi 2 hộp khẩu trang 3 đôi nhấc nồi 1 túi trứng gà
A18: Tháng 8 | B18: 60
A19: Tháng 9 | B19: 210 | D19: 2
A20: Tháng 10 | D20: 2
A21: Tháng 11
A22: Tháng 12
A23: TỔNG | B23: =SUM(B3:B22) -> 330 | C23: =SUM(C3:C22) -> 3 | D23: =SUM(D3:D22) -> 4 | E23: =SUM(E3:E22) -> 50 | F23: =SUM(F3:F22) -> 0 | G23: =SUM(G3:G22) -> 0 | H23: =SUM(H3:H22) -> 6 | I23: =SUM(I3:I22) -> 0 | ... L23: =SUM(L3:L22) -> 2
A25: Note: Đại đức Thích Thanh Huy - Trụ trì chùa Phụng Lộc ủng hộ mì tôm và trứng gà cho mọi người ăn trưa ở mỗi buổi nấu

Sheet TGTK 70tr(28.04.2021)
A1: TRÍCH QUỸ NỒI CHÁO GỬI TIẾT KIỆM
A3: Số tài khoản | B3: 0001020652382
A5: Ngày giao dịch | B5: Số tiền ghi nợ | C5: Số tiền ghi có | D5: Số dư | E5: Nội dung
A6: 28/04/2021 | C6: 40000000 | D6: =C6 -> 40000000 | E6: Trả lãi định kỳ 3 tháng 1 lần vào TK thu chi. Bắt đầu trả lãi từ 28/04/2022
A7: 28/04/2022 | C7: 30000000 | D7: =D6+C7 -> 70000000
A8: Tổng số | C8: =SUM(C6:C7) -> 70000000
A9: Số dư cuối kỳ | D9: =C8-B8 -> 70000000

Sheet TGTK 150tr(27.02.2019)
A1: TRÍCH QUỸ NỒI CHÁO GỬI TIẾT KIỆM
A3: Số tài khoản | B3: 0025000972908
A5: Ngày giao dịch | B5: Số tiền ghi nợ | C5: Số tiền ghi có | D5: Số dư | E5: Nội dung
A6: 27/02/2019 | C6: 150000000 | D6: 150000000 | E6: Trả lãi định kỳ 6 tháng 1 lần vào TK thu chi. Bắt đầu trả lãi từ 27/02/2020
A9: Tổng số | C9: =C6 -> 150000000
A11: Số dư cuối kỳ | D11: =D6 -> 150000000

Sheet TGTK 40tr(11.03.2019)
A1: TRÍCH QUỸ NỒI CHÁO GỬI TIẾT KIỆM
A3: Số tài khoản | B3: 0025000974112
A5: Ngày giao dịch | B5: Số tiền ghi nợ | C5: Số tiền ghi có | D5: Số dư | E5: Nội dung
A6: 43353 | C6: 40000000 | D6: =C6 -> 40000000 | E6: Trả lãi định kỳ 3 tháng 1 lần vào TK thu chi. Bắt đầu trả lãi từ 11/03/2020
A8: Tổng số | C8: =SUM(C6:C7) -> 40000000 | D8: =SUM(D6:D7) -> 40000000
A9: Số dư cuối kỳ | D9: =D8 -> 40000000 | E9: Tất toán ngày 02/01/2021
